BEGIN:VCALENDAR
VERSION:2.0
PRODID:-//Blackduck Chamber of Commerce - ECPv6.15.18//NONSGML v1.0//EN
CALSCALE:GREGORIAN
METHOD:PUBLISH
X-WR-CALNAME:Blackduck Chamber of Commerce
X-ORIGINAL-URL:https://blackduckchamber.com
X-WR-CALDESC:Events for Blackduck Chamber of Commerce
REFRESH-INTERVAL;VALUE=DURATION:PT1H
X-Robots-Tag:noindex
X-PUBLISHED-TTL:PT1H
BEGIN:VTIMEZONE
TZID:America/Chicago
BEGIN:DAYLIGHT
TZOFFSETFROM:-0600
TZOFFSETTO:-0500
TZNAME:CDT
DTSTART:20240310T080000
END:DAYLIGHT
BEGIN:STANDARD
TZOFFSETFROM:-0500
TZOFFSETTO:-0600
TZNAME:CST
DTSTART:20241103T070000
END:STANDARD
BEGIN:DAYLIGHT
TZOFFSETFROM:-0600
TZOFFSETTO:-0500
TZNAME:CDT
DTSTART:20250309T080000
END:DAYLIGHT
BEGIN:STANDARD
TZOFFSETFROM:-0500
TZOFFSETTO:-0600
TZNAME:CST
DTSTART:20251102T070000
END:STANDARD
BEGIN:DAYLIGHT
TZOFFSETFROM:-0600
TZOFFSETTO:-0500
TZNAME:CDT
DTSTART:20260308T080000
END:DAYLIGHT
BEGIN:STANDARD
TZOFFSETFROM:-0500
TZOFFSETTO:-0600
TZNAME:CST
DTSTART:20261101T070000
END:STANDARD
END:VTIMEZONE
BEGIN:VEVENT
DTSTART;TZID=America/Chicago:20250423T130000
DTEND;TZID=America/Chicago:20250423T150000
DTSTAMP:20260420T014342
CREATED:20250416T222353Z
LAST-MODIFIED:20250416T222410Z
UID:1296-1745413200-1745420400@blackduckchamber.com
SUMMARY:Senior Center Cards
DESCRIPTION:Everyone Welcome
URL:https://blackduckchamber.com/event/senior-center-cards-52/
ATTACH;FMTTYPE=image/jpeg:https://blackduckchamber.com/wp-content/uploads/2023/09/download-1.jpg
END:VEVENT
BEGIN:VEVENT
DTSTART;TZID=America/Chicago:20250416T160000
DTEND;TZID=America/Chicago:20250416T180000
DTSTAMP:20260420T014342
CREATED:20250408T135033Z
LAST-MODIFIED:20250408T135252Z
UID:1274-1744819200-1744826400@blackduckchamber.com
SUMMARY:Spring Wellness Welcome
DESCRIPTION:Information & Demonstrations on services provided by Choice Therapy \n$200 Timberline Gift Card Giveaway at 5:30 PM \nAppetizers & Drinks \nWednesday\, April 16th \n4-6 PM \n50 Margaret Ave Blackduck\, Mn
URL:https://blackduckchamber.com/event/spring-wellness-welcome/
ATTACH;FMTTYPE=image/png:https://blackduckchamber.com/wp-content/uploads/2025/04/BD-Open-House-5.png
END:VEVENT
BEGIN:VEVENT
DTSTART;TZID=America/Chicago:20250403T130000
DTEND;TZID=America/Chicago:20250403T150000
DTSTAMP:20260420T014342
CREATED:20250306T221324Z
LAST-MODIFIED:20250306T221324Z
UID:1245-1743685200-1743692400@blackduckchamber.com
SUMMARY:Senior Center Bingo
DESCRIPTION:Everyone Welcome
URL:https://blackduckchamber.com/event/senior-center-bingo-51/
CATEGORIES:Blackduck Senior Center
ATTACH;FMTTYPE=image/jpeg:https://blackduckchamber.com/wp-content/uploads/2023/09/images.jpg
END:VEVENT
BEGIN:VEVENT
DTSTART;TZID=America/Chicago:20250402T130000
DTEND;TZID=America/Chicago:20250402T150000
DTSTAMP:20260420T014342
CREATED:20250306T221846Z
LAST-MODIFIED:20250306T221846Z
UID:1256-1743598800-1743606000@blackduckchamber.com
SUMMARY:Senior Center Cards
DESCRIPTION:Everyone Welcome
URL:https://blackduckchamber.com/event/senior-center-cards-51/
CATEGORIES:Blackduck Senior Center
ATTACH;FMTTYPE=image/jpeg:https://blackduckchamber.com/wp-content/uploads/2023/09/download-1.jpg
END:VEVENT
BEGIN:VEVENT
DTSTART;TZID=America/Chicago:20250327T130000
DTEND;TZID=America/Chicago:20250327T150000
DTSTAMP:20260420T014342
CREATED:20250306T221211Z
LAST-MODIFIED:20250306T221211Z
UID:1243-1743080400-1743087600@blackduckchamber.com
SUMMARY:Senior Center Bingo
DESCRIPTION:Everyone Welcome
URL:https://blackduckchamber.com/event/senior-center-bingo-50/
CATEGORIES:Blackduck Senior Center
ATTACH;FMTTYPE=image/jpeg:https://blackduckchamber.com/wp-content/uploads/2023/09/images.jpg
END:VEVENT
BEGIN:VEVENT
DTSTART;TZID=America/Chicago:20250326T130000
DTEND;TZID=America/Chicago:20250326T150000
DTSTAMP:20260420T014342
CREATED:20250306T221626Z
LAST-MODIFIED:20250306T222150Z
UID:1251-1742994000-1743001200@blackduckchamber.com
SUMMARY:Senior Center Cards
DESCRIPTION:Everyone Welcome
URL:https://blackduckchamber.com/event/senior-center-bingo-53/
CATEGORIES:Blackduck Senior Center
ATTACH;FMTTYPE=image/jpeg:https://blackduckchamber.com/wp-content/uploads/2023/09/download-1.jpg
END:VEVENT
BEGIN:VEVENT
DTSTART;TZID=America/Chicago:20250323T130000
DTEND;TZID=America/Chicago:20250323T170000
DTSTAMP:20260420T014342
CREATED:20250219T181102Z
LAST-MODIFIED:20250306T220840Z
UID:1224-1742734800-1742749200@blackduckchamber.com
SUMMARY:Chamber Bingo
DESCRIPTION:
URL:https://blackduckchamber.com/event/chamber-bingo-6/
CATEGORIES:The Pond
ATTACH;FMTTYPE=image/png:https://blackduckchamber.com/wp-content/uploads/2025/02/Red-Modern-Bingo-Night-Instagram-Post.png
END:VEVENT
BEGIN:VEVENT
DTSTART;TZID=America/Chicago:20250320T130000
DTEND;TZID=America/Chicago:20250320T150000
DTSTAMP:20260420T014342
CREATED:20250306T221127Z
LAST-MODIFIED:20250306T221127Z
UID:1241-1742475600-1742482800@blackduckchamber.com
SUMMARY:Senior Center Bingo
DESCRIPTION:Everyone Welcome
URL:https://blackduckchamber.com/event/senior-center-bingo-49/
CATEGORIES:Blackduck Senior Center
ATTACH;FMTTYPE=image/jpeg:https://blackduckchamber.com/wp-content/uploads/2023/09/images.jpg
END:VEVENT
BEGIN:VEVENT
DTSTART;TZID=America/Chicago:20250319T130000
DTEND;TZID=America/Chicago:20250319T150000
DTSTAMP:20260420T014342
CREATED:20250306T221712Z
LAST-MODIFIED:20250306T221917Z
UID:1254-1742389200-1742396400@blackduckchamber.com
SUMMARY:Senior Center Cards
DESCRIPTION:Everyone Welcome
URL:https://blackduckchamber.com/event/senior-center-bingo-54/
CATEGORIES:Blackduck Senior Center
ATTACH;FMTTYPE=image/jpeg:https://blackduckchamber.com/wp-content/uploads/2023/09/download-1.jpg
END:VEVENT
BEGIN:VEVENT
DTSTART;TZID=America/Chicago:20250313T130000
DTEND;TZID=America/Chicago:20250313T150000
DTSTAMP:20260420T014342
CREATED:20250306T221046Z
LAST-MODIFIED:20250306T221046Z
UID:1239-1741870800-1741878000@blackduckchamber.com
SUMMARY:Senior Center Bingo
DESCRIPTION:Everyone welcome
URL:https://blackduckchamber.com/event/senior-center-bingo-48/
CATEGORIES:Blackduck Senior Center
ATTACH;FMTTYPE=image/jpeg:https://blackduckchamber.com/wp-content/uploads/2023/09/images.jpg
END:VEVENT
BEGIN:VEVENT
DTSTART;TZID=America/Chicago:20250312T130000
DTEND;TZID=America/Chicago:20250312T150000
DTSTAMP:20260420T014342
CREATED:20250306T221405Z
LAST-MODIFIED:20250306T221405Z
UID:1247-1741784400-1741791600@blackduckchamber.com
SUMMARY:Senior Center Cards
DESCRIPTION:Everyone Welcome
URL:https://blackduckchamber.com/event/senior-center-cards-50/
CATEGORIES:Blackduck Senior Center
ATTACH;FMTTYPE=image/jpeg:https://blackduckchamber.com/wp-content/uploads/2023/09/download-1.jpg
END:VEVENT
BEGIN:VEVENT
DTSTART;TZID=America/Chicago:20250302T110000
DTEND;TZID=America/Chicago:20250302T130000
DTSTAMP:20260420T014342
CREATED:20250218T165912Z
LAST-MODIFIED:20250218T165912Z
UID:1216-1740913200-1740920400@blackduckchamber.com
SUMMARY:10th Annual Holy Trinity Church Meatball Dinner
DESCRIPTION:Location: Holy Trinity Church 1st & Margaret Ave. Blackduck\, MN\nDate/Time: Sunday\, March 2\, 2025 11am – 1pm\nSuggested Donation: $15 for adults or $8 kids ages 6-12 years of age.
URL:https://blackduckchamber.com/event/10th-annual-holy-trinity-church-meatball-dinner/
LOCATION:Blackduck\, MN 56630\, 125 1st St NW\, Blackduck\, 56630\, United States
ATTACH;FMTTYPE=image/jpeg:https://blackduckchamber.com/wp-content/uploads/2025/02/Meatball-Fundraiser-2025.jpg
END:VEVENT
BEGIN:VEVENT
DTSTART;TZID=America/Chicago:20250227T130000
DTEND;TZID=America/Chicago:20250227T150000
DTSTAMP:20260420T014342
CREATED:20250202T193051Z
LAST-MODIFIED:20250202T193051Z
UID:1204-1740661200-1740668400@blackduckchamber.com
SUMMARY:Senior Center Bingo
DESCRIPTION:Every Thursday \nEveryone Welcome
URL:https://blackduckchamber.com/event/senior-center-bingo-47/
CATEGORIES:Blackduck Senior Center
ATTACH;FMTTYPE=image/jpeg:https://blackduckchamber.com/wp-content/uploads/2023/09/images.jpg
END:VEVENT
BEGIN:VEVENT
DTSTART;TZID=America/Chicago:20250226T130000
DTEND;TZID=America/Chicago:20250226T150000
DTSTAMP:20260420T014342
CREATED:20250202T192603Z
LAST-MODIFIED:20250202T192603Z
UID:1196-1740574800-1740582000@blackduckchamber.com
SUMMARY:Senior Center Cards
DESCRIPTION:Every Wednesday \nEveryone Welcome
URL:https://blackduckchamber.com/event/senior-center-cards-49/
CATEGORIES:Blackduck Senior Center
ATTACH;FMTTYPE=image/jpeg:https://blackduckchamber.com/wp-content/uploads/2023/09/download-1.jpg
END:VEVENT
BEGIN:VEVENT
DTSTART;TZID=America/Chicago:20250223T130000
DTEND;TZID=America/Chicago:20250223T170000
DTSTAMP:20260420T014342
CREATED:20250206T203927Z
LAST-MODIFIED:20250206T203927Z
UID:1212-1740315600-1740330000@blackduckchamber.com
SUMMARY:Chamber Bingo
DESCRIPTION:
URL:https://blackduckchamber.com/event/chamber-bingo-5/
CATEGORIES:The Pond
ATTACH;FMTTYPE=application/pdf:https://blackduckchamber.com/wp-content/uploads/2025/02/Chamber-BINGO.pdf
END:VEVENT
BEGIN:VEVENT
DTSTART;TZID=America/Chicago:20250220T130000
DTEND;TZID=America/Chicago:20250220T150000
DTSTAMP:20260420T014342
CREATED:20250202T192942Z
LAST-MODIFIED:20250202T192942Z
UID:1202-1740056400-1740063600@blackduckchamber.com
SUMMARY:Senior Center Bingo
DESCRIPTION:Every Thursday \nEveryone Welcome
URL:https://blackduckchamber.com/event/senior-center-bingo-46/
CATEGORIES:Blackduck Senior Center
ATTACH;FMTTYPE=image/jpeg:https://blackduckchamber.com/wp-content/uploads/2023/09/images.jpg
END:VEVENT
BEGIN:VEVENT
DTSTART;TZID=America/Chicago:20250219T130000
DTEND;TZID=America/Chicago:20250219T150000
DTSTAMP:20260420T014342
CREATED:20250202T192403Z
LAST-MODIFIED:20250202T192428Z
UID:1194-1739970000-1739977200@blackduckchamber.com
SUMMARY:Senior Center Cards
DESCRIPTION:Every Wednesday \nEveryone Welcome
URL:https://blackduckchamber.com/event/senior-center-cards-48/
CATEGORIES:Blackduck Senior Center
ATTACH;FMTTYPE=image/jpeg:https://blackduckchamber.com/wp-content/uploads/2023/09/download-1.jpg
END:VEVENT
BEGIN:VEVENT
DTSTART;TZID=America/Chicago:20250215T140000
DTEND;TZID=America/Chicago:20250215T160000
DTSTAMP:20260420T014342
CREATED:20250203T181846Z
LAST-MODIFIED:20250203T181859Z
UID:1207-1739628000-1739635200@blackduckchamber.com
SUMMARY:Sarah and Scott Kelly Music
DESCRIPTION:SARAH & SCOTT KELLY \nTHEY ARE RETURNING WITH GREAT MUSIC! \nPotluck Meal to follow music.  Join us for a\nrelaxing afternoon.  There will be a free will\ndonation for the music.\nEveryone Welcome!\n\n\nSaturday\, February 15th   2-4pm\n               Blackduck Senior Center\n                    24 First Street SE
URL:https://blackduckchamber.com/event/sarah-scott-kelly-music/
CATEGORIES:Blackduck Senior Center
ATTACH;FMTTYPE=image/jpeg:https://blackduckchamber.com/wp-content/uploads/2025/02/download.jpg
END:VEVENT
BEGIN:VEVENT
DTSTART;TZID=America/Chicago:20250213T130000
DTEND;TZID=America/Chicago:20250213T150000
DTSTAMP:20260420T014342
CREATED:20250202T192835Z
LAST-MODIFIED:20250202T192835Z
UID:1200-1739451600-1739458800@blackduckchamber.com
SUMMARY:Senior Center Bingo
DESCRIPTION:Every Thursday \nEveryone Welcome
URL:https://blackduckchamber.com/event/senior-center-bingo-45/
CATEGORIES:Blackduck Senior Center
ATTACH;FMTTYPE=image/jpeg:https://blackduckchamber.com/wp-content/uploads/2023/09/images.jpg
END:VEVENT
BEGIN:VEVENT
DTSTART;TZID=America/Chicago:20250212T130000
DTEND;TZID=America/Chicago:20250212T150000
DTSTAMP:20260420T014342
CREATED:20250202T192309Z
LAST-MODIFIED:20250202T192309Z
UID:1192-1739365200-1739372400@blackduckchamber.com
SUMMARY:Senior Center Cards
DESCRIPTION:Every Wednesday \nEveryone Welcome
URL:https://blackduckchamber.com/event/senior-center-cards-47/
CATEGORIES:Blackduck Senior Center
ATTACH;FMTTYPE=image/jpeg:https://blackduckchamber.com/wp-content/uploads/2023/09/download-1.jpg
END:VEVENT
BEGIN:VEVENT
DTSTART;TZID=America/Chicago:20250206T130000
DTEND;TZID=America/Chicago:20250206T150000
DTSTAMP:20260420T014342
CREATED:20250202T192720Z
LAST-MODIFIED:20250202T192720Z
UID:1198-1738846800-1738854000@blackduckchamber.com
SUMMARY:Senior Center Bingo
DESCRIPTION:Every Thursday \nEveryone Welcome
URL:https://blackduckchamber.com/event/senior-center-bingo-44/
CATEGORIES:Blackduck Senior Center
ATTACH;FMTTYPE=image/jpeg:https://blackduckchamber.com/wp-content/uploads/2023/09/images.jpg
END:VEVENT
BEGIN:VEVENT
DTSTART;TZID=America/Chicago:20250205T130000
DTEND;TZID=America/Chicago:20250205T150000
DTSTAMP:20260420T014342
CREATED:20250202T192217Z
LAST-MODIFIED:20250202T192217Z
UID:1189-1738760400-1738767600@blackduckchamber.com
SUMMARY:Senior Center Cards
DESCRIPTION:Every Wednesday \nEveryone Welcome
URL:https://blackduckchamber.com/event/senior-center-cards-46/
CATEGORIES:Blackduck Senior Center
ATTACH;FMTTYPE=image/jpeg:https://blackduckchamber.com/wp-content/uploads/2023/09/download-1.jpg
END:VEVENT
BEGIN:VEVENT
DTSTART;TZID=America/Chicago:20250130T130000
DTEND;TZID=America/Chicago:20250130T150000
DTSTAMP:20260420T014342
CREATED:20241219T161359Z
LAST-MODIFIED:20241219T161359Z
UID:1182-1738242000-1738249200@blackduckchamber.com
SUMMARY:Senior Center Bingo
DESCRIPTION:
URL:https://blackduckchamber.com/event/senior-center-bingo-43/
CATEGORIES:Blackduck Senior Center
ATTACH;FMTTYPE=image/jpeg:https://blackduckchamber.com/wp-content/uploads/2023/09/images.jpg
END:VEVENT
BEGIN:VEVENT
DTSTART;TZID=America/Chicago:20250129T130000
DTEND;TZID=America/Chicago:20250129T150000
DTSTAMP:20260420T014342
CREATED:20241219T160923Z
LAST-MODIFIED:20241219T160923Z
UID:1168-1738155600-1738162800@blackduckchamber.com
SUMMARY:Senior Center Cards
DESCRIPTION:
URL:https://blackduckchamber.com/event/senior-center-cards-45/
CATEGORIES:Blackduck Senior Center
ATTACH;FMTTYPE=image/jpeg:https://blackduckchamber.com/wp-content/uploads/2023/09/download-1.jpg
END:VEVENT
BEGIN:VEVENT
DTSTART;TZID=America/Chicago:20250123T130000
DTEND;TZID=America/Chicago:20250123T150000
DTSTAMP:20260420T014342
CREATED:20241219T161325Z
LAST-MODIFIED:20241219T161325Z
UID:1180-1737637200-1737644400@blackduckchamber.com
SUMMARY:Senior Center Bingo
DESCRIPTION:
URL:https://blackduckchamber.com/event/senior-center-bingo-42/
CATEGORIES:Blackduck Senior Center
ATTACH;FMTTYPE=image/jpeg:https://blackduckchamber.com/wp-content/uploads/2023/09/images.jpg
END:VEVENT
BEGIN:VEVENT
DTSTART;TZID=America/Chicago:20250122T130000
DTEND;TZID=America/Chicago:20250122T150000
DTSTAMP:20260420T014342
CREATED:20241219T160856Z
LAST-MODIFIED:20241219T160856Z
UID:1166-1737550800-1737558000@blackduckchamber.com
SUMMARY:Senior Center Cards
DESCRIPTION:
URL:https://blackduckchamber.com/event/senior-center-cards-44/
CATEGORIES:Blackduck Senior Center
ATTACH;FMTTYPE=image/jpeg:https://blackduckchamber.com/wp-content/uploads/2023/09/download-1.jpg
END:VEVENT
BEGIN:VEVENT
DTSTART;TZID=America/Chicago:20250116T130000
DTEND;TZID=America/Chicago:20250116T150000
DTSTAMP:20260420T014342
CREATED:20241219T161257Z
LAST-MODIFIED:20241219T161257Z
UID:1178-1737032400-1737039600@blackduckchamber.com
SUMMARY:Senior Center Bingo
DESCRIPTION:
URL:https://blackduckchamber.com/event/senior-center-bingo-41/
CATEGORIES:Blackduck Senior Center
ATTACH;FMTTYPE=image/jpeg:https://blackduckchamber.com/wp-content/uploads/2023/09/images.jpg
END:VEVENT
BEGIN:VEVENT
DTSTART;TZID=America/Chicago:20250115T130000
DTEND;TZID=America/Chicago:20250115T150000
DTSTAMP:20260420T014342
CREATED:20241219T160751Z
LAST-MODIFIED:20241219T160751Z
UID:1164-1736946000-1736953200@blackduckchamber.com
SUMMARY:Senior Center Cards
DESCRIPTION:
URL:https://blackduckchamber.com/event/senior-center-cards-43/
CATEGORIES:Blackduck Senior Center
ATTACH;FMTTYPE=image/jpeg:https://blackduckchamber.com/wp-content/uploads/2023/09/download-1.jpg
END:VEVENT
BEGIN:VEVENT
DTSTART;TZID=America/Chicago:20250109T130000
DTEND;TZID=America/Chicago:20250109T150000
DTSTAMP:20260420T014342
CREATED:20241219T161229Z
LAST-MODIFIED:20241219T161229Z
UID:1176-1736427600-1736434800@blackduckchamber.com
SUMMARY:Senior Center Bingo
DESCRIPTION:
URL:https://blackduckchamber.com/event/senior-center-bingo-40/
CATEGORIES:Blackduck Senior Center
ATTACH;FMTTYPE=image/jpeg:https://blackduckchamber.com/wp-content/uploads/2023/09/images.jpg
END:VEVENT
BEGIN:VEVENT
DTSTART;TZID=America/Chicago:20250108T130000
DTEND;TZID=America/Chicago:20250108T150000
DTSTAMP:20260420T014342
CREATED:20241219T160655Z
LAST-MODIFIED:20241219T160655Z
UID:1162-1736341200-1736348400@blackduckchamber.com
SUMMARY:Senior Center Cards
DESCRIPTION:
URL:https://blackduckchamber.com/event/senior-center-cards-42/
CATEGORIES:Blackduck Senior Center
ATTACH;FMTTYPE=image/jpeg:https://blackduckchamber.com/wp-content/uploads/2023/09/download-1.jpg
END:VEVENT
END:VCALENDAR