BEGIN:VCALENDAR
VERSION:2.0
PRODID:-//Blackduck Chamber of Commerce - ECPv6.15.18//NONSGML v1.0//EN
CALSCALE:GREGORIAN
METHOD:PUBLISH
X-WR-CALNAME:Blackduck Chamber of Commerce
X-ORIGINAL-URL:https://blackduckchamber.com
X-WR-CALDESC:Events for Blackduck Chamber of Commerce
REFRESH-INTERVAL;VALUE=DURATION:PT1H
X-Robots-Tag:noindex
X-PUBLISHED-TTL:PT1H
BEGIN:VTIMEZONE
TZID:America/Chicago
BEGIN:DAYLIGHT
TZOFFSETFROM:-0600
TZOFFSETTO:-0500
TZNAME:CDT
DTSTART:20250309T080000
END:DAYLIGHT
BEGIN:STANDARD
TZOFFSETFROM:-0500
TZOFFSETTO:-0600
TZNAME:CST
DTSTART:20251102T070000
END:STANDARD
BEGIN:DAYLIGHT
TZOFFSETFROM:-0600
TZOFFSETTO:-0500
TZNAME:CDT
DTSTART:20260308T080000
END:DAYLIGHT
BEGIN:STANDARD
TZOFFSETFROM:-0500
TZOFFSETTO:-0600
TZNAME:CST
DTSTART:20261101T070000
END:STANDARD
BEGIN:DAYLIGHT
TZOFFSETFROM:-0600
TZOFFSETTO:-0500
TZNAME:CDT
DTSTART:20270314T080000
END:DAYLIGHT
BEGIN:STANDARD
TZOFFSETFROM:-0500
TZOFFSETTO:-0600
TZNAME:CST
DTSTART:20271107T070000
END:STANDARD
END:VTIMEZONE
BEGIN:VEVENT
DTSTART;TZID=America/Chicago:20261118T150000
DTEND;TZID=America/Chicago:20261118T163000
DTSTAMP:20260419T223844
CREATED:20260121T191025Z
LAST-MODIFIED:20260121T191025Z
UID:1591-1795014000-1795019400@blackduckchamber.com
SUMMARY:Chamber Meeting
DESCRIPTION:Chamber Meeting at the Senior Center
URL:https://blackduckchamber.com/event/chamber-meeting-11/
LOCATION:Blackduck Senior Citizens Center\, 24 1st St SE\, Blackduck\, MN\, 56630\, United States
CATEGORIES:Blackduck Senior Center,Meeting
END:VEVENT
BEGIN:VEVENT
DTSTART;TZID=America/Chicago:20261207T180000
DTEND;TZID=America/Chicago:20261207T200000
DTSTAMP:20260419T223844
CREATED:20260317T131853Z
LAST-MODIFIED:20260317T131853Z
UID:1643-1796666400-1796673600@blackduckchamber.com
SUMMARY:Blackduck City Council Meeting
DESCRIPTION:Blackduck City Council Meeting \nWatch on YouTube \nhttps://www.youtube.com/@cityofblackduck1456/featured
URL:https://blackduckchamber.com/event/blackduck-city-council-meeting-10/
LOCATION:Blackduck City Hall\, 8 Summit Ave. East\, Blackduck\, MN\, 56630\, United States
CATEGORIES:Meeting
END:VEVENT
BEGIN:VEVENT
DTSTART;TZID=America/Chicago:20261216T150000
DTEND;TZID=America/Chicago:20261216T163000
DTSTAMP:20260419T223844
CREATED:20260121T192957Z
LAST-MODIFIED:20260121T192957Z
UID:1593-1797433200-1797438600@blackduckchamber.com
SUMMARY:Chamber Meeting
DESCRIPTION:Chamber Meeting at the Blackduck Area History and Art Center
URL:https://blackduckchamber.com/event/chamber-meeting-12/
LOCATION:Blackduck Area History and Art Center\, 133 Main St\, Blackduck\, MN\, 56630\, United States
CATEGORIES:Blackduck Area History and Art Center,Meeting
END:VEVENT
END:VCALENDAR