BEGIN:VCALENDAR
VERSION:2.0
PRODID:-//Blackduck Chamber of Commerce - ECPv6.15.18//NONSGML v1.0//EN
CALSCALE:GREGORIAN
METHOD:PUBLISH
X-WR-CALNAME:Blackduck Chamber of Commerce
X-ORIGINAL-URL:https://blackduckchamber.com
X-WR-CALDESC:Events for Blackduck Chamber of Commerce
REFRESH-INTERVAL;VALUE=DURATION:PT1H
X-Robots-Tag:noindex
X-PUBLISHED-TTL:PT1H
BEGIN:VTIMEZONE
TZID:America/Chicago
BEGIN:DAYLIGHT
TZOFFSETFROM:-0600
TZOFFSETTO:-0500
TZNAME:CDT
DTSTART:20240310T080000
END:DAYLIGHT
BEGIN:STANDARD
TZOFFSETFROM:-0500
TZOFFSETTO:-0600
TZNAME:CST
DTSTART:20241103T070000
END:STANDARD
BEGIN:DAYLIGHT
TZOFFSETFROM:-0600
TZOFFSETTO:-0500
TZNAME:CDT
DTSTART:20250309T080000
END:DAYLIGHT
BEGIN:STANDARD
TZOFFSETFROM:-0500
TZOFFSETTO:-0600
TZNAME:CST
DTSTART:20251102T070000
END:STANDARD
BEGIN:DAYLIGHT
TZOFFSETFROM:-0600
TZOFFSETTO:-0500
TZNAME:CDT
DTSTART:20260308T080000
END:DAYLIGHT
BEGIN:STANDARD
TZOFFSETFROM:-0500
TZOFFSETTO:-0600
TZNAME:CST
DTSTART:20261101T070000
END:STANDARD
END:VTIMEZONE
BEGIN:VEVENT
DTSTART;TZID=America/Chicago:20251203T130000
DTEND;TZID=America/Chicago:20251203T150000
DTSTAMP:20260419T211024
CREATED:20251107T162714Z
LAST-MODIFIED:20251107T162714Z
UID:1479-1764766800-1764774000@blackduckchamber.com
SUMMARY:Senior Center Cards
DESCRIPTION:Every Wednesday \nEveryone Welcome
URL:https://blackduckchamber.com/event/senior-center-cards-76/
LOCATION:MN
CATEGORIES:Blackduck Senior Center
ATTACH;FMTTYPE=image/jpeg:https://blackduckchamber.com/wp-content/uploads/2023/09/download-1.jpg
END:VEVENT
BEGIN:VEVENT
DTSTART;TZID=America/Chicago:20251127T130000
DTEND;TZID=America/Chicago:20251127T150000
DTSTAMP:20260419T211024
CREATED:20251107T161644Z
LAST-MODIFIED:20251107T161845Z
UID:1461-1764248400-1764255600@blackduckchamber.com
SUMMARY:Senior Center Bingo
DESCRIPTION:Every Thursday Everyone Welcome
URL:https://blackduckchamber.com/event/senior-center-bingo-67/
LOCATION:MN
CATEGORIES:Blackduck Senior Center
ATTACH;FMTTYPE=image/jpeg:https://blackduckchamber.com/wp-content/uploads/2023/09/images.jpg
END:VEVENT
BEGIN:VEVENT
DTSTART;TZID=America/Chicago:20251126T130000
DTEND;TZID=America/Chicago:20251126T150000
DTSTAMP:20260419T211024
CREATED:20251107T162620Z
LAST-MODIFIED:20251107T162620Z
UID:1477-1764162000-1764169200@blackduckchamber.com
SUMMARY:Senior Center Cards
DESCRIPTION:Every Wednesday \nEveryone Welcome
URL:https://blackduckchamber.com/event/senior-center-cards-75/
LOCATION:MN
CATEGORIES:Blackduck Senior Center
ATTACH;FMTTYPE=image/jpeg:https://blackduckchamber.com/wp-content/uploads/2023/09/download-1.jpg
END:VEVENT
BEGIN:VEVENT
DTSTART;TZID=America/Chicago:20251123T140000
DTEND;TZID=America/Chicago:20251123T170000
DTSTAMP:20260419T211024
CREATED:20251107T164904Z
LAST-MODIFIED:20251107T164952Z
UID:1487-1763906400-1763917200@blackduckchamber.com
SUMMARY:Bemdji Sons of Norway November Meeting
DESCRIPTION:There will be officer elections and Norwegian Closet Bingo.  Numbers are called in Norwegian & English! Participants are encouraged but not required to bring a prize from home\, something tucked away in your closet or storage. These can be gently used items with a low monetary value: a book\, trinket\, or Scandinavian or Nordic-themed item. Bingo winners can pick out their prize from the assortment of donated items. \n  \nFree and open to the public.
URL:https://blackduckchamber.com/event/bemdji-sons-of-norway-november-meeting/
LOCATION:Calvary Lutheran Church\, 2509 Washington Ave SE\, Bemidji\, MN\, 56601\, United States
CATEGORIES:Calvary Lutheran Church in Bemidji
ATTACH;FMTTYPE=image/png:https://blackduckchamber.com/wp-content/uploads/2025/11/sofn-logo-1.png
END:VEVENT
BEGIN:VEVENT
DTSTART;TZID=America/Chicago:20251120T130000
DTEND;TZID=America/Chicago:20251120T150000
DTSTAMP:20260419T211024
CREATED:20251107T161548Z
LAST-MODIFIED:20251107T161814Z
UID:1459-1763643600-1763650800@blackduckchamber.com
SUMMARY:Senior Center Bingo
DESCRIPTION:Every Thursday Everyone Welcome
URL:https://blackduckchamber.com/event/senior-center-bingo-66/
LOCATION:MN
CATEGORIES:Blackduck Senior Center
ATTACH;FMTTYPE=image/jpeg:https://blackduckchamber.com/wp-content/uploads/2023/09/images.jpg
END:VEVENT
BEGIN:VEVENT
DTSTART;TZID=America/Chicago:20251119T130000
DTEND;TZID=America/Chicago:20251119T150000
DTSTAMP:20260419T211024
CREATED:20251107T162530Z
LAST-MODIFIED:20251107T162530Z
UID:1474-1763557200-1763564400@blackduckchamber.com
SUMMARY:Senior Center Cards
DESCRIPTION:Every Wednesday \nEveryone Welcome
URL:https://blackduckchamber.com/event/senior-center-cards-74/
LOCATION:MN
CATEGORIES:Blackduck Senior Center
ATTACH;FMTTYPE=image/jpeg:https://blackduckchamber.com/wp-content/uploads/2023/09/download-1.jpg
END:VEVENT
BEGIN:VEVENT
DTSTART;TZID=America/Chicago:20251113T130000
DTEND;TZID=America/Chicago:20251113T150000
DTSTAMP:20260419T211024
CREATED:20251107T161500Z
LAST-MODIFIED:20251107T161745Z
UID:1457-1763038800-1763046000@blackduckchamber.com
SUMMARY:Senior Center Bingo
DESCRIPTION:Every Thursday\, Everyone Welcome
URL:https://blackduckchamber.com/event/senior-center-bingo-65/
LOCATION:MN
CATEGORIES:Blackduck Senior Center
ATTACH;FMTTYPE=image/jpeg:https://blackduckchamber.com/wp-content/uploads/2023/09/images.jpg
END:VEVENT
BEGIN:VEVENT
DTSTART;TZID=America/Chicago:20251112T123000
DTEND;TZID=America/Chicago:20251112T150000
DTSTAMP:20260419T211024
CREATED:20251107T162437Z
LAST-MODIFIED:20251107T162437Z
UID:1472-1762950600-1762959600@blackduckchamber.com
SUMMARY:Senior Center Cards
DESCRIPTION:Every Wednesday \nEveryone Welcome
URL:https://blackduckchamber.com/event/senior-center-cards-73/
LOCATION:MN
CATEGORIES:Blackduck Senior Center
ATTACH;FMTTYPE=image/jpeg:https://blackduckchamber.com/wp-content/uploads/2023/09/download-1.jpg
END:VEVENT
BEGIN:VEVENT
DTSTART;TZID=America/Chicago:20251030T130000
DTEND;TZID=America/Chicago:20251030T150000
DTSTAMP:20260419T211024
CREATED:20251003T150243Z
LAST-MODIFIED:20251003T150243Z
UID:1444-1761829200-1761836400@blackduckchamber.com
SUMMARY:Senior Center Bingo
DESCRIPTION:Every Thursday \nEveryone Welcome
URL:https://blackduckchamber.com/event/senior-center-bingo-64/
LOCATION:MN
CATEGORIES:Blackduck Senior Center
ATTACH;FMTTYPE=image/jpeg:https://blackduckchamber.com/wp-content/uploads/2023/09/images.jpg
END:VEVENT
BEGIN:VEVENT
DTSTART;TZID=America/Chicago:20251029T130000
DTEND;TZID=America/Chicago:20251029T150000
DTSTAMP:20260419T211024
CREATED:20251003T145606Z
LAST-MODIFIED:20251003T145606Z
UID:1434-1761742800-1761750000@blackduckchamber.com
SUMMARY:Senior Center Cards
DESCRIPTION:Every Wednesday \nEveryone Welcome
URL:https://blackduckchamber.com/event/senior-center-cards-72/
LOCATION:MN
CATEGORIES:Blackduck Senior Center
ATTACH;FMTTYPE=image/jpeg:https://blackduckchamber.com/wp-content/uploads/2023/09/download-1.jpg
END:VEVENT
BEGIN:VEVENT
DTSTART;TZID=America/Chicago:20251026T140000
DTEND;TZID=America/Chicago:20251026T160000
DTSTAMP:20260419T211024
CREATED:20251018T145022Z
LAST-MODIFIED:20251018T145022Z
UID:1450-1761487200-1761494400@blackduckchamber.com
SUMMARY:Bemidji Sons of Norway Meeting
DESCRIPTION:Bob Paulson will display and explain Scandinavian crafts\, including bentwood boxes and textiles.. Free\, and everyone is welcome.
URL:https://blackduckchamber.com/event/bemidji-sons-of-norway-meeting/
LOCATION:Calvary Lutheran Church\, 2509 Washington Ave SE\, Bemidji\, MN\, 56601\, United States
CATEGORIES:Meeting
ATTACH;FMTTYPE=image/jpeg:https://blackduckchamber.com/wp-content/uploads/2025/10/download.jpg
END:VEVENT
BEGIN:VEVENT
DTSTART;TZID=America/Chicago:20251023T130000
DTEND;TZID=America/Chicago:20251023T150000
DTSTAMP:20260419T211024
CREATED:20251003T150149Z
LAST-MODIFIED:20251003T150149Z
UID:1442-1761224400-1761231600@blackduckchamber.com
SUMMARY:Senior Center Bingo
DESCRIPTION:Every Thursday \nEveryone Welcome
URL:https://blackduckchamber.com/event/senior-center-bingo-63/
LOCATION:MN
CATEGORIES:Blackduck Senior Center
ATTACH;FMTTYPE=image/jpeg:https://blackduckchamber.com/wp-content/uploads/2023/09/images.jpg
END:VEVENT
BEGIN:VEVENT
DTSTART;TZID=America/Chicago:20251022T130000
DTEND;TZID=America/Chicago:20251022T150000
DTSTAMP:20260419T211024
CREATED:20251003T145326Z
LAST-MODIFIED:20251003T145326Z
UID:1431-1761138000-1761145200@blackduckchamber.com
SUMMARY:Senior Center Cards
DESCRIPTION:Every Wednesday \nEveryone Welcome
URL:https://blackduckchamber.com/event/senior-center-cards-71/
LOCATION:MN
CATEGORIES:Blackduck Senior Center
ATTACH;FMTTYPE=image/jpeg:https://blackduckchamber.com/wp-content/uploads/2023/09/download-1.jpg
END:VEVENT
BEGIN:VEVENT
DTSTART;TZID=America/Chicago:20251016T130000
DTEND;TZID=America/Chicago:20251016T150000
DTSTAMP:20260419T211024
CREATED:20251003T150042Z
LAST-MODIFIED:20251003T150042Z
UID:1440-1760619600-1760626800@blackduckchamber.com
SUMMARY:Senior Center Bingo
DESCRIPTION:Every Thursday \nEveryone Welcome
URL:https://blackduckchamber.com/event/senior-center-bingo-62/
LOCATION:MN
CATEGORIES:Blackduck Senior Center
ATTACH;FMTTYPE=image/jpeg:https://blackduckchamber.com/wp-content/uploads/2023/09/images.jpg
END:VEVENT
BEGIN:VEVENT
DTSTART;TZID=America/Chicago:20251016T130000
DTEND;TZID=America/Chicago:20251016T150000
DTSTAMP:20260419T211024
CREATED:20251003T145940Z
LAST-MODIFIED:20251003T145940Z
UID:1438-1760619600-1760626800@blackduckchamber.com
SUMMARY:Senior Center Bingo
DESCRIPTION:Every Thursday \nEveryone Welcome
URL:https://blackduckchamber.com/event/senior-center-bingo-61/
LOCATION:MN
CATEGORIES:Blackduck Senior Center
ATTACH;FMTTYPE=image/jpeg:https://blackduckchamber.com/wp-content/uploads/2023/09/images.jpg
END:VEVENT
BEGIN:VEVENT
DTSTART;TZID=America/Chicago:20251015T130000
DTEND;TZID=America/Chicago:20251015T150000
DTSTAMP:20260419T211024
CREATED:20251003T145236Z
LAST-MODIFIED:20251003T145236Z
UID:1429-1760533200-1760540400@blackduckchamber.com
SUMMARY:Senior Center Cards
DESCRIPTION:Every Wednesday \nEveryone Welcome
URL:https://blackduckchamber.com/event/senior-center-cards-70/
LOCATION:MN
CATEGORIES:Blackduck Senior Center
ATTACH;FMTTYPE=image/jpeg:https://blackduckchamber.com/wp-content/uploads/2023/09/download-1.jpg
END:VEVENT
BEGIN:VEVENT
DTSTART;TZID=America/Chicago:20251009T130000
DTEND;TZID=America/Chicago:20251009T150000
DTSTAMP:20260419T211024
CREATED:20251003T145814Z
LAST-MODIFIED:20251003T145814Z
UID:1436-1760014800-1760022000@blackduckchamber.com
SUMMARY:Senior Center Bingo
DESCRIPTION:Every Thursday \nEveryone Welcome
URL:https://blackduckchamber.com/event/senior-center-bingo-60/
LOCATION:MN
CATEGORIES:Blackduck Senior Center
ATTACH;FMTTYPE=image/jpeg:https://blackduckchamber.com/wp-content/uploads/2023/09/images.jpg
END:VEVENT
BEGIN:VEVENT
DTSTART;TZID=America/Chicago:20251008T130000
DTEND;TZID=America/Chicago:20251008T150000
DTSTAMP:20260419T211024
CREATED:20251003T145138Z
LAST-MODIFIED:20251003T145138Z
UID:1427-1759928400-1759935600@blackduckchamber.com
SUMMARY:Senior Center Cards
DESCRIPTION:Every Wednesday \nEveryone Welcome
URL:https://blackduckchamber.com/event/senior-center-cards-69/
LOCATION:MN
CATEGORIES:Blackduck Senior Center
ATTACH;FMTTYPE=image/jpeg:https://blackduckchamber.com/wp-content/uploads/2023/09/download-1.jpg
END:VEVENT
BEGIN:VEVENT
DTSTART;TZID=America/Chicago:20251004T160000
DTEND;TZID=America/Chicago:20251004T190000
DTSTAMP:20260419T211024
CREATED:20251003T143643Z
LAST-MODIFIED:20251003T143643Z
UID:1421-1759593600-1759604400@blackduckchamber.com
SUMMARY:Blackduck Bonanza
DESCRIPTION:An outdoor enthusiast gambling event\nRaffles Including:Bundle Prizes | Rifles & Shotguns | Designer Handbags\nJoin us for a night of raffles\, chance\, dinner & fun while supporting local Club kids in our new Blackduck location!\nThis 18+ event will include dinner\, 4 different gun raffles ranging in price from $300 to $1\,200\, and 3 designer handbag raffles where one purse will contain a $300 handgun!\nNot into Guns? Mystery Bundle Raffles full of fishing\, hunting\, and outdoor gear valued from $200-$600 each will also be available to bid on!\nCome prepared with cash to purchase your raffle tickets – this is going to be a fun event that you won’t want to miss! (ATM onsite)\n*Limited tickets available*$50 online until October 3rd & $60 at the door(price includes entry\, dinner\, and a chance to win one of our many door prizes)\nYou can purchase tickets here:https://fundraiser.support/BGCBlackduckBonanza2025
URL:https://blackduckchamber.com/event/blackduck-bonanza/
LOCATION:MN
ATTACH;FMTTYPE=image/jpeg:https://blackduckchamber.com/wp-content/uploads/2025/10/Blackduck-Bonanza-2025_FB-Event-Banners-1536x804-1.jpg
END:VEVENT
BEGIN:VEVENT
DTSTART;TZID=America/Chicago:20250829T140000
DTEND;TZID=America/Chicago:20250829T180000
DTSTAMP:20260419T211024
CREATED:20250629T194326Z
LAST-MODIFIED:20250629T194326Z
UID:1374-1756476000-1756490400@blackduckchamber.com
SUMMARY:BGCBA Blackduck Branch 1st Ever Golf Championship
DESCRIPTION:Golf Fore Club Kids on Friday\, August 29\, 2025 \nThis will be our 1st year doing this tournament. \nThe day will feature 9 holes of golf following a scramble format for a four-person team. \nThe cost to play is $75 – this includes your green fee and dinner. \nWe will have prizes for the top teams and course games for golfers. \n  \nThat’s not all! Join us the week before in Bemidji for our 21st Annual two-person Golf Championship! Located at the Bemidji Town & Country Club\, this tournament will be an 18-hole quota game. \nYou read that right! TWO golf tournaments to support our growing number of kids across our entire organization!\n\nWebsite: \nhttps://event.auctria.com/96a59807-26b6-4dd2-a2de-6c9c453fcec1/aa6cd270-8751-11e9-a741-3fcfcb35cbb0 \nTickets: \nhttps://event.auctria.com/96a59807-26b6-4dd2-a2de-6c9c453fcec1/258394c07dd3418ebfd5d10ef3907d5e
URL:https://blackduckchamber.com/event/bgcba-blackduck-branch-1st-ever-golf-championship/
LOCATION:MN
CATEGORIES:Golf Course
ATTACH;FMTTYPE=image/png:https://blackduckchamber.com/wp-content/uploads/2025/06/Golf-2025-Blackduck-Flyer.png
END:VEVENT
BEGIN:VEVENT
DTSTART;TZID=America/Chicago:20250826T130000
DTEND;TZID=America/Chicago:20250826T150000
DTSTAMP:20260419T211024
CREATED:20250806T004148Z
LAST-MODIFIED:20250806T004148Z
UID:1408-1756213200-1756220400@blackduckchamber.com
SUMMARY:Senior Center Cards
DESCRIPTION:
URL:https://blackduckchamber.com/event/senior-center-cards-68/
LOCATION:MN
CATEGORIES:Blackduck Senior Center
ATTACH;FMTTYPE=image/jpeg:https://blackduckchamber.com/wp-content/uploads/2023/09/download-1.jpg
END:VEVENT
BEGIN:VEVENT
DTSTART;TZID=America/Chicago:20250819T130000
DTEND;TZID=America/Chicago:20250819T150000
DTSTAMP:20260419T211024
CREATED:20250806T004100Z
LAST-MODIFIED:20250806T004100Z
UID:1406-1755608400-1755615600@blackduckchamber.com
SUMMARY:Senior Center Cards
DESCRIPTION:
URL:https://blackduckchamber.com/event/senior-center-cards-67/
LOCATION:MN
CATEGORIES:Blackduck Senior Center
ATTACH;FMTTYPE=image/jpeg:https://blackduckchamber.com/wp-content/uploads/2023/09/download-1.jpg
END:VEVENT
BEGIN:VEVENT
DTSTART;TZID=America/Chicago:20250816T140000
DTEND;TZID=America/Chicago:20250816T140000
DTSTAMP:20260419T211024
CREATED:20250806T003733Z
LAST-MODIFIED:20250806T003733Z
UID:1398-1755352800-1755352800@blackduckchamber.com
SUMMARY:SLOPPY JOE SANDWICHES & HOME MADE PIES with Ice Cream
DESCRIPTION:Served at Blackduck Senior Center Saturday\, August 16th  11am – 2pm\n\n During The Backwoods Bash.  All for $10.00!   Join friends in Air Condition Comfort.\n\nAll proceeds help maintain operating expenses for this Community Center.\n\nEveryone Welcome!
URL:https://blackduckchamber.com/event/sloppy-joe-sandwiches-home-made-pies-with-ice-cream/
LOCATION:MN
CATEGORIES:Blackduck Senior Center
ATTACH;FMTTYPE=image/jpeg:https://blackduckchamber.com/wp-content/uploads/2025/08/images-2.jpg
END:VEVENT
BEGIN:VEVENT
DTSTART;TZID=America/Chicago:20250815T080000
DTEND;TZID=America/Chicago:20250817T170000
DTSTAMP:20260419T211024
CREATED:20250730T153356Z
LAST-MODIFIED:20250730T153718Z
UID:1390-1755244800-1755450000@blackduckchamber.com
SUMMARY:Backwoods Bash
DESCRIPTION:Friday\, August 15 – Blackduck Golf Course\n\n8:00 PM – Let’s GLOW Crazy 9-Hole Scramble(Call the clubhouse to register)\n9:30 PM – Tee Off\n\nSaturday\, August 16 – Wayside Rest\n\n8:30 AM – 5K Dash Registration (Choice Therapy Bash Dash)\n9:00 AM – Pancake Feed & Heroes Rise Coffee Truck\n9:00 AM – 5K Run Start\n12:00 PM – Parade (Starts at High School)\n1:00–5:00 PM – Activities for All Ages:\n\nDunk Tank\nFood Court & Craft Vendors\nMechanical Bull\nHatchet Throwing\, Jenga & Hammerschlagen\nBounce House\, Inflatables & More\n\n\n1:00–7:00 PM – Beer Tent\n1:30–3:30 PM – Reptile Tent (Headwaters Science Center)\n2:00 PM – Bingo\n3:00 PM – Corn Hole Tournament\n5:00–7:00 PM – Live Music: Orlando & Rhonda\n8:00 PM–Midnight – Live Music: Shell Shock at The Pond\n\nSunday\, August 17 – Blackduck Golf Course\n\n9:00 AM – Drakes Scramble Check-In\n10:00 AM – Shotgun Start\n\nA Huge Thank You to Our Amazing Sponsors!\nWe couldn’t throw this Backwoods Bash without the support of these incredible local businesses and organizations. Your generosity keeps the music playing\, the pancakes flipping\, and the good times rolling! \n2025 Sponsors:\n\nBlackduck Co-Op\nBlackduck Dental\nBlackduck Leever’s Food\nNorthwoods Lumber\nRealty Experts\nWe Do Windows\nBemidji Sewer & Waterworks\nBlackduck Auto Parts\nCedar Rapids Lodge\nBlackduck Collision\nDale Schmidt Agency\nDrake Motel\nJuelson Plumbing & Heating\nJM Chiropractic\nWidseth Smith Nolting\nBogarts Repair & Recovery\nDeerwood Bank
URL:https://blackduckchamber.com/event/backwoods-bash-2025/
LOCATION:MN
ATTACH;FMTTYPE=image/jpeg:https://blackduckchamber.com/wp-content/uploads/2025/07/2025-Backwood-Bash.jpg
ORGANIZER;CN="Backwoods Bash":MAILTO:bashwoodsbash1@gmail.com
END:VEVENT
BEGIN:VEVENT
DTSTART;TZID=America/Chicago:20250812T010000
DTEND;TZID=America/Chicago:20250812T150000
DTSTAMP:20260419T211024
CREATED:20250806T004030Z
LAST-MODIFIED:20250806T004030Z
UID:1404-1754960400-1755010800@blackduckchamber.com
SUMMARY:Senior Center Cards
DESCRIPTION:
URL:https://blackduckchamber.com/event/senior-center-cards-66/
LOCATION:MN
CATEGORIES:Blackduck Senior Center
ATTACH;FMTTYPE=image/jpeg:https://blackduckchamber.com/wp-content/uploads/2023/09/download-1.jpg
END:VEVENT
BEGIN:VEVENT
DTSTART;TZID=America/Chicago:20250730T130000
DTEND;TZID=America/Chicago:20250730T150000
DTSTAMP:20260419T211024
CREATED:20250709T175831Z
LAST-MODIFIED:20250709T175831Z
UID:1384-1753880400-1753887600@blackduckchamber.com
SUMMARY:Senior Center Cards
DESCRIPTION:Everyone Welcome
URL:https://blackduckchamber.com/event/senior-center-cards-65/
LOCATION:MN
CATEGORIES:Blackduck Senior Center
ATTACH;FMTTYPE=image/jpeg:https://blackduckchamber.com/wp-content/uploads/2023/09/download-1.jpg
END:VEVENT
BEGIN:VEVENT
DTSTART;TZID=America/Chicago:20250726T090000
DTEND;TZID=America/Chicago:20250726T160000
DTSTAMP:20260419T211024
CREATED:20250506T145923Z
LAST-MODIFIED:20250506T145923Z
UID:1332-1753520400-1753545600@blackduckchamber.com
SUMMARY:Woodcarvers Festival
DESCRIPTION:
URL:https://blackduckchamber.com/event/woodcarvers-festival/
LOCATION:MN
ATTACH;FMTTYPE=image/jpeg:https://blackduckchamber.com/wp-content/uploads/2025/05/491847797_707323895197498_3872751537590458662_n.jpg
END:VEVENT
BEGIN:VEVENT
DTSTART;TZID=America/Chicago:20250723T130000
DTEND;TZID=America/Chicago:20250723T150000
DTSTAMP:20260419T211024
CREATED:20250709T175751Z
LAST-MODIFIED:20250709T175751Z
UID:1382-1753275600-1753282800@blackduckchamber.com
SUMMARY:Senior Center Cards
DESCRIPTION:Everyone Welcome
URL:https://blackduckchamber.com/event/senior-center-cards-64/
LOCATION:MN
CATEGORIES:Blackduck Senior Center
ATTACH;FMTTYPE=image/jpeg:https://blackduckchamber.com/wp-content/uploads/2023/09/download-1.jpg
END:VEVENT
BEGIN:VEVENT
DTSTART;TZID=America/Chicago:20250716T130000
DTEND;TZID=America/Chicago:20250716T150000
DTSTAMP:20260419T211024
CREATED:20250709T175713Z
LAST-MODIFIED:20250709T175713Z
UID:1380-1752670800-1752678000@blackduckchamber.com
SUMMARY:Senior Center Cards
DESCRIPTION:Everyone Welcome
URL:https://blackduckchamber.com/event/senior-center-cards-63/
LOCATION:MN
CATEGORIES:Blackduck Senior Center
END:VEVENT
BEGIN:VEVENT
DTSTART;TZID=America/Chicago:20250712T140000
DTEND;TZID=America/Chicago:20250712T160000
DTSTAMP:20260419T211024
CREATED:20250629T191629Z
LAST-MODIFIED:20250629T191629Z
UID:1371-1752328800-1752336000@blackduckchamber.com
SUMMARY:Music at the Senior Center
DESCRIPTION:Listen to CHRISTIAN HAUGEN as he runs his fingers over the Piano\n\nkeys and makes joyful\, fun\, toe tapping\, easy listening music\n\nwhile you relax in air condition comfort.  Music is a way to build new\n\nfriendships.  Join us and enjoy this local talented musician!\n\nRefreshments will be served.  Everyone Welcome!
URL:https://blackduckchamber.com/event/music-at-the-senior-center/
LOCATION:MN
CATEGORIES:Blackduck Senior Center
ATTACH;FMTTYPE=image/jpeg:https://blackduckchamber.com/wp-content/uploads/2025/02/download.jpg
END:VEVENT
END:VCALENDAR