BEGIN:VCALENDAR
VERSION:2.0
PRODID:-//Blackduck Chamber of Commerce - ECPv6.15.18//NONSGML v1.0//EN
CALSCALE:GREGORIAN
METHOD:PUBLISH
X-ORIGINAL-URL:https://blackduckchamber.com
X-WR-CALDESC:Events for Blackduck Chamber of Commerce
REFRESH-INTERVAL;VALUE=DURATION:PT1H
X-Robots-Tag:noindex
X-PUBLISHED-TTL:PT1H
BEGIN:VTIMEZONE
TZID:America/Chicago
BEGIN:DAYLIGHT
TZOFFSETFROM:-0600
TZOFFSETTO:-0500
TZNAME:CDT
DTSTART:20250309T080000
END:DAYLIGHT
BEGIN:STANDARD
TZOFFSETFROM:-0500
TZOFFSETTO:-0600
TZNAME:CST
DTSTART:20251102T070000
END:STANDARD
BEGIN:DAYLIGHT
TZOFFSETFROM:-0600
TZOFFSETTO:-0500
TZNAME:CDT
DTSTART:20260308T080000
END:DAYLIGHT
BEGIN:STANDARD
TZOFFSETFROM:-0500
TZOFFSETTO:-0600
TZNAME:CST
DTSTART:20261101T070000
END:STANDARD
BEGIN:DAYLIGHT
TZOFFSETFROM:-0600
TZOFFSETTO:-0500
TZNAME:CDT
DTSTART:20270314T080000
END:DAYLIGHT
BEGIN:STANDARD
TZOFFSETFROM:-0500
TZOFFSETTO:-0600
TZNAME:CST
DTSTART:20271107T070000
END:STANDARD
END:VTIMEZONE
BEGIN:VEVENT
DTSTART;TZID=America/Chicago:20260706T180000
DTEND;TZID=America/Chicago:20260706T200000
DTSTAMP:20260419T174038
CREATED:20260317T130833Z
LAST-MODIFIED:20260317T130833Z
UID:1633-1783360800-1783368000@blackduckchamber.com
SUMMARY:Blackduck City Council Meeting
DESCRIPTION:Blackduck City Council Meeting \nWatch on YouTube \nhttps://www.youtube.com/@cityofblackduck1456/featured
URL:https://blackduckchamber.com/event/blackduck-city-council-meeting-5/
LOCATION:Blackduck City Hall\, 8 Summit Ave. East\, Blackduck\, MN\, 56630\, United States
CATEGORIES:Meeting
END:VEVENT
BEGIN:VEVENT
DTSTART;TZID=America/Chicago:20260715T150000
DTEND;TZID=America/Chicago:20260715T163000
DTSTAMP:20260419T174038
CREATED:20260121T185754Z
LAST-MODIFIED:20260121T185754Z
UID:1583-1784127600-1784133000@blackduckchamber.com
SUMMARY:Chamber Meeting
DESCRIPTION:Chamber Meeting at The Pond
URL:https://blackduckchamber.com/event/chamber-meeting-7/
LOCATION:The Pond\, 224 Frontage Rd\, Blackduck\, MN\, 56630\, United States
CATEGORIES:Meeting,The Pond
END:VEVENT
BEGIN:VEVENT
DTSTART;TZID=America/Chicago:20260810T180000
DTEND;TZID=America/Chicago:20260810T200000
DTSTAMP:20260419T174038
CREATED:20260317T131232Z
LAST-MODIFIED:20260317T131232Z
UID:1635-1786384800-1786392000@blackduckchamber.com
SUMMARY:Blackduck City Council Meeting
DESCRIPTION:Blackduck City Council Meeting \nWatch on YouTube \nhttps://www.youtube.com/@cityofblackduck1456/featured
URL:https://blackduckchamber.com/event/blackduck-city-council-meeting-6/
LOCATION:Blackduck City Hall\, 8 Summit Ave. East\, Blackduck\, MN\, 56630\, United States
CATEGORIES:Meeting
END:VEVENT
BEGIN:VEVENT
DTSTART;TZID=America/Chicago:20260819T150000
DTEND;TZID=America/Chicago:20260819T163000
DTSTAMP:20260419T174038
CREATED:20260121T190002Z
LAST-MODIFIED:20260121T190002Z
UID:1585-1787151600-1787157000@blackduckchamber.com
SUMMARY:Chamber Meeting
DESCRIPTION:Chamber Meeting at the Blackduck Golf Course
URL:https://blackduckchamber.com/event/chamber-meeting-8/
LOCATION:Blackduck Golf Course\, 20857 Blackduck Lake Rd NE\, Blackduck\, MN\, 56630\, United States
CATEGORIES:Golf Course,Meeting
END:VEVENT
BEGIN:VEVENT
DTSTART;TZID=America/Chicago:20260908T180000
DTEND;TZID=America/Chicago:20260908T200000
DTSTAMP:20260419T174038
CREATED:20260317T131418Z
LAST-MODIFIED:20260317T131418Z
UID:1637-1788890400-1788897600@blackduckchamber.com
SUMMARY:Blackduck City Council Meeting
DESCRIPTION:Blackduck City Council Meeting \nWatch on YouTube \nhttps://www.youtube.com/@cityofblackduck1456/featured
URL:https://blackduckchamber.com/event/blackduck-city-council-meeting-7/
LOCATION:Blackduck City Hall\, 8 Summit Ave. East\, Blackduck\, MN\, 56630\, United States
CATEGORIES:Meeting
END:VEVENT
BEGIN:VEVENT
DTSTART;TZID=America/Chicago:20260916T150000
DTEND;TZID=America/Chicago:20260916T163000
DTSTAMP:20260419T174038
CREATED:20260121T190606Z
LAST-MODIFIED:20260121T190606Z
UID:1587-1789570800-1789576200@blackduckchamber.com
SUMMARY:Chamber Meeting
DESCRIPTION:Chamber Meeting at the Blackduck Area History and Art Center
URL:https://blackduckchamber.com/event/chamber-meeting-9/
LOCATION:Blackduck Area History and Art Center\, 133 Main St\, Blackduck\, MN\, 56630\, United States
CATEGORIES:Blackduck Area History and Art Center,Meeting
END:VEVENT
BEGIN:VEVENT
DTSTART;TZID=America/Chicago:20261005T180000
DTEND;TZID=America/Chicago:20261005T200000
DTSTAMP:20260419T174038
CREATED:20260317T131556Z
LAST-MODIFIED:20260317T131556Z
UID:1639-1791223200-1791230400@blackduckchamber.com
SUMMARY:Blackduck City Council Meeting
DESCRIPTION:Blackduck City Council Meeting \nWatch on YouTube \nhttps://www.youtube.com/@cityofblackduck1456/featured
URL:https://blackduckchamber.com/event/blackduck-city-council-meeting-8/
LOCATION:Blackduck City Hall\, 8 Summit Ave. East\, Blackduck\, MN\, 56630\, United States
CATEGORIES:Meeting
END:VEVENT
BEGIN:VEVENT
DTSTART;TZID=America/Chicago:20261021T150000
DTEND;TZID=America/Chicago:20261021T163000
DTSTAMP:20260419T174038
CREATED:20260121T190919Z
LAST-MODIFIED:20260121T190919Z
UID:1589-1792594800-1792600200@blackduckchamber.com
SUMMARY:Chamber Meeting
DESCRIPTION:Chamber Meeting at Choice Therapy
URL:https://blackduckchamber.com/event/chamber-meeting-10/
LOCATION:Choice Therapy\, 50 Margaret Ave\, Blackduck\, MN\, 56630\, United States
CATEGORIES:Choice Therapy,Meeting
END:VEVENT
BEGIN:VEVENT
DTSTART;TZID=America/Chicago:20261109T180000
DTEND;TZID=America/Chicago:20261109T200000
DTSTAMP:20260419T174038
CREATED:20260317T131720Z
LAST-MODIFIED:20260317T131720Z
UID:1641-1794247200-1794254400@blackduckchamber.com
SUMMARY:Blackduck City Council Meeting
DESCRIPTION:Blackduck City Council Meeting \nWatch on YouTube \nhttps://www.youtube.com/@cityofblackduck1456/featured
URL:https://blackduckchamber.com/event/blackduck-city-council-meeting-9/
LOCATION:Blackduck City Hall\, 8 Summit Ave. East\, Blackduck\, MN\, 56630\, United States
CATEGORIES:Meeting
END:VEVENT
BEGIN:VEVENT
DTSTART;TZID=America/Chicago:20261118T150000
DTEND;TZID=America/Chicago:20261118T163000
DTSTAMP:20260419T174038
CREATED:20260121T191025Z
LAST-MODIFIED:20260121T191025Z
UID:1591-1795014000-1795019400@blackduckchamber.com
SUMMARY:Chamber Meeting
DESCRIPTION:Chamber Meeting at the Senior Center
URL:https://blackduckchamber.com/event/chamber-meeting-11/
LOCATION:Blackduck Senior Citizens Center\, 24 1st St SE\, Blackduck\, MN\, 56630\, United States
CATEGORIES:Blackduck Senior Center,Meeting
END:VEVENT
BEGIN:VEVENT
DTSTART;TZID=America/Chicago:20261207T180000
DTEND;TZID=America/Chicago:20261207T200000
DTSTAMP:20260419T174038
CREATED:20260317T131853Z
LAST-MODIFIED:20260317T131853Z
UID:1643-1796666400-1796673600@blackduckchamber.com
SUMMARY:Blackduck City Council Meeting
DESCRIPTION:Blackduck City Council Meeting \nWatch on YouTube \nhttps://www.youtube.com/@cityofblackduck1456/featured
URL:https://blackduckchamber.com/event/blackduck-city-council-meeting-10/
LOCATION:Blackduck City Hall\, 8 Summit Ave. East\, Blackduck\, MN\, 56630\, United States
CATEGORIES:Meeting
END:VEVENT
BEGIN:VEVENT
DTSTART;TZID=America/Chicago:20261216T150000
DTEND;TZID=America/Chicago:20261216T163000
DTSTAMP:20260419T174038
CREATED:20260121T192957Z
LAST-MODIFIED:20260121T192957Z
UID:1593-1797433200-1797438600@blackduckchamber.com
SUMMARY:Chamber Meeting
DESCRIPTION:Chamber Meeting at the Blackduck Area History and Art Center
URL:https://blackduckchamber.com/event/chamber-meeting-12/
LOCATION:Blackduck Area History and Art Center\, 133 Main St\, Blackduck\, MN\, 56630\, United States
CATEGORIES:Blackduck Area History and Art Center,Meeting
END:VEVENT
END:VCALENDAR