BEGIN:VCALENDAR
VERSION:2.0
PRODID:-//Blackduck Chamber of Commerce - ECPv6.15.18//NONSGML v1.0//EN
CALSCALE:GREGORIAN
METHOD:PUBLISH
X-WR-CALNAME:Blackduck Chamber of Commerce
X-ORIGINAL-URL:https://blackduckchamber.com
X-WR-CALDESC:Events for Blackduck Chamber of Commerce
REFRESH-INTERVAL;VALUE=DURATION:PT1H
X-Robots-Tag:noindex
X-PUBLISHED-TTL:PT1H
BEGIN:VTIMEZONE
TZID:America/Chicago
BEGIN:DAYLIGHT
TZOFFSETFROM:-0600
TZOFFSETTO:-0500
TZNAME:CDT
DTSTART:20210314T080000
END:DAYLIGHT
BEGIN:STANDARD
TZOFFSETFROM:-0500
TZOFFSETTO:-0600
TZNAME:CST
DTSTART:20211107T070000
END:STANDARD
BEGIN:DAYLIGHT
TZOFFSETFROM:-0600
TZOFFSETTO:-0500
TZNAME:CDT
DTSTART:20220313T080000
END:DAYLIGHT
BEGIN:STANDARD
TZOFFSETFROM:-0500
TZOFFSETTO:-0600
TZNAME:CST
DTSTART:20221106T070000
END:STANDARD
BEGIN:DAYLIGHT
TZOFFSETFROM:-0600
TZOFFSETTO:-0500
TZNAME:CDT
DTSTART:20230312T080000
END:DAYLIGHT
BEGIN:STANDARD
TZOFFSETFROM:-0500
TZOFFSETTO:-0600
TZNAME:CST
DTSTART:20231105T070000
END:STANDARD
BEGIN:DAYLIGHT
TZOFFSETFROM:-0600
TZOFFSETTO:-0500
TZNAME:CDT
DTSTART:20240310T080000
END:DAYLIGHT
BEGIN:STANDARD
TZOFFSETFROM:-0500
TZOFFSETTO:-0600
TZNAME:CST
DTSTART:20241103T070000
END:STANDARD
END:VTIMEZONE
BEGIN:VEVENT
DTSTART;TZID=America/Chicago:20230219T140000
DTEND;TZID=America/Chicago:20230219T170000
DTSTAMP:20260421T044113
CREATED:20230213T170828Z
LAST-MODIFIED:20230216T190059Z
UID:612-1676815200-1676826000@blackduckchamber.com
SUMMARY:Family Game Time
DESCRIPTION:Board and Card games for the whole family. Bring yourself or your family and your favorite game. \nOpen to the public. Games start at 2pm and the potluck starts at 4. \n 
URL:https://blackduckchamber.com/event/family-game-night/
LOCATION:Blackduck Senior Citizens Center\, 24 1st St SE\, Blackduck\, MN\, 56630\, United States
ATTACH;FMTTYPE=image/jpeg:https://blackduckchamber.com/wp-content/uploads/2023/02/download.jpg
END:VEVENT
BEGIN:VEVENT
DTSTART;TZID=America/Chicago:20230219T130000
DTEND;TZID=America/Chicago:20230219T130000
DTSTAMP:20260421T044113
CREATED:20230113T200022Z
LAST-MODIFIED:20230113T200210Z
UID:563-1676811600-1676811600@blackduckchamber.com
SUMMARY:Blackduck Chamber Bingo
DESCRIPTION:
URL:https://blackduckchamber.com/event/blackduck-chamber-bingo/
LOCATION:The Pond\, 224 Frontage Rd\, Blackduck\, MN\, 56630\, United States
CATEGORIES:The Pond
ATTACH;FMTTYPE=image/png:https://blackduckchamber.com/wp-content/uploads/2023/01/image001.png
END:VEVENT
BEGIN:VEVENT
DTSTART;TZID=America/Chicago:20230213T170000
DTEND;TZID=America/Chicago:20230213T180000
DTSTAMP:20260421T044113
CREATED:20220925T202704Z
LAST-MODIFIED:20220925T202704Z
UID:424-1676307600-1676311200@blackduckchamber.com
SUMMARY:Community Free Meal
DESCRIPTION:Come enjoy good food\, food friends\, and good fellowship every second and third Monday of the month.
URL:https://blackduckchamber.com/event/community-free-meal-9/
ATTACH;FMTTYPE=image/png:https://blackduckchamber.com/wp-content/uploads/2022/09/Community-free-meal.png
END:VEVENT
BEGIN:VEVENT
DTSTART;TZID=America/Chicago:20230206T180000
DTEND;TZID=America/Chicago:20230206T190000
DTSTAMP:20260421T044113
CREATED:20230123T180229Z
LAST-MODIFIED:20230123T180229Z
UID:585-1675706400-1675710000@blackduckchamber.com
SUMMARY:Blackduck City Council Meeting
DESCRIPTION:City Council meetings are open to the public and held once a month.  Come voice your concerns or keep up on City happenings. \nWhere: Blackduck City Hall \nWhen 6 pm
URL:https://blackduckchamber.com/event/blackduck-city-council-meeting/
ATTACH;FMTTYPE=image/jpeg:https://blackduckchamber.com/wp-content/uploads/2023/01/Blackduck-City-Council-2022-July1-2048x1272-1.jpg
END:VEVENT
BEGIN:VEVENT
DTSTART;TZID=America/Chicago:20230201T170000
DTEND;TZID=America/Chicago:20230201T190000
DTSTAMP:20260421T044113
CREATED:20221221T181527Z
LAST-MODIFIED:20230123T173343Z
UID:549-1675270800-1675278000@blackduckchamber.com
SUMMARY:Chamber After Hours
DESCRIPTION:Where: Northwoods Lumber \nWhen: February 1\,  5-7 pm
URL:https://blackduckchamber.com/event/chamber-after-hours-3/
ATTACH;FMTTYPE=image/png:https://blackduckchamber.com/wp-content/uploads/2022/12/D12310C8-47C2-4EE9-AAA8-DD97352CF4A4.png
END:VEVENT
BEGIN:VEVENT
DTSTART;TZID=America/Chicago:20230119T160000
DTEND;TZID=America/Chicago:20230119T180000
DTSTAMP:20260421T044113
CREATED:20230116T214913Z
LAST-MODIFIED:20230116T214913Z
UID:568-1674144000-1674151200@blackduckchamber.com
SUMMARY:FLANNEL FLING
DESCRIPTION:Join us for a fun time dressed in your flannel or wool outfits and see who can win the traveling trophy. Special Music is planned at 4pm and Chili\, Corn Bread and Dessert served at 5pm.\n\nWhere: Blackduck Senior Center
URL:https://blackduckchamber.com/event/flannel-fling/
ATTACH;FMTTYPE=image/png:https://blackduckchamber.com/wp-content/uploads/2023/01/AA9269C2-FA70-4CBC-B3EC-E9F078689C38.png
END:VEVENT
BEGIN:VEVENT
DTSTART;TZID=America/Chicago:20230116T170000
DTEND;TZID=America/Chicago:20230116T180000
DTSTAMP:20260421T044113
CREATED:20220925T202642Z
LAST-MODIFIED:20220925T202642Z
UID:422-1673888400-1673892000@blackduckchamber.com
SUMMARY:Community Free Meal
DESCRIPTION:Come enjoy good food\, food friends\, and good fellowship every second and third Monday of the month.
URL:https://blackduckchamber.com/event/community-free-meal-8/
ATTACH;FMTTYPE=image/png:https://blackduckchamber.com/wp-content/uploads/2022/09/Community-free-meal.png
END:VEVENT
BEGIN:VEVENT
DTSTART;TZID=America/Chicago:20230109T170000
DTEND;TZID=America/Chicago:20230109T180000
DTSTAMP:20260421T044113
CREATED:20220925T202611Z
LAST-MODIFIED:20220925T202611Z
UID:420-1673283600-1673287200@blackduckchamber.com
SUMMARY:Community Free Meal
DESCRIPTION:Come enjoy good food\, food friends\, and good fellowship every second and third Monday of the month.
URL:https://blackduckchamber.com/event/community-free-meal-7/
ATTACH;FMTTYPE=image/png:https://blackduckchamber.com/wp-content/uploads/2022/09/Community-free-meal.png
END:VEVENT
BEGIN:VEVENT
DTSTART;TZID=America/Chicago:20221219T170000
DTEND;TZID=America/Chicago:20221219T180000
DTSTAMP:20260421T044113
CREATED:20220925T202550Z
LAST-MODIFIED:20220925T202550Z
UID:418-1671469200-1671472800@blackduckchamber.com
SUMMARY:Community Free Meal
DESCRIPTION:Come enjoy good food\, food friends\, and good fellowship every second and third Monday of the month.
URL:https://blackduckchamber.com/event/community-free-meal-6/
ATTACH;FMTTYPE=image/png:https://blackduckchamber.com/wp-content/uploads/2022/09/Community-free-meal.png
END:VEVENT
BEGIN:VEVENT
DTSTART;VALUE=DATE:20221218
DTEND;VALUE=DATE:20221219
DTSTAMP:20260421T044113
CREATED:20221207T163229Z
LAST-MODIFIED:20221207T163229Z
UID:544-1671321600-1671407999@blackduckchamber.com
SUMMARY:Shop Blackduck prize drawing
DESCRIPTION:Visit one of 17 participating businesses to enter. \nBlackduck Dental Northwoods Lumber Blackduck Leever’s Foods Flowers In The Attic Blackduck Co-op Liquor Lodge\nKalvig & Associates Rudy’s Repair Timberline Restaurant 71 The Pond Blackduck Floral\nAnderson Fabrics Outlet Blackduck Auto Parts Security Insurance USA Your Hometown Hemp Co. Northlander Gifts
URL:https://blackduckchamber.com/event/shop-blackduck-prize-drawing/
ATTACH;FMTTYPE=image/png:https://blackduckchamber.com/wp-content/uploads/2022/12/Blackduck-Chamber-Holiday-Marekting-Flyer-22.png
END:VEVENT
BEGIN:VEVENT
DTSTART;TZID=America/Chicago:20221212T170000
DTEND;TZID=America/Chicago:20221212T180000
DTSTAMP:20260421T044113
CREATED:20220925T202509Z
LAST-MODIFIED:20220925T202509Z
UID:416-1670864400-1670868000@blackduckchamber.com
SUMMARY:Community Free Meal
DESCRIPTION:Come enjoy good food\, food friends\, and good fellowship every second and third Monday of the month.
URL:https://blackduckchamber.com/event/community-free-meal-5/
ATTACH;FMTTYPE=image/png:https://blackduckchamber.com/wp-content/uploads/2022/09/Community-free-meal.png
END:VEVENT
BEGIN:VEVENT
DTSTART;TZID=America/Chicago:20221212T080000
DTEND;TZID=America/Chicago:20221212T160000
DTSTAMP:20260421T044113
CREATED:20221027T221502Z
LAST-MODIFIED:20221027T221502Z
UID:504-1670832000-1670860800@blackduckchamber.com
SUMMARY:55 Alive Defensive Driving Course
DESCRIPTION:Refresher Course and full course options available.\nOnline pre-registration REQUIRED\nBlackduck High School Commons door #3
URL:https://blackduckchamber.com/event/55-alive-defensive-driving-course/
ATTACH;FMTTYPE=image/png:https://blackduckchamber.com/wp-content/uploads/2022/10/C766AC99-37E1-49C0-9FE8-8C21C12BD772.png
END:VEVENT
BEGIN:VEVENT
DTSTART;TZID=America/Chicago:20221207T170000
DTEND;TZID=America/Chicago:20221207T190000
DTSTAMP:20260421T044113
CREATED:20221203T015127Z
LAST-MODIFIED:20221203T015201Z
UID:539-1670432400-1670439600@blackduckchamber.com
SUMMARY:Chamber After Hours
DESCRIPTION:Drinks\, light appetizers\, hot chocolate bar\, and prizes. \nGreat opportunity for networking. Open to current and perspective chamber members. \nwhere: Choice Therapy 50 Margaret Ave
URL:https://blackduckchamber.com/event/chamber-after-hours-2/
ATTACH;FMTTYPE=image/jpeg:https://blackduckchamber.com/wp-content/uploads/2022/12/6C067F6D-0B3D-4573-8318-35C6499DAB03.jpeg
END:VEVENT
BEGIN:VEVENT
DTSTART;TZID=America/Chicago:20221204T110000
DTEND;TZID=America/Chicago:20221204T130000
DTSTAMP:20260421T044113
CREATED:20221116T170831Z
LAST-MODIFIED:20221116T170831Z
UID:518-1670151600-1670158800@blackduckchamber.com
SUMMARY:Pork Loin Dinner\, bake sale\, and Bazaar
DESCRIPTION:FIRST PRESBYTERIAN CHURCH BLACKDUCK \nA great meal with all the fixings\, and free will donations to the local food shelf.
URL:https://blackduckchamber.com/event/pork-loin-dinner-bake-sale-and-bazaar/
ATTACH;FMTTYPE=image/jpeg:https://blackduckchamber.com/wp-content/uploads/2022/11/ABF8D9C6-C38D-4A8A-B481-F44FAC0FD3FB.jpeg
END:VEVENT
BEGIN:VEVENT
DTSTART;TZID=America/Chicago:20221202T090000
DTEND;TZID=America/Chicago:20221202T130000
DTSTAMP:20260421T044113
CREATED:20221128T171848Z
LAST-MODIFIED:20221128T172056Z
UID:532-1669971600-1669986000@blackduckchamber.com
SUMMARY:Omelet Brunch/Bake and Craft Sale
DESCRIPTION:Where: Blackduck Senior Center 24 First Street SE
URL:https://blackduckchamber.com/event/omelet-brunch-bake-and-craft-sale/
ATTACH;FMTTYPE=image/jpeg:https://blackduckchamber.com/wp-content/uploads/2022/11/E60115D2-C5C0-4818-96FC-9B356B738606.jpeg
END:VEVENT
BEGIN:VEVENT
DTSTART;TZID=America/Chicago:20221126T100000
DTEND;TZID=America/Chicago:20221126T190000
DTSTAMP:20260421T044113
CREATED:20221121T203734Z
LAST-MODIFIED:20221121T203734Z
UID:524-1669456800-1669489200@blackduckchamber.com
SUMMARY:Glow In The Snow
DESCRIPTION:Blackduck Glow In The Snow  \nWhere? Blackduck Wayside Rest \nWhen? Saturday November 26th \nEvent Agenda: \n\n10am to 12pm: Mrs. Claus’s little helpers scavenger hunt\n12pm: Story time with Mrs. Claus\n1pm to 3pm: Snowman making and sled races. (weather providing)\n2pm to 4pm: Horse drawn trailer rides\n4pm to 5pm: Parade at wayside\n5pm to 6pm: Santa Claus and caroling\n6pm: The lighting of wayside rest with prize drawings to follow free movie ticket from the Blackduck Chamber of Commerce. Cookies\, hot chocolate\, and more.
URL:https://blackduckchamber.com/event/glow-in-the-snow/
LOCATION:Wayside Rest
CATEGORIES:Festivals
ATTACH;FMTTYPE=image/jpeg:https://blackduckchamber.com/wp-content/uploads/2022/11/Blackduck-Glow-In-The-Snow.jpg
END:VEVENT
BEGIN:VEVENT
DTSTART;TZID=America/Chicago:20221121T170000
DTEND;TZID=America/Chicago:20221121T180000
DTSTAMP:20260421T044113
CREATED:20220925T202450Z
LAST-MODIFIED:20220925T202450Z
UID:414-1669050000-1669053600@blackduckchamber.com
SUMMARY:Community Free Meal
DESCRIPTION:Come enjoy good food\, food friends\, and good fellowship every second and third Monday of the month.
URL:https://blackduckchamber.com/event/community-free-meal-4/
ATTACH;FMTTYPE=image/png:https://blackduckchamber.com/wp-content/uploads/2022/09/Community-free-meal.png
END:VEVENT
BEGIN:VEVENT
DTSTART;TZID=America/Chicago:20221119T170000
DTEND;TZID=America/Chicago:20221119T190000
DTSTAMP:20260421T044113
CREATED:20221005T210743Z
LAST-MODIFIED:20221005T210743Z
UID:464-1668877200-1668884400@blackduckchamber.com
SUMMARY:Carmen Kotula Benefit
DESCRIPTION:Fundraiser for Carmen help ease the pressure of medical bills caused by breast cancer \nNorthern Escape Venue 18169 Nebish RD\, Hines Mn 56647
URL:https://blackduckchamber.com/event/carmen-kotula-benefit/
ATTACH;FMTTYPE=image/jpeg:https://blackduckchamber.com/wp-content/uploads/2022/10/Screenshot-2022-10-05-at-3.41.20-PM.jpeg
END:VEVENT
BEGIN:VEVENT
DTSTART;TZID=America/Chicago:20221114T170000
DTEND;TZID=America/Chicago:20221114T180000
DTSTAMP:20260421T044113
CREATED:20220925T202419Z
LAST-MODIFIED:20220925T202419Z
UID:412-1668445200-1668448800@blackduckchamber.com
SUMMARY:Community Free Meal
DESCRIPTION:Come enjoy good food\, food friends\, and good fellowship every second and third Monday of the month.
URL:https://blackduckchamber.com/event/community-free-meal-3/
ATTACH;FMTTYPE=image/png:https://blackduckchamber.com/wp-content/uploads/2022/09/Community-free-meal.png
END:VEVENT
BEGIN:VEVENT
DTSTART;TZID=America/Chicago:20221112T090000
DTEND;TZID=America/Chicago:20221112T150000
DTSTAMP:20260421T044113
CREATED:20221102T162546Z
LAST-MODIFIED:20221102T162546Z
UID:508-1668243600-1668265200@blackduckchamber.com
SUMMARY:HOLIDAY CRAFT & WHITE ELEPHANT
DESCRIPTION:Hand crafted gifts by local Seniors. Everyone Welcome! \nBlackduck Senior Center 24 First street SE.
URL:https://blackduckchamber.com/event/holiday-craft-white-elephant/
ATTACH;FMTTYPE=image/jpeg:https://blackduckchamber.com/wp-content/uploads/2022/11/68E38E20-3829-45BE-AFFB-659B6BD72F3D.jpeg
END:VEVENT
BEGIN:VEVENT
DTSTART;TZID=America/Chicago:20221112T090000
DTEND;TZID=America/Chicago:20221112T150000
DTSTAMP:20260421T044113
CREATED:20221027T215458Z
LAST-MODIFIED:20221027T215458Z
UID:498-1668243600-1668265200@blackduckchamber.com
SUMMARY:Holiday Craft Fair
DESCRIPTION:Crafters\, vendors\, homemade foods\, and concessions. \nBlackduck High School\, 156 1st Street NE Door 1\, Blackduck\, MN 56630   Multi-Purpose Room\,HS Gyms\, & Hallways
URL:https://blackduckchamber.com/event/holiday-craft-fair/
ATTACH;FMTTYPE=application/pdf:https://blackduckchamber.com/wp-content/uploads/2022/10/Holiday-Craft-Fair-Poster-1.pdf
END:VEVENT
BEGIN:VEVENT
DTSTART;TZID=America/Chicago:20221111T190000
DTEND;TZID=America/Chicago:20221111T200000
DTSTAMP:20260421T044113
CREATED:20221016T195002Z
LAST-MODIFIED:20221102T163247Z
UID:485-1668193200-1668196800@blackduckchamber.com
SUMMARY:Veterans Day Program
DESCRIPTION:Program by the Blackduck High School Band and Choir along with the Blackduck American Legion Post #372 \nIn the BHS Gym\, 156 1st Street NE Door 3\, Blackduck\, MN 56630
URL:https://blackduckchamber.com/event/veterans-day-program/
ATTACH;FMTTYPE=image/jpeg:https://blackduckchamber.com/wp-content/uploads/2022/10/EFDDC43E-6744-4D2D-9EA3-9D741574C3CF.jpeg
END:VEVENT
BEGIN:VEVENT
DTSTART;TZID=America/Chicago:20221111T170000
DTEND;TZID=America/Chicago:20221111T183000
DTSTAMP:20260421T044113
CREATED:20221016T193354Z
LAST-MODIFIED:20221016T195347Z
UID:481-1668186000-1668191400@blackduckchamber.com
SUMMARY:American Legion Auxiliary Veterans Day Dinner
DESCRIPTION:Open to everyone. Free to all vets and free will donation for all others. \nBlackduck Highschool MPR\, 156 1st Street NE Door 1\, Blackduck\, MN 56630
URL:https://blackduckchamber.com/event/american-legion-auxiliary-veterans-day-dinner/
ATTACH;FMTTYPE=image/jpeg:https://blackduckchamber.com/wp-content/uploads/2022/10/download.jpg
END:VEVENT
BEGIN:VEVENT
DTSTART;TZID=America/Chicago:20221107T170000
DTEND;TZID=America/Chicago:20221107T183000
DTSTAMP:20260421T044113
CREATED:20221105T141918Z
LAST-MODIFIED:20221105T141918Z
UID:513-1667840400-1667845800@blackduckchamber.com
SUMMARY:Community free meal
DESCRIPTION:Come enjoy good food\, food friends\, and good fellowship. Everyone welcome.
URL:https://blackduckchamber.com/event/community-free-meal-16/
ATTACH;FMTTYPE=image/jpeg:https://blackduckchamber.com/wp-content/uploads/2022/11/34A145E8-4208-4232-934C-596C35E6AEF0.jpeg
END:VEVENT
BEGIN:VEVENT
DTSTART;TZID=America/Chicago:20221104T180000
DTEND;TZID=America/Chicago:20221104T200000
DTSTAMP:20260421T044113
CREATED:20221016T200208Z
LAST-MODIFIED:20221102T163106Z
UID:490-1667584800-1667592000@blackduckchamber.com
SUMMARY:BHS Theater Redux
DESCRIPTION:Dinner Theater presented by the BHS Drama Club. Dinner Includes Chicken Alfredo\, Beverages\, and desert. \nTickets are $30 and must be reserved by calling 218-835-5210. \nBHS MPR\, 156 1st Street NE Door 1\, Blackduck\, MN 56630
URL:https://blackduckchamber.com/event/bhs-theater-redux/
ATTACH;FMTTYPE=image/png:https://blackduckchamber.com/wp-content/uploads/2022/10/410898E5-B836-43CE-8827-339AEF8B09BD.png
END:VEVENT
BEGIN:VEVENT
DTSTART;TZID=America/Chicago:20221104T170000
DTEND;TZID=America/Chicago:20221104T190000
DTSTAMP:20260421T044113
CREATED:20221005T213634Z
LAST-MODIFIED:20221005T213634Z
UID:466-1667581200-1667588400@blackduckchamber.com
SUMMARY:Secrets of the Congdon Mansion
DESCRIPTION:Guest Speaker\, Joe Kimball author of the best-selling “Secrets of the Congdon Mansion.” Will be giving a talk about his first hand account of these events as a reporter. \nBlackduck Community Library
URL:https://blackduckchamber.com/event/secrets-of-the-congdon-mansion/
ATTACH;FMTTYPE=image/jpeg:https://blackduckchamber.com/wp-content/uploads/2022/10/301155313_466971301816521_2801089593792241934_n.jpg
END:VEVENT
BEGIN:VEVENT
DTSTART;TZID=America/Chicago:20221102T170000
DTEND;TZID=America/Chicago:20221102T190000
DTSTAMP:20260421T044113
CREATED:20220915T194748Z
LAST-MODIFIED:20220915T194748Z
UID:395-1667408400-1667415600@blackduckchamber.com
SUMMARY:Blackduck Chamber After Hours
DESCRIPTION:Free networking event for perspective and current chamber members. Great exposure for your business. Free beverages\, light snacks\, and door prizes.
URL:https://blackduckchamber.com/event/blackduck-chamber-after-hours-2/
LOCATION:Blackduck Golf Course\, 20857 Blackduck Lake Rd NE\, Blackduck\, MN\, 56630\, United States
CATEGORIES:Golf Course
ATTACH;FMTTYPE=image/png:https://blackduckchamber.com/wp-content/uploads/2022/09/Blackduck-Chamber-After-Hours-1.png
END:VEVENT
BEGIN:VEVENT
DTSTART;TZID=America/Chicago:20221031T170000
DTEND;TZID=America/Chicago:20221031T190000
DTSTAMP:20260421T044113
CREATED:20221005T210013Z
LAST-MODIFIED:20221005T210042Z
UID:460-1667235600-1667242800@blackduckchamber.com
SUMMARY:Trunk or Treat
DESCRIPTION:Trunker set up @ 4pm \nTreaters start @ 5pm
URL:https://blackduckchamber.com/event/trunk-or-treat/
LOCATION:Wayside Rest
CATEGORIES:Festivals
ATTACH;FMTTYPE=image/jpeg:https://blackduckchamber.com/wp-content/uploads/2022/10/IMG_4977.jpeg
END:VEVENT
BEGIN:VEVENT
DTSTART;TZID=America/Chicago:20221029T130000
DTEND;TZID=America/Chicago:20221029T170000
DTSTAMP:20260421T044113
CREATED:20221005T205353Z
LAST-MODIFIED:20221005T205353Z
UID:456-1667048400-1667062800@blackduckchamber.com
SUMMARY:Zack Jones Benefit
DESCRIPTION:Silent Auction\, Bake Sale\, and Gun Raffle. Free will donation meal. \nNorthern Escape Venue 18169 Nebish Rd NE\, Hines MN 56647
URL:https://blackduckchamber.com/event/zack-jones-benefit/
ATTACH;FMTTYPE=image/jpeg:https://blackduckchamber.com/wp-content/uploads/2022/10/IMG_7496.jpg
END:VEVENT
BEGIN:VEVENT
DTSTART;TZID=America/Chicago:20221029T090000
DTEND;TZID=America/Chicago:20221029T130000
DTSTAMP:20260421T044113
CREATED:20221027T220436Z
LAST-MODIFIED:20221027T220436Z
UID:501-1667034000-1667048400@blackduckchamber.com
SUMMARY:Pok’emon Card Trading
DESCRIPTION:Blackduck elementary gym buy\, sell\, and trade. Free trade or treat packs at the door and a costume contest.
URL:https://blackduckchamber.com/event/pokemon-card-trading/
ATTACH;FMTTYPE=image/jpeg:https://blackduckchamber.com/wp-content/uploads/2022/10/C445CB8C-750A-4DEA-911D-A91CDE33B0C2.jpeg
END:VEVENT
END:VCALENDAR