BEGIN:VCALENDAR
VERSION:2.0
PRODID:-//Blackduck Chamber of Commerce - ECPv6.15.18//NONSGML v1.0//EN
CALSCALE:GREGORIAN
METHOD:PUBLISH
X-WR-CALNAME:Blackduck Chamber of Commerce
X-ORIGINAL-URL:https://blackduckchamber.com
X-WR-CALDESC:Events for Blackduck Chamber of Commerce
REFRESH-INTERVAL;VALUE=DURATION:PT1H
X-Robots-Tag:noindex
X-PUBLISHED-TTL:PT1H
BEGIN:VTIMEZONE
TZID:America/Chicago
BEGIN:DAYLIGHT
TZOFFSETFROM:-0600
TZOFFSETTO:-0500
TZNAME:CDT
DTSTART:20220313T080000
END:DAYLIGHT
BEGIN:STANDARD
TZOFFSETFROM:-0500
TZOFFSETTO:-0600
TZNAME:CST
DTSTART:20221106T070000
END:STANDARD
BEGIN:DAYLIGHT
TZOFFSETFROM:-0600
TZOFFSETTO:-0500
TZNAME:CDT
DTSTART:20230312T080000
END:DAYLIGHT
BEGIN:STANDARD
TZOFFSETFROM:-0500
TZOFFSETTO:-0600
TZNAME:CST
DTSTART:20231105T070000
END:STANDARD
BEGIN:DAYLIGHT
TZOFFSETFROM:-0600
TZOFFSETTO:-0500
TZNAME:CDT
DTSTART:20240310T080000
END:DAYLIGHT
BEGIN:STANDARD
TZOFFSETFROM:-0500
TZOFFSETTO:-0600
TZNAME:CST
DTSTART:20241103T070000
END:STANDARD
END:VTIMEZONE
BEGIN:VEVENT
DTSTART;TZID=America/Chicago:20230615T180000
DTEND;TZID=America/Chicago:20230615T200000
DTSTAMP:20260420T234822
CREATED:20230530T194018Z
LAST-MODIFIED:20230530T194018Z
UID:740-1686852000-1686859200@blackduckchamber.com
SUMMARY:Thursday Night Golf Scramble
DESCRIPTION:
URL:https://blackduckchamber.com/event/thursday-night-golf-scramble-3/
CATEGORIES:Golf Course
ATTACH;FMTTYPE=image/png:https://blackduckchamber.com/wp-content/uploads/2023/05/Copy-of-Ladies.png
END:VEVENT
BEGIN:VEVENT
DTSTART;TZID=America/Chicago:20230612T083000
DTEND;TZID=America/Chicago:20230612T113000
DTSTAMP:20260420T234822
CREATED:20230426T202700Z
LAST-MODIFIED:20230426T202700Z
UID:700-1686558600-1686569400@blackduckchamber.com
SUMMARY:Junior Golf Lessons
DESCRIPTION:
URL:https://blackduckchamber.com/event/junior-golf-lessons-2/
CATEGORIES:Golf Course
ATTACH;FMTTYPE=image/png:https://blackduckchamber.com/wp-content/uploads/2023/04/Green-Blue-Junior-Golf-Club-Poster.png
END:VEVENT
BEGIN:VEVENT
DTSTART;TZID=America/Chicago:20230608T180000
DTEND;TZID=America/Chicago:20230608T200000
DTSTAMP:20260420T234822
CREATED:20230530T193951Z
LAST-MODIFIED:20230530T193951Z
UID:738-1686247200-1686254400@blackduckchamber.com
SUMMARY:Thursday Night Golf Scramble
DESCRIPTION:
URL:https://blackduckchamber.com/event/thursday-night-golf-scramble-2/
ATTACH;FMTTYPE=image/png:https://blackduckchamber.com/wp-content/uploads/2023/05/Copy-of-Ladies.png
END:VEVENT
BEGIN:VEVENT
DTSTART;TZID=America/Chicago:20230605T083000
DTEND;TZID=America/Chicago:20230605T113000
DTSTAMP:20260420T234822
CREATED:20230426T202452Z
LAST-MODIFIED:20230426T202452Z
UID:697-1685953800-1685964600@blackduckchamber.com
SUMMARY:Junior Golf Lessons
DESCRIPTION:
URL:https://blackduckchamber.com/event/junior-golf-lessons/
CATEGORIES:Golf Course
ATTACH;FMTTYPE=image/png:https://blackduckchamber.com/wp-content/uploads/2023/04/Green-Blue-Junior-Golf-Club-Poster.png
END:VEVENT
BEGIN:VEVENT
DTSTART;TZID=America/Chicago:20230601T180000
DTEND;TZID=America/Chicago:20230601T200000
DTSTAMP:20260420T234822
CREATED:20230530T193802Z
LAST-MODIFIED:20230530T193802Z
UID:734-1685642400-1685649600@blackduckchamber.com
SUMMARY:Thursday Night Golf Scramble
DESCRIPTION:
URL:https://blackduckchamber.com/event/thursday-night-golf-scramble/
CATEGORIES:Golf Course
ATTACH;FMTTYPE=image/png:https://blackduckchamber.com/wp-content/uploads/2023/05/Copy-of-Ladies.png
END:VEVENT
BEGIN:VEVENT
DTSTART;TZID=America/Chicago:20230526T180000
DTEND;TZID=America/Chicago:20230526T200000
DTSTAMP:20260420T234822
CREATED:20230511T215413Z
LAST-MODIFIED:20230511T220049Z
UID:716-1685124000-1685131200@blackduckchamber.com
SUMMARY:Grill N Chill
DESCRIPTION:Open to everyone. Great chance hangout\, socialize\, drink\, eat\, and golf.
URL:https://blackduckchamber.com/event/grill-n-chill/
CATEGORIES:Golf Course
ATTACH;FMTTYPE=image/jpeg:https://blackduckchamber.com/wp-content/uploads/2023/05/2023-grill-chill.jpg
END:VEVENT
BEGIN:VEVENT
DTSTART;VALUE=DATE:20230520
DTEND;VALUE=DATE:20230521
DTSTAMP:20260420T234822
CREATED:20230218T005302Z
LAST-MODIFIED:20230218T005302Z
UID:624-1684540800-1684627199@blackduckchamber.com
SUMMARY:City Wide Garage Sale
DESCRIPTION:
URL:https://blackduckchamber.com/event/city-wide-garage-sale-2/
ATTACH;FMTTYPE=image/png:https://blackduckchamber.com/wp-content/uploads/2023/02/2023-Garage-sale-flyer.png
END:VEVENT
BEGIN:VEVENT
DTSTART;TZID=America/Chicago:20230517T180000
DTEND;TZID=America/Chicago:20230517T200000
DTSTAMP:20260420T234822
CREATED:20230218T010203Z
LAST-MODIFIED:20230218T010203Z
UID:627-1684346400-1684353600@blackduckchamber.com
SUMMARY:Ditch Clean Up
DESCRIPTION:Show pride in our community and help us clean up Hwy 71 N. \nBags and Vests provided. \nJoin us at Shamrock Storage at 6 pm on May 17th
URL:https://blackduckchamber.com/event/ditch-clean-up/
ATTACH;FMTTYPE=image/png:https://blackduckchamber.com/wp-content/uploads/2023/02/2023-Ditch-Clean-Up.png
END:VEVENT
BEGIN:VEVENT
DTSTART;TZID=America/Chicago:20230517T163000
DTEND;TZID=America/Chicago:20230517T173000
DTSTAMP:20260420T234822
CREATED:20230426T203902Z
LAST-MODIFIED:20230426T203902Z
UID:711-1684341000-1684344600@blackduckchamber.com
SUMMARY:Yoga Classes with Maddi Oothoudt
DESCRIPTION:Where: Blackduck Elementary School Room #31
URL:https://blackduckchamber.com/event/yoga-classes-with-maddi-oothoudt-3/
ATTACH;FMTTYPE=image/png:https://blackduckchamber.com/wp-content/uploads/2023/04/Cream-Modern-International-Yoga-Day-Flyer-3.png
END:VEVENT
BEGIN:VEVENT
DTSTART;TZID=America/Chicago:20230512T120000
DTEND;TZID=America/Chicago:20230512T140000
DTSTAMP:20260420T234822
CREATED:20230426T201727Z
LAST-MODIFIED:20230426T201727Z
UID:694-1683892800-1683900000@blackduckchamber.com
SUMMARY:Liberators & The Holocaust
DESCRIPTION:Kitchigami Regional Library presents “Liberators & The Holocaust” with historian and re-enactor Arn Kind \nAt the Blackduck Senior Center\, May 12 at 12 Pm
URL:https://blackduckchamber.com/event/liberators-the-holocaust/
ATTACH;FMTTYPE=application/pdf:https://blackduckchamber.com/wp-content/uploads/2023/04/Arn-Kind-Flier.pdf
END:VEVENT
BEGIN:VEVENT
DTSTART;TZID=America/Chicago:20230510T163000
DTEND;TZID=America/Chicago:20230510T173000
DTSTAMP:20260420T234822
CREATED:20230426T203647Z
LAST-MODIFIED:20230426T203647Z
UID:709-1683736200-1683739800@blackduckchamber.com
SUMMARY:Yoga Classes with Maddi Oothoudt
DESCRIPTION:Where: Blackduck Elementary School Room #31
URL:https://blackduckchamber.com/event/yoga-classes-with-maddi-oothoudt-2/
ATTACH;FMTTYPE=image/png:https://blackduckchamber.com/wp-content/uploads/2023/04/Cream-Modern-International-Yoga-Day-Flyer-3.png
END:VEVENT
BEGIN:VEVENT
DTSTART;TZID=America/Chicago:20230508T170000
DTEND;TZID=America/Chicago:20230508T180000
DTSTAMP:20260420T234822
CREATED:20220925T203108Z
LAST-MODIFIED:20220925T203108Z
UID:436-1683565200-1683568800@blackduckchamber.com
SUMMARY:Community Free Meal
DESCRIPTION:Come enjoy good food\, food friends\, and good fellowship every second and third Monday of the month.
URL:https://blackduckchamber.com/event/community-free-meal-15/
ATTACH;FMTTYPE=image/png:https://blackduckchamber.com/wp-content/uploads/2022/09/Community-free-meal.png
END:VEVENT
BEGIN:VEVENT
DTSTART;TZID=America/Chicago:20230508T080000
DTEND;TZID=America/Chicago:20230508T160000
DTSTAMP:20260420T234822
CREATED:20230321T234606Z
LAST-MODIFIED:20230321T234606Z
UID:663-1683532800-1683561600@blackduckchamber.com
SUMMARY:55 ALIVE DEFENSIVE DRIVING COURSE
DESCRIPTION:
URL:https://blackduckchamber.com/event/55-alive-defensive-driving-course-2/
ATTACH;FMTTYPE=image/png:https://blackduckchamber.com/wp-content/uploads/2023/03/Black-and-Beige-Super-Swiss-Road-Safety-Poster-3.png
END:VEVENT
BEGIN:VEVENT
DTSTART;TZID=America/Chicago:20230505T090000
DTEND;TZID=America/Chicago:20230505T130000
DTSTAMP:20260420T234822
CREATED:20230426T200356Z
LAST-MODIFIED:20230426T200356Z
UID:691-1683277200-1683291600@blackduckchamber.com
SUMMARY:OMELET BRUNCH\, BAKE & CRAFT SALE
DESCRIPTION:Blackduck Senior Center 9am – 1pm. \nBuild your omelet and our chefs will cook them for you.  Top them with your favorite salsa\, sour cream\, cheese and served with toast or sweet roll\, coffee\, lemonade\, ice water.  This is a fund raiser to maintain the Senior Center which is available for the community to use.  Everyone is welcome.  Bring your family and friends and enjoy fellowship with people from our surrounding area.
URL:https://blackduckchamber.com/event/omelet-brunch-bake-craft-sale/
ATTACH;FMTTYPE=image/png:https://blackduckchamber.com/wp-content/uploads/2023/04/Untitled-design.png
END:VEVENT
BEGIN:VEVENT
DTSTART;TZID=America/Chicago:20230504T170000
DTEND;TZID=America/Chicago:20230504T200000
DTSTAMP:20260420T234822
CREATED:20230321T234956Z
LAST-MODIFIED:20230402T013936Z
UID:666-1683219600-1683230400@blackduckchamber.com
SUMMARY:1st Annual Kentucky Derby Party
DESCRIPTION:
URL:https://blackduckchamber.com/event/1st-annual-kentucky-derby-party/
CATEGORIES:Golf Course
ATTACH;FMTTYPE=image/png:https://blackduckchamber.com/wp-content/uploads/2023/03/Kentucky-Derby-Flyer.png
END:VEVENT
BEGIN:VEVENT
DTSTART;TZID=America/Chicago:20230503T163000
DTEND;TZID=America/Chicago:20230503T183000
DTSTAMP:20260420T234822
CREATED:20230426T203440Z
LAST-MODIFIED:20230426T203440Z
UID:706-1683131400-1683138600@blackduckchamber.com
SUMMARY:Yoga Classes with Maddi Oothoudt
DESCRIPTION:Where: Blackduck Elementary School Room #31
URL:https://blackduckchamber.com/event/yoga-classes-with-maddi-oothoudt/
ATTACH;FMTTYPE=image/png:https://blackduckchamber.com/wp-content/uploads/2023/04/Cream-Modern-International-Yoga-Day-Flyer-3.png
END:VEVENT
BEGIN:VEVENT
DTSTART;TZID=America/Chicago:20230426T163000
DTEND;TZID=America/Chicago:20230426T173000
DTSTAMP:20260420T234822
CREATED:20230426T204110Z
LAST-MODIFIED:20230426T204110Z
UID:713-1682526600-1682530200@blackduckchamber.com
SUMMARY:Yoga Classes with Maddi Oothoudt
DESCRIPTION:Where: Blackduck Elementary School Room #31
URL:https://blackduckchamber.com/event/yoga-classes-with-maddi-oothoudt-4/
ATTACH;FMTTYPE=image/png:https://blackduckchamber.com/wp-content/uploads/2023/04/Cream-Modern-International-Yoga-Day-Flyer-3.png
END:VEVENT
BEGIN:VEVENT
DTSTART;TZID=America/Chicago:20230426T163000
DTEND;TZID=America/Chicago:20230426T171500
DTSTAMP:20260420T234822
CREATED:20230402T015056Z
LAST-MODIFIED:20230402T015056Z
UID:682-1682526600-1682529300@blackduckchamber.com
SUMMARY:April Yoga Classes
DESCRIPTION:
URL:https://blackduckchamber.com/event/april-yoga-classes-4/
ATTACH;FMTTYPE=image/jpeg:https://blackduckchamber.com/wp-content/uploads/2023/04/image_6483441.jpg
END:VEVENT
BEGIN:VEVENT
DTSTART;TZID=America/Chicago:20230426T160000
DTEND;TZID=America/Chicago:20230426T173000
DTSTAMP:20260420T234822
CREATED:20230321T233929Z
LAST-MODIFIED:20230321T233929Z
UID:661-1682524800-1682530200@blackduckchamber.com
SUMMARY:STAYING SAFE AT HOME CLASS
DESCRIPTION:
URL:https://blackduckchamber.com/event/staying-safe-at-home-class-2/
ATTACH;FMTTYPE=image/png:https://blackduckchamber.com/wp-content/uploads/2023/03/Blue-Babysitting-Flyer-1.png
END:VEVENT
BEGIN:VEVENT
DTSTART;TZID=America/Chicago:20230423T110000
DTEND;TZID=America/Chicago:20230423T130000
DTSTAMP:20260420T234822
CREATED:20230330T235124Z
LAST-MODIFIED:20230330T235206Z
UID:672-1682247600-1682254800@blackduckchamber.com
SUMMARY:15th Annual Blackduck Firemen's Walleye Fry
DESCRIPTION:
URL:https://blackduckchamber.com/event/15th-annual-blackduck-firemens-walleye-fry/
ATTACH;FMTTYPE=image/jpeg:https://blackduckchamber.com/wp-content/uploads/2023/03/157477_blackduck.fire_.relief_walleye.fry_poster-scaled.jpg
END:VEVENT
BEGIN:VEVENT
DTSTART;TZID=America/Chicago:20230419T163000
DTEND;TZID=America/Chicago:20230419T171500
DTSTAMP:20260420T234822
CREATED:20230402T014855Z
LAST-MODIFIED:20230402T014855Z
UID:680-1681921800-1681924500@blackduckchamber.com
SUMMARY:April Yoga Classes
DESCRIPTION:
URL:https://blackduckchamber.com/event/april-yoga-classes-3/
ATTACH;FMTTYPE=image/jpeg:https://blackduckchamber.com/wp-content/uploads/2023/04/image_6483441.jpg
END:VEVENT
BEGIN:VEVENT
DTSTART;TZID=America/Chicago:20230417T170000
DTEND;TZID=America/Chicago:20230417T180000
DTSTAMP:20260420T234822
CREATED:20220925T203039Z
LAST-MODIFIED:20220925T203039Z
UID:434-1681750800-1681754400@blackduckchamber.com
SUMMARY:Community Free Meal
DESCRIPTION:Come enjoy good food\, food friends\, and good fellowship every second and third Monday of the month.
URL:https://blackduckchamber.com/event/community-free-meal-14/
ATTACH;FMTTYPE=image/png:https://blackduckchamber.com/wp-content/uploads/2022/09/Community-free-meal.png
END:VEVENT
BEGIN:VEVENT
DTSTART;TZID=America/Chicago:20230416T130000
DTEND;TZID=America/Chicago:20230416T150000
DTSTAMP:20260420T234822
CREATED:20230403T031533Z
LAST-MODIFIED:20230403T031533Z
UID:685-1681650000-1681657200@blackduckchamber.com
SUMMARY:Chamber Bingo
DESCRIPTION:
URL:https://blackduckchamber.com/event/chamber-bingo/
CATEGORIES:The Pond
ATTACH;FMTTYPE=image/png:https://blackduckchamber.com/wp-content/uploads/2023/01/Blackduck-Chamber-Bingo-04-16-2023.png
END:VEVENT
BEGIN:VEVENT
DTSTART;TZID=America/Chicago:20230416T130000
DTEND;TZID=America/Chicago:20230416T130000
DTSTAMP:20260420T234822
CREATED:20230118T162830Z
LAST-MODIFIED:20230118T162830Z
UID:582-1681650000-1681650000@blackduckchamber.com
SUMMARY:Blackduck Chamber Bingo
DESCRIPTION:
URL:https://blackduckchamber.com/event/blackduck-chamber-bingo-2/
CATEGORIES:The Pond
END:VEVENT
BEGIN:VEVENT
DTSTART;TZID=America/Chicago:20230412T163000
DTEND;TZID=America/Chicago:20230412T171500
DTSTAMP:20260420T234822
CREATED:20230402T014816Z
LAST-MODIFIED:20230402T014816Z
UID:678-1681317000-1681319700@blackduckchamber.com
SUMMARY:April Yoga Classes
DESCRIPTION:
URL:https://blackduckchamber.com/event/april-yoga-classes-2/
ATTACH;FMTTYPE=image/jpeg:https://blackduckchamber.com/wp-content/uploads/2023/04/image_6483441.jpg
END:VEVENT
BEGIN:VEVENT
DTSTART;TZID=America/Chicago:20230412T160000
DTEND;TZID=America/Chicago:20230412T173000
DTSTAMP:20260420T234822
CREATED:20230321T233709Z
LAST-MODIFIED:20230321T233709Z
UID:658-1681315200-1681320600@blackduckchamber.com
SUMMARY:Staying Safe At Home Class
DESCRIPTION:
URL:https://blackduckchamber.com/event/staying-safe-at-home-class/
ATTACH;FMTTYPE=image/png:https://blackduckchamber.com/wp-content/uploads/2023/03/Blue-Babysitting-Flyer-1.png
END:VEVENT
BEGIN:VEVENT
DTSTART;TZID=America/Chicago:20230410T170000
DTEND;TZID=America/Chicago:20230410T180000
DTSTAMP:20260420T234822
CREATED:20220925T203003Z
LAST-MODIFIED:20220925T203003Z
UID:432-1681146000-1681149600@blackduckchamber.com
SUMMARY:Community Free Meal
DESCRIPTION:Come enjoy good food\, food friends\, and good fellowship every second and third Monday of the month.
URL:https://blackduckchamber.com/event/community-free-meal-13/
ATTACH;FMTTYPE=image/png:https://blackduckchamber.com/wp-content/uploads/2022/09/Community-free-meal.png
END:VEVENT
BEGIN:VEVENT
DTSTART;TZID=America/Chicago:20230405T163000
DTEND;TZID=America/Chicago:20230405T171400
DTSTAMP:20260420T234822
CREATED:20230402T014622Z
LAST-MODIFIED:20230402T014622Z
UID:675-1680712200-1680714840@blackduckchamber.com
SUMMARY:April Yoga Classes
DESCRIPTION:
URL:https://blackduckchamber.com/event/april-yoga-classes/
ATTACH;FMTTYPE=image/jpeg:https://blackduckchamber.com/wp-content/uploads/2023/04/image_6483441.jpg
END:VEVENT
BEGIN:VEVENT
DTSTART;TZID=America/Chicago:20230329T163000
DTEND;TZID=America/Chicago:20230329T171500
DTSTAMP:20260420T234822
CREATED:20230224T203638Z
LAST-MODIFIED:20230224T203654Z
UID:641-1680107400-1680110100@blackduckchamber.com
SUMMARY:March Yoga Classes With Maddi Oothoudt
DESCRIPTION:Where: Blackduck Elementary Room #31. Use door #11 \nWednesdays in March two times available 4:30 or 5:30
URL:https://blackduckchamber.com/event/march-yoga-classes-with-maddi-oothoudt-4/
ATTACH;FMTTYPE=image/png:https://blackduckchamber.com/wp-content/uploads/2023/02/Cream-Modern-International-Yoga-Day-Flyer-3-2.png
END:VEVENT
BEGIN:VEVENT
DTSTART;TZID=America/Chicago:20230325T100000
DTEND;TZID=America/Chicago:20230325T110000
DTSTAMP:20260420T234822
CREATED:20230224T202439Z
LAST-MODIFIED:20230224T202439Z
UID:631-1679738400-1679742000@blackduckchamber.com
SUMMARY:Community Ed Stenciled Banner Class
DESCRIPTION:Make a fun burlap banner/flag for  your entry way for yard \nWhere: Blackduck Highschool Commons. Enter through door #1
URL:https://blackduckchamber.com/event/community-ed-stenciled-banner-class/
ATTACH;FMTTYPE=image/jpeg:https://blackduckchamber.com/wp-content/uploads/2023/02/Blackduck-Community-Ed-burlap-3-25-23.jpg
END:VEVENT
END:VCALENDAR