BEGIN:VCALENDAR
VERSION:2.0
PRODID:-//Blackduck Chamber of Commerce - ECPv6.15.18//NONSGML v1.0//EN
CALSCALE:GREGORIAN
METHOD:PUBLISH
X-WR-CALNAME:Blackduck Chamber of Commerce
X-ORIGINAL-URL:https://blackduckchamber.com
X-WR-CALDESC:Events for Blackduck Chamber of Commerce
REFRESH-INTERVAL;VALUE=DURATION:PT1H
X-Robots-Tag:noindex
X-PUBLISHED-TTL:PT1H
BEGIN:VTIMEZONE
TZID:America/Chicago
BEGIN:DAYLIGHT
TZOFFSETFROM:-0600
TZOFFSETTO:-0500
TZNAME:CDT
DTSTART:20220313T080000
END:DAYLIGHT
BEGIN:STANDARD
TZOFFSETFROM:-0500
TZOFFSETTO:-0600
TZNAME:CST
DTSTART:20221106T070000
END:STANDARD
BEGIN:DAYLIGHT
TZOFFSETFROM:-0600
TZOFFSETTO:-0500
TZNAME:CDT
DTSTART:20230312T080000
END:DAYLIGHT
BEGIN:STANDARD
TZOFFSETFROM:-0500
TZOFFSETTO:-0600
TZNAME:CST
DTSTART:20231105T070000
END:STANDARD
BEGIN:DAYLIGHT
TZOFFSETFROM:-0600
TZOFFSETTO:-0500
TZNAME:CDT
DTSTART:20240310T080000
END:DAYLIGHT
BEGIN:STANDARD
TZOFFSETFROM:-0500
TZOFFSETTO:-0600
TZNAME:CST
DTSTART:20241103T070000
END:STANDARD
BEGIN:DAYLIGHT
TZOFFSETFROM:-0600
TZOFFSETTO:-0500
TZNAME:CDT
DTSTART:20250309T080000
END:DAYLIGHT
BEGIN:STANDARD
TZOFFSETFROM:-0500
TZOFFSETTO:-0600
TZNAME:CST
DTSTART:20251102T070000
END:STANDARD
END:VTIMEZONE
BEGIN:VEVENT
DTSTART;TZID=America/Chicago:20240306T140000
DTEND;TZID=America/Chicago:20240306T160000
DTSTAMP:20260420T235356
CREATED:20231129T160940Z
LAST-MODIFIED:20231129T160940Z
UID:857-1709733600-1709740800@blackduckchamber.com
SUMMARY:Job and Career Fair
DESCRIPTION:explore future career paths\, find a summer job\, and fill out applications. \n  \nWhere: 156 1St. NE\, Blackduck
URL:https://blackduckchamber.com/event/job-and-career-fair/
ATTACH;FMTTYPE=application/pdf:https://blackduckchamber.com/wp-content/uploads/2023/11/Save-the-Date.pdf
END:VEVENT
BEGIN:VEVENT
DTSTART;TZID=America/Chicago:20240303T130000
DTEND;TZID=America/Chicago:20240303T150000
DTSTAMP:20260420T235356
CREATED:20240304T050243Z
LAST-MODIFIED:20240304T050243Z
UID:949-1709470800-1709478000@blackduckchamber.com
SUMMARY:Senior Center Cards
DESCRIPTION:Every Wednesday
URL:https://blackduckchamber.com/event/senior-center-cards-20/
CATEGORIES:Blackduck Senior Center
ATTACH;FMTTYPE=image/jpeg:https://blackduckchamber.com/wp-content/uploads/2023/09/download-1.jpg
END:VEVENT
BEGIN:VEVENT
DTSTART;TZID=America/Chicago:20240229T130000
DTEND;TZID=America/Chicago:20240229T150000
DTSTAMP:20260420T235356
CREATED:20240205T155159Z
LAST-MODIFIED:20240205T155159Z
UID:921-1709211600-1709218800@blackduckchamber.com
SUMMARY:Senior Center Bingo
DESCRIPTION:Every Thursday
URL:https://blackduckchamber.com/event/senior-center-bingo-18/
CATEGORIES:Blackduck Senior Center
ATTACH;FMTTYPE=image/jpeg:https://blackduckchamber.com/wp-content/uploads/2023/09/images.jpg
END:VEVENT
BEGIN:VEVENT
DTSTART;TZID=America/Chicago:20240228T130000
DTEND;TZID=America/Chicago:20240228T150000
DTSTAMP:20260420T235356
CREATED:20240205T154541Z
LAST-MODIFIED:20240205T154541Z
UID:913-1709125200-1709132400@blackduckchamber.com
SUMMARY:Senior Center Cards
DESCRIPTION:Every Wednesday
URL:https://blackduckchamber.com/event/senior-center-cards-17/
CATEGORIES:Blackduck Senior Center
ATTACH;FMTTYPE=image/jpeg:https://blackduckchamber.com/wp-content/uploads/2023/09/download-1.jpg
END:VEVENT
BEGIN:VEVENT
DTSTART;TZID=America/Chicago:20240222T130000
DTEND;TZID=America/Chicago:20240222T150000
DTSTAMP:20260420T235356
CREATED:20240205T155119Z
LAST-MODIFIED:20240205T155119Z
UID:919-1708606800-1708614000@blackduckchamber.com
SUMMARY:Senior Center Bingo
DESCRIPTION:Every Thursday
URL:https://blackduckchamber.com/event/senior-center-bingo-17/
CATEGORIES:Blackduck Senior Center
ATTACH;FMTTYPE=image/jpeg:https://blackduckchamber.com/wp-content/uploads/2023/09/images.jpg
END:VEVENT
BEGIN:VEVENT
DTSTART;TZID=America/Chicago:20240221T130000
DTEND;TZID=America/Chicago:20240221T150000
DTSTAMP:20260420T235356
CREATED:20240205T154353Z
LAST-MODIFIED:20240205T154435Z
UID:910-1708520400-1708527600@blackduckchamber.com
SUMMARY:Senior Center Cards
DESCRIPTION:Every Wednesday
URL:https://blackduckchamber.com/event/senior-center-cards-16/
CATEGORIES:Blackduck Senior Center
ATTACH;FMTTYPE=image/jpeg:https://blackduckchamber.com/wp-content/uploads/2023/09/download-1.jpg
END:VEVENT
BEGIN:VEVENT
DTSTART;TZID=America/Chicago:20240218T130000
DTEND;TZID=America/Chicago:20240218T160000
DTSTAMP:20260420T235356
CREATED:20240215T040621Z
LAST-MODIFIED:20240215T040621Z
UID:927-1708261200-1708272000@blackduckchamber.com
SUMMARY:Chamber Bingo
DESCRIPTION:Single cards and Packs will be available. \nEveryone Welcome
URL:https://blackduckchamber.com/event/chamber-bingo-2/
CATEGORIES:The Pond
ATTACH;FMTTYPE=image/png:https://blackduckchamber.com/wp-content/uploads/2024/02/Chamber.png
END:VEVENT
BEGIN:VEVENT
DTSTART;TZID=America/Chicago:20240215T130000
DTEND;TZID=America/Chicago:20240215T153000
DTSTAMP:20260420T235356
CREATED:20240205T154921Z
LAST-MODIFIED:20240205T154921Z
UID:917-1708002000-1708011000@blackduckchamber.com
SUMMARY:Senior Center Bingo
DESCRIPTION:Every Thursday
URL:https://blackduckchamber.com/event/senior-center-bingo-16/
CATEGORIES:Blackduck Senior Center
ATTACH;FMTTYPE=image/jpeg:https://blackduckchamber.com/wp-content/uploads/2023/09/images.jpg
END:VEVENT
BEGIN:VEVENT
DTSTART;TZID=America/Chicago:20240214T130000
DTEND;TZID=America/Chicago:20240214T150000
DTSTAMP:20260420T235356
CREATED:20240205T154107Z
LAST-MODIFIED:20240205T154107Z
UID:908-1707915600-1707922800@blackduckchamber.com
SUMMARY:Senior Center Cards
DESCRIPTION:Every Wednesday
URL:https://blackduckchamber.com/event/senior-center-cards-15/
CATEGORIES:Blackduck Senior Center
ATTACH;FMTTYPE=image/jpeg:https://blackduckchamber.com/wp-content/uploads/2023/09/download-1.jpg
END:VEVENT
BEGIN:VEVENT
DTSTART;TZID=America/Chicago:20240208T130000
DTEND;TZID=America/Chicago:20240208T150000
DTSTAMP:20260420T235356
CREATED:20240205T154829Z
LAST-MODIFIED:20240205T154829Z
UID:915-1707397200-1707404400@blackduckchamber.com
SUMMARY:Senior Center Bingo
DESCRIPTION:Every Thursday
URL:https://blackduckchamber.com/event/senior-center-bingo-15/
ATTACH;FMTTYPE=image/jpeg:https://blackduckchamber.com/wp-content/uploads/2023/09/images.jpg
END:VEVENT
BEGIN:VEVENT
DTSTART;TZID=America/Chicago:20240207T130000
DTEND;TZID=America/Chicago:20240207T150000
DTSTAMP:20260420T235356
CREATED:20240102T042940Z
LAST-MODIFIED:20240102T042940Z
UID:878-1707310800-1707318000@blackduckchamber.com
SUMMARY:Senior Center Cards
DESCRIPTION:Every Wednesday
URL:https://blackduckchamber.com/event/senior-center-cards-14/
CATEGORIES:Blackduck Senior Center
ATTACH;FMTTYPE=image/jpeg:https://blackduckchamber.com/wp-content/uploads/2023/09/download-1.jpg
END:VEVENT
BEGIN:VEVENT
DTSTART;TZID=America/Chicago:20240201T130000
DTEND;TZID=America/Chicago:20240201T153000
DTSTAMP:20260420T235356
CREATED:20240102T043900Z
LAST-MODIFIED:20240102T043900Z
UID:890-1706792400-1706801400@blackduckchamber.com
SUMMARY:Senior Center Bingo
DESCRIPTION:Every Thursday
URL:https://blackduckchamber.com/event/senior-center-bingo-14/
CATEGORIES:Blackduck Senior Center
ATTACH;FMTTYPE=image/jpeg:https://blackduckchamber.com/wp-content/uploads/2023/09/images.jpg
END:VEVENT
BEGIN:VEVENT
DTSTART;TZID=America/Chicago:20240131T130000
DTEND;TZID=America/Chicago:20240131T150000
DTSTAMP:20260420T235356
CREATED:20240102T042609Z
LAST-MODIFIED:20240102T042609Z
UID:874-1706706000-1706713200@blackduckchamber.com
SUMMARY:Senior Center Cards
DESCRIPTION:Every Wednesday
URL:https://blackduckchamber.com/event/senior-center-cards-12/
CATEGORIES:Blackduck Senior Center
END:VEVENT
BEGIN:VEVENT
DTSTART;TZID=America/Chicago:20240125T130000
DTEND;TZID=America/Chicago:20240125T153000
DTSTAMP:20260420T235356
CREATED:20240102T043525Z
LAST-MODIFIED:20240102T043525Z
UID:888-1706187600-1706196600@blackduckchamber.com
SUMMARY:Senior Center Bingo
DESCRIPTION:Every Thursday
URL:https://blackduckchamber.com/event/senior-center-bingo-13/
CATEGORIES:Blackduck Senior Center
ATTACH;FMTTYPE=image/jpeg:https://blackduckchamber.com/wp-content/uploads/2023/09/images.jpg
END:VEVENT
BEGIN:VEVENT
DTSTART;TZID=America/Chicago:20240124T130000
DTEND;TZID=America/Chicago:20240124T150000
DTSTAMP:20260420T235356
CREATED:20240102T042540Z
LAST-MODIFIED:20240102T042707Z
UID:872-1706101200-1706108400@blackduckchamber.com
SUMMARY:Senior Center Cards
DESCRIPTION:Every Wednesday
URL:https://blackduckchamber.com/event/senior-center-cards-11/
CATEGORIES:Blackduck Senior Center
ATTACH;FMTTYPE=image/jpeg:https://blackduckchamber.com/wp-content/uploads/2023/09/download-1.jpg
END:VEVENT
BEGIN:VEVENT
DTSTART;TZID=America/Chicago:20240118T130000
DTEND;TZID=America/Chicago:20240118T153000
DTSTAMP:20260420T235356
CREATED:20240102T043423Z
LAST-MODIFIED:20240102T043423Z
UID:886-1705582800-1705591800@blackduckchamber.com
SUMMARY:Senior Center Bingo
DESCRIPTION:Every Thursday
URL:https://blackduckchamber.com/event/senior-center-bingo-12/
CATEGORIES:Blackduck Senior Center
ATTACH;FMTTYPE=image/jpeg:https://blackduckchamber.com/wp-content/uploads/2023/09/images.jpg
END:VEVENT
BEGIN:VEVENT
DTSTART;TZID=America/Chicago:20240117T130000
DTEND;TZID=America/Chicago:20240117T150000
DTSTAMP:20260420T235356
CREATED:20240102T042509Z
LAST-MODIFIED:20240102T042730Z
UID:870-1705496400-1705503600@blackduckchamber.com
SUMMARY:Senior Center Cards
DESCRIPTION:Every Wednesday
URL:https://blackduckchamber.com/event/senior-center-cards-10/
CATEGORIES:Blackduck Senior Center
ATTACH;FMTTYPE=image/jpeg:https://blackduckchamber.com/wp-content/uploads/2023/09/download-1.jpg
END:VEVENT
BEGIN:VEVENT
DTSTART;TZID=America/Chicago:20240111T130000
DTEND;TZID=America/Chicago:20240111T153000
DTSTAMP:20260420T235356
CREATED:20240102T043342Z
LAST-MODIFIED:20240102T043342Z
UID:884-1704978000-1704987000@blackduckchamber.com
SUMMARY:Senior Center Bingo
DESCRIPTION:Every Thursday
URL:https://blackduckchamber.com/event/senior-center-bingo-11/
CATEGORIES:Blackduck Senior Center
ATTACH;FMTTYPE=image/jpeg:https://blackduckchamber.com/wp-content/uploads/2023/09/images.jpg
END:VEVENT
BEGIN:VEVENT
DTSTART;TZID=America/Chicago:20240111T130000
DTEND;TZID=America/Chicago:20240111T153000
DTSTAMP:20260420T235356
CREATED:20240102T043247Z
LAST-MODIFIED:20240102T043247Z
UID:882-1704978000-1704987000@blackduckchamber.com
SUMMARY:Senior Center Bingo
DESCRIPTION:Every Thursday
URL:https://blackduckchamber.com/event/senior-center-bingo-10/
CATEGORIES:Blackduck Senior Center
ATTACH;FMTTYPE=image/jpeg:https://blackduckchamber.com/wp-content/uploads/2023/09/images.jpg
END:VEVENT
BEGIN:VEVENT
DTSTART;TZID=America/Chicago:20240110T130000
DTEND;TZID=America/Chicago:20240110T150000
DTSTAMP:20260420T235356
CREATED:20240102T042426Z
LAST-MODIFIED:20240102T042757Z
UID:868-1704891600-1704898800@blackduckchamber.com
SUMMARY:Senior Center Cards
DESCRIPTION:Every Wednesday
URL:https://blackduckchamber.com/event/senior-center-cards-9/
CATEGORIES:Blackduck Senior Center
ATTACH;FMTTYPE=image/jpeg:https://blackduckchamber.com/wp-content/uploads/2023/09/download-1.jpg
END:VEVENT
BEGIN:VEVENT
DTSTART;TZID=America/Chicago:20240104T130000
DTEND;TZID=America/Chicago:20240104T153000
DTSTAMP:20260420T235356
CREATED:20240102T043204Z
LAST-MODIFIED:20240102T043204Z
UID:880-1704373200-1704382200@blackduckchamber.com
SUMMARY:Senior Center Bingo
DESCRIPTION:Every Thursday
URL:https://blackduckchamber.com/event/senior-center-bingo-9/
CATEGORIES:Blackduck Senior Center
ATTACH;FMTTYPE=image/jpeg:https://blackduckchamber.com/wp-content/uploads/2023/09/images.jpg
END:VEVENT
BEGIN:VEVENT
DTSTART;TZID=America/Chicago:20240103T130000
DTEND;TZID=America/Chicago:20240103T150000
DTSTAMP:20260420T235356
CREATED:20240102T042352Z
LAST-MODIFIED:20240102T042820Z
UID:866-1704286800-1704294000@blackduckchamber.com
SUMMARY:Senior Center Cards
DESCRIPTION:Every Wednesday
URL:https://blackduckchamber.com/event/senior-center-cards-8/
CATEGORIES:Blackduck Senior Center
ATTACH;FMTTYPE=image/jpeg:https://blackduckchamber.com/wp-content/uploads/2023/09/download-1.jpg
END:VEVENT
BEGIN:VEVENT
DTSTART;TZID=America/Chicago:20240101T080000
DTEND;TZID=America/Chicago:20240101T170000
DTSTAMP:20260420T235356
CREATED:20240102T042644Z
LAST-MODIFIED:20240102T042644Z
UID:876-1704096000-1704128400@blackduckchamber.com
SUMMARY:Senior Center Cards
DESCRIPTION:Every Wednesday
URL:https://blackduckchamber.com/event/senior-center-cards-13/
CATEGORIES:Blackduck Senior Center
ATTACH;FMTTYPE=image/jpeg:https://blackduckchamber.com/wp-content/uploads/2023/09/download-1.jpg
END:VEVENT
BEGIN:VEVENT
DTSTART;TZID=America/Chicago:20231211T103000
DTEND;TZID=America/Chicago:20231211T120000
DTSTAMP:20260420T235356
CREATED:20231207T222313Z
LAST-MODIFIED:20231207T222313Z
UID:861-1702290600-1702296000@blackduckchamber.com
SUMMARY:TOPS (Take off Pounds Sensibly)
DESCRIPTION:TOPS is a weight loss program that teaches you to eat healthy\, well-balanced\, portion-controlled meals\, drink water\, and daily exercise. Join us and enjoy the encouragement from fellow members.  Everyone welcome! \nWhere: Blackduck Evangelical Free Church\n\n             241 Oscar Avenue SW – Blackduck\n 
URL:https://blackduckchamber.com/event/tops-take-off-pounds-sensibly/
ATTACH;FMTTYPE=image/png:https://blackduckchamber.com/wp-content/uploads/2023/12/Untitled-design-5-e1701987625934.png
END:VEVENT
BEGIN:VEVENT
DTSTART;TZID=America/Chicago:20231209T090000
DTEND;TZID=America/Chicago:20231209T130000
DTSTAMP:20260420T235356
CREATED:20231121T165858Z
LAST-MODIFIED:20231121T165858Z
UID:852-1702112400-1702126800@blackduckchamber.com
SUMMARY:Cookies by the Pound
DESCRIPTION:The Blackduck Area History and Art Center is hosting their annual Cookies by the Pound fundraiser
URL:https://blackduckchamber.com/event/cookies-by-the-pound/
ATTACH;FMTTYPE=image/jpeg:https://blackduckchamber.com/wp-content/uploads/2023/11/Cookies-2023.jpg
END:VEVENT
BEGIN:VEVENT
DTSTART;TZID=America/Chicago:20231201T090000
DTEND;TZID=America/Chicago:20231201T130000
DTSTAMP:20260420T235356
CREATED:20231121T165635Z
LAST-MODIFIED:20231121T165635Z
UID:850-1701421200-1701435600@blackduckchamber.com
SUMMARY:Omelet Brunch & Craft Sale
DESCRIPTION:Build your omelet with selected ingredients and cheer the Chefs on as they cook your omelet.\n\nCheck out baked goodies for the holidays and shop for hand made crafts by our members.\n\nDrawing for a beautiful King Size hand-made quilt will be at noon\n\nTickets $1.00
URL:https://blackduckchamber.com/event/omelet-brunch-craft-sale/
CATEGORIES:Blackduck Senior Center
ATTACH;FMTTYPE=image/jpeg:https://blackduckchamber.com/wp-content/uploads/2022/11/E60115D2-C5C0-4818-96FC-9B356B738606.jpeg
END:VEVENT
BEGIN:VEVENT
DTSTART;TZID=America/Chicago:20231111T090000
DTEND;TZID=America/Chicago:20231111T150000
DTSTAMP:20260420T235356
CREATED:20231103T210836Z
LAST-MODIFIED:20231103T210836Z
UID:846-1699693200-1699714800@blackduckchamber.com
SUMMARY:Senior Center White Elephant and Craft Sale
DESCRIPTION:Where: Blackduck Senior Center \n24 First Avenue SE  Blackduck MN
URL:https://blackduckchamber.com/event/senior-center-white-elephant-and-craft-sale/
CATEGORIES:Blackduck Senior Center
ATTACH;FMTTYPE=image/webp:https://blackduckchamber.com/wp-content/uploads/2023/11/gf00914a01c_5.webp
END:VEVENT
BEGIN:VEVENT
DTSTART;TZID=America/Chicago:20231111T090000
DTEND;TZID=America/Chicago:20231111T150000
DTSTAMP:20260420T235356
CREATED:20231006T130947Z
LAST-MODIFIED:20231006T130947Z
UID:824-1699693200-1699714800@blackduckchamber.com
SUMMARY:Community Ed Holiday Craft and Vendor Show
DESCRIPTION:Where: Blackduck High School\, both gyms and Hallways \nFree Admission \n**ONE OF THE LARGEST CRAFT/VENDOR SHOWS IN THE AREA** \nSERVING CARAMEL/CINNAMON ROLLS/DONUTS \nWILD RICE SOUP LUNCHEON W/BARS &amp; COOKIES \n12’x 10’ SPACES ARE $25 \n8’ TABLES AVAILABLE TO RENT FOR $10/EACH \nDOOR PRIZES \nHEROES RISE COFFEE TRUCK WILL BE HERE! \nTWO GYMS &amp; HALLWAYS FILLED WITH VENDORS \nCRAFTS/BAKED GOODS/JAMS/CANNED GOODS/CANDIES/MUCH MORE!\nBRING A FRIEND &amp; ENJOY A FUN DAY! PURCHASE OR ORDER YOUR HOLIDAY WREATHS/SWAGS \nFOR MORE INFORMATION CONTACT:\nTAMMY VERNLUND\nPH: 218-835-5202\nEMAIL: tvernlun@blackduck.k12.mn.us
URL:https://blackduckchamber.com/event/community-ed-holiday-craft-and-vendor-show/
ATTACH;FMTTYPE=image/jpeg:https://blackduckchamber.com/wp-content/uploads/2022/11/68E38E20-3829-45BE-AFFB-659B6BD72F3D.jpeg
END:VEVENT
BEGIN:VEVENT
DTSTART;TZID=America/Chicago:20231108T130000
DTEND;TZID=America/Chicago:20231108T150000
DTSTAMP:20260420T235356
CREATED:20230926T175438Z
LAST-MODIFIED:20230926T175438Z
UID:807-1699448400-1699455600@blackduckchamber.com
SUMMARY:Senior Center Cards
DESCRIPTION:Every Wednesday
URL:https://blackduckchamber.com/event/senior-center-cards-7/
CATEGORIES:Blackduck Senior Center
ATTACH;FMTTYPE=image/jpeg:https://blackduckchamber.com/wp-content/uploads/2023/09/download-1.jpg
END:VEVENT
BEGIN:VEVENT
DTSTART;TZID=America/Chicago:20231102T130000
DTEND;TZID=America/Chicago:20231102T153000
DTSTAMP:20260420T235356
CREATED:20230926T175853Z
LAST-MODIFIED:20230926T175853Z
UID:815-1698930000-1698939000@blackduckchamber.com
SUMMARY:Senior Center Bingo
DESCRIPTION:Every Thursday
URL:https://blackduckchamber.com/event/senior-center-bingo-8/
CATEGORIES:Blackduck Senior Center
ATTACH;FMTTYPE=image/jpeg:https://blackduckchamber.com/wp-content/uploads/2023/09/images.jpg
END:VEVENT
END:VCALENDAR