BEGIN:VCALENDAR
VERSION:2.0
PRODID:-//Blackduck Chamber of Commerce - ECPv6.15.18//NONSGML v1.0//EN
CALSCALE:GREGORIAN
METHOD:PUBLISH
X-WR-CALNAME:Blackduck Chamber of Commerce
X-ORIGINAL-URL:https://blackduckchamber.com
X-WR-CALDESC:Events for Blackduck Chamber of Commerce
REFRESH-INTERVAL;VALUE=DURATION:PT1H
X-Robots-Tag:noindex
X-PUBLISHED-TTL:PT1H
BEGIN:VTIMEZONE
TZID:America/Chicago
BEGIN:DAYLIGHT
TZOFFSETFROM:-0600
TZOFFSETTO:-0500
TZNAME:CDT
DTSTART:20250309T080000
END:DAYLIGHT
BEGIN:STANDARD
TZOFFSETFROM:-0500
TZOFFSETTO:-0600
TZNAME:CST
DTSTART:20251102T070000
END:STANDARD
BEGIN:DAYLIGHT
TZOFFSETFROM:-0600
TZOFFSETTO:-0500
TZNAME:CDT
DTSTART:20260308T080000
END:DAYLIGHT
BEGIN:STANDARD
TZOFFSETFROM:-0500
TZOFFSETTO:-0600
TZNAME:CST
DTSTART:20261101T070000
END:STANDARD
BEGIN:DAYLIGHT
TZOFFSETFROM:-0600
TZOFFSETTO:-0500
TZNAME:CDT
DTSTART:20270314T080000
END:DAYLIGHT
BEGIN:STANDARD
TZOFFSETFROM:-0500
TZOFFSETTO:-0600
TZNAME:CST
DTSTART:20271107T070000
END:STANDARD
END:VTIMEZONE
BEGIN:VEVENT
DTSTART;TZID=America/Chicago:20260414T160000
DTEND;TZID=America/Chicago:20260414T190000
DTSTAMP:20260419T154320
CREATED:20260408T185930Z
LAST-MODIFIED:20260408T190013Z
UID:1726-1776182400-1776193200@blackduckchamber.com
SUMMARY:NKB Bulldogs Track - Park Rapids
DESCRIPTION:Varsity Track Meet in Park Rapids
URL:https://blackduckchamber.com/event/nkb-bulldogs-track-walker/
CATEGORIES:Blackduck School
END:VEVENT
BEGIN:VEVENT
DTSTART;TZID=America/Chicago:20260415T080000
DTEND;TZID=America/Chicago:20260415T170000
DTSTAMP:20260419T154320
CREATED:20260415T194617Z
LAST-MODIFIED:20260415T194617Z
UID:1767-1776240000-1776272400@blackduckchamber.com
SUMMARY:Drakes Baseball @ Win E Mac
DESCRIPTION:Drakes Baseball vs. Win E Mac \nAWAY
URL:https://blackduckchamber.com/event/drakes-baseball-win-e-mac/
CATEGORIES:Blackduck School
END:VEVENT
BEGIN:VEVENT
DTSTART;TZID=America/Chicago:20260415T130000
DTEND;TZID=America/Chicago:20260415T160000
DTSTAMP:20260419T154320
CREATED:20260316T204024Z
LAST-MODIFIED:20260316T204024Z
UID:1616-1776258000-1776268800@blackduckchamber.com
SUMMARY:Cards at the Senior Center
DESCRIPTION:Every Wednesday! \nEveryone Welcome!!
URL:https://blackduckchamber.com/event/cards-at-the-senior-center-4/
LOCATION:Blackduck Senior Citizens Center\, 24 1st St SE\, Blackduck\, MN\, 56630\, United States
CATEGORIES:Blackduck Senior Center
END:VEVENT
BEGIN:VEVENT
DTSTART;TZID=America/Chicago:20260415T150000
DTEND;TZID=America/Chicago:20260415T163000
DTSTAMP:20260419T154320
CREATED:20260121T180746Z
LAST-MODIFIED:20260121T180746Z
UID:1563-1776265200-1776270600@blackduckchamber.com
SUMMARY:Chamber Meeting
DESCRIPTION:Chamber Meeting at Choice Therapy – Blackduck
URL:https://blackduckchamber.com/event/chamber-meeting-4/
LOCATION:Choice Therapy\, 50 Margaret Ave\, Blackduck\, MN\, 56630\, United States
CATEGORIES:Choice Therapy,Meeting
END:VEVENT
BEGIN:VEVENT
DTSTART;TZID=America/Chicago:20260416T130000
DTEND;TZID=America/Chicago:20260416T150000
DTSTAMP:20260419T154320
CREATED:20260316T204353Z
LAST-MODIFIED:20260316T204353Z
UID:1620-1776344400-1776351600@blackduckchamber.com
SUMMARY:BINGO at the Senior Center
DESCRIPTION:Every Thursday! \nEveryone Welcome!!
URL:https://blackduckchamber.com/event/bingo-at-the-senior-center-4/
LOCATION:Blackduck Senior Citizens Center\, 24 1st St SE\, Blackduck\, MN\, 56630\, United States
CATEGORIES:Blackduck Senior Center
END:VEVENT
BEGIN:VEVENT
DTSTART;TZID=America/Chicago:20260416T160000
DTEND;TZID=America/Chicago:20260416T190000
DTSTAMP:20260419T154320
CREATED:20260415T193833Z
LAST-MODIFIED:20260415T193833Z
UID:1757-1776355200-1776366000@blackduckchamber.com
SUMMARY:Drakes Softball
DESCRIPTION:Drakes Softball vs. Hibbing \nAWAY
URL:https://blackduckchamber.com/event/drakes-softball/
CATEGORIES:Blackduck School
END:VEVENT
BEGIN:VEVENT
DTSTART;TZID=America/Chicago:20260416T163000
DTEND;TZID=America/Chicago:20260416T190000
DTSTAMP:20260419T154320
CREATED:20260415T193659Z
LAST-MODIFIED:20260415T193659Z
UID:1755-1776357000-1776366000@blackduckchamber.com
SUMMARY:Drakes Baseball
DESCRIPTION:Drakes Baseball vs. Clearbrook-Gonvick \nHOME
URL:https://blackduckchamber.com/event/drakes-baseball/
LOCATION:Blackduck Public Schools\, 156 1st St NE\, Blackduck\, MN\, 56630\, United States
CATEGORIES:Blackduck School
END:VEVENT
BEGIN:VEVENT
DTSTART;TZID=America/Chicago:20260419T130000
DTEND;TZID=America/Chicago:20260419T160000
DTSTAMP:20260419T154320
CREATED:20260318T192423Z
LAST-MODIFIED:20260318T192423Z
UID:1667-1776603600-1776614400@blackduckchamber.com
SUMMARY:Chamber BINGO
DESCRIPTION:
URL:https://blackduckchamber.com/event/chamber-bingo-10/
LOCATION:The Pond\, 224 Frontage Rd\, Blackduck\, MN\, 56630\, United States
CATEGORIES:The Pond
END:VEVENT
BEGIN:VEVENT
DTSTART;TZID=America/Chicago:20260420T163000
DTEND;TZID=America/Chicago:20260420T190000
DTSTAMP:20260419T154320
CREATED:20260415T194153Z
LAST-MODIFIED:20260415T194153Z
UID:1759-1776702600-1776711600@blackduckchamber.com
SUMMARY:Drakes Baseball @ Home
DESCRIPTION:Drakes Baseball vs. Pine River – Backus \nHOME
URL:https://blackduckchamber.com/event/drakes-baseball-home/
LOCATION:Blackduck Public Schools\, 156 1st St NE\, Blackduck\, MN\, 56630\, United States
CATEGORIES:Blackduck School
END:VEVENT
BEGIN:VEVENT
DTSTART;TZID=America/Chicago:20260420T163000
DTEND;TZID=America/Chicago:20260420T190000
DTSTAMP:20260419T154320
CREATED:20260415T194309Z
LAST-MODIFIED:20260415T194309Z
UID:1761-1776702600-1776711600@blackduckchamber.com
SUMMARY:Drakes Softball @ Pine River
DESCRIPTION:Drakes Softball vs. Pine River – Backus \nAWAY
URL:https://blackduckchamber.com/event/drakes-softball-pine-river/
CATEGORIES:Blackduck School
END:VEVENT
BEGIN:VEVENT
DTSTART;TZID=America/Chicago:20260421T160000
DTEND;TZID=America/Chicago:20260421T190000
DTSTAMP:20260419T154320
CREATED:20260408T190348Z
LAST-MODIFIED:20260408T190348Z
UID:1731-1776787200-1776798000@blackduckchamber.com
SUMMARY:NKB Bulldogs Track - Northome
DESCRIPTION:Junior High Track Meet – Grades 6-8 in Northome
URL:https://blackduckchamber.com/event/nkb-bulldogs-track-northome/
CATEGORIES:Blackduck School
END:VEVENT
BEGIN:VEVENT
DTSTART;TZID=America/Chicago:20260421T163000
DTEND;TZID=America/Chicago:20260421T190000
DTSTAMP:20260419T154320
CREATED:20260415T194418Z
LAST-MODIFIED:20260415T194418Z
UID:1763-1776789000-1776798000@blackduckchamber.com
SUMMARY:Drakes Baseball @ Home
DESCRIPTION:Drakes Baseball vs. Nevis \nHOME
URL:https://blackduckchamber.com/event/drakes-baseball-home-2/
LOCATION:Blackduck Public Schools\, 156 1st St NE\, Blackduck\, MN\, 56630\, United States
CATEGORIES:Blackduck School
END:VEVENT
BEGIN:VEVENT
DTSTART;TZID=America/Chicago:20260421T163000
DTEND;TZID=America/Chicago:20260421T190000
DTSTAMP:20260419T154320
CREATED:20260415T194518Z
LAST-MODIFIED:20260415T194518Z
UID:1765-1776789000-1776798000@blackduckchamber.com
SUMMARY:Drakes Softball @ Nevis
DESCRIPTION:Drakes Softball vs. Nevis \nAWAY
URL:https://blackduckchamber.com/event/drakes-softball-nevis/
CATEGORIES:Blackduck School
END:VEVENT
BEGIN:VEVENT
DTSTART;TZID=America/Chicago:20260422T130000
DTEND;TZID=America/Chicago:20260422T160000
DTSTAMP:20260419T154320
CREATED:20260408T164857Z
LAST-MODIFIED:20260408T164857Z
UID:1683-1776862800-1776873600@blackduckchamber.com
SUMMARY:Cards at the Senior Center
DESCRIPTION:Every Wednesday! Everyone Welcome!
URL:https://blackduckchamber.com/event/cards-at-the-senior-center-5/
LOCATION:Blackduck Senior Citizens Center\, 24 1st St SE\, Blackduck\, MN\, 56630\, United States
CATEGORIES:Blackduck Senior Center
END:VEVENT
BEGIN:VEVENT
DTSTART;TZID=America/Chicago:20260423T130000
DTEND;TZID=America/Chicago:20260423T150000
DTSTAMP:20260419T154320
CREATED:20260408T165733Z
LAST-MODIFIED:20260408T165733Z
UID:1696-1776949200-1776956400@blackduckchamber.com
SUMMARY:BINGO at the Senior Center
DESCRIPTION:Every Thursday! Everyone Welcome!
URL:https://blackduckchamber.com/event/bingo-at-the-senior-center-5/
LOCATION:Blackduck Senior Citizens Center\, 24 1st St SE\, Blackduck\, MN\, 56630\, United States
CATEGORIES:Blackduck Senior Center
END:VEVENT
BEGIN:VEVENT
DTSTART;TZID=America/Chicago:20260423T163000
DTEND;TZID=America/Chicago:20260423T190000
DTSTAMP:20260419T154320
CREATED:20260415T194727Z
LAST-MODIFIED:20260415T194727Z
UID:1769-1776961800-1776970800@blackduckchamber.com
SUMMARY:Drakes Softball @ Home
DESCRIPTION:Drakes Softball vs. Greenway \nHOME
URL:https://blackduckchamber.com/event/drakes-softball-home/
LOCATION:Blackduck Public Schools\, 156 1st St NE\, Blackduck\, MN\, 56630\, United States
CATEGORIES:Blackduck School
END:VEVENT
BEGIN:VEVENT
DTSTART;TZID=America/Chicago:20260424T160000
DTEND;TZID=America/Chicago:20260424T190000
DTSTAMP:20260419T154320
CREATED:20260408T190509Z
LAST-MODIFIED:20260408T190509Z
UID:1733-1777046400-1777057200@blackduckchamber.com
SUMMARY:NKB Bulldogs Track - Bagley
DESCRIPTION:Varsity Track Meet in Bagley
URL:https://blackduckchamber.com/event/nkb-bulldogs-track-bagley/
CATEGORIES:Blackduck School
END:VEVENT
BEGIN:VEVENT
DTSTART;TZID=America/Chicago:20260424T163000
DTEND;TZID=America/Chicago:20260424T190000
DTSTAMP:20260419T154320
CREATED:20260415T194850Z
LAST-MODIFIED:20260415T194850Z
UID:1771-1777048200-1777057200@blackduckchamber.com
SUMMARY:Drakes Softball @ Fertile Beltrami
DESCRIPTION:Drakes Softball vs. Fertile Beltrami \nAWAY
URL:https://blackduckchamber.com/event/drakes-softball-fertile-beltrami/
CATEGORIES:Blackduck School
END:VEVENT
BEGIN:VEVENT
DTSTART;VALUE=DATE:20260425
DTEND;VALUE=DATE:20260426
DTSTAMP:20260419T154320
CREATED:20260415T195018Z
LAST-MODIFIED:20260415T195018Z
UID:1773-1777075200-1777161599@blackduckchamber.com
SUMMARY:Drakes Softball @ Pierz
DESCRIPTION:Drakes Softball Tournament
URL:https://blackduckchamber.com/event/drakes-softball-pierz/
CATEGORIES:Blackduck School
END:VEVENT
BEGIN:VEVENT
DTSTART;TZID=America/Chicago:20260427T160000
DTEND;TZID=America/Chicago:20260427T190000
DTSTAMP:20260419T154320
CREATED:20260408T190922Z
LAST-MODIFIED:20260408T190922Z
UID:1735-1777305600-1777316400@blackduckchamber.com
SUMMARY:NKB Bulldogs Track - Walker
DESCRIPTION:Junior Varsity Track Meet in Walker
URL:https://blackduckchamber.com/event/nkb-bulldogs-track-walker-2/
CATEGORIES:Blackduck School
END:VEVENT
BEGIN:VEVENT
DTSTART;TZID=America/Chicago:20260427T163000
DTEND;TZID=America/Chicago:20260427T190000
DTSTAMP:20260419T154320
CREATED:20260415T195132Z
LAST-MODIFIED:20260415T195132Z
UID:1775-1777307400-1777316400@blackduckchamber.com
SUMMARY:Drakes Baseball @ Cass Lake - Bena
DESCRIPTION:Drakes Baseball vs. Cass Lake – Bena \nAWAY
URL:https://blackduckchamber.com/event/drakes-baseball-cass-lake-bena/
CATEGORIES:Blackduck School
END:VEVENT
BEGIN:VEVENT
DTSTART;TZID=America/Chicago:20260427T163000
DTEND;TZID=America/Chicago:20260427T190000
DTSTAMP:20260419T154320
CREATED:20260415T195243Z
LAST-MODIFIED:20260415T195243Z
UID:1777-1777307400-1777316400@blackduckchamber.com
SUMMARY:Drakes Softball @ Home
DESCRIPTION:Drakes Softball vs. Cass Lake – Bena \nHOME
URL:https://blackduckchamber.com/event/drakes-softball-home-2/
LOCATION:Blackduck Public Schools\, 156 1st St NE\, Blackduck\, MN\, 56630\, United States
CATEGORIES:Blackduck School
END:VEVENT
BEGIN:VEVENT
DTSTART;TZID=America/Chicago:20260428T163000
DTEND;TZID=America/Chicago:20260428T190000
DTSTAMP:20260419T154320
CREATED:20260415T195355Z
LAST-MODIFIED:20260415T195355Z
UID:1779-1777393800-1777402800@blackduckchamber.com
SUMMARY:Drakes Baseball @ Home
DESCRIPTION:Drakes Baseball vs. Cherry \nHOME
URL:https://blackduckchamber.com/event/drakes-baseball-home-3/
LOCATION:Blackduck Public Schools\, 156 1st St NE\, Blackduck\, MN\, 56630\, United States
CATEGORIES:Blackduck School
END:VEVENT
BEGIN:VEVENT
DTSTART;TZID=America/Chicago:20260428T163000
DTEND;TZID=America/Chicago:20260428T190000
DTSTAMP:20260419T154320
CREATED:20260415T195458Z
LAST-MODIFIED:20260415T195458Z
UID:1781-1777393800-1777402800@blackduckchamber.com
SUMMARY:Drakes Softball @ Deer River
DESCRIPTION:Drakes Softball vs. Deer River \nAWAY
URL:https://blackduckchamber.com/event/drakes-softball-deer-river/
CATEGORIES:Blackduck School
END:VEVENT
BEGIN:VEVENT
DTSTART;TZID=America/Chicago:20260429T130000
DTEND;TZID=America/Chicago:20260429T160000
DTSTAMP:20260419T154320
CREATED:20260408T165011Z
LAST-MODIFIED:20260408T165011Z
UID:1685-1777467600-1777478400@blackduckchamber.com
SUMMARY:Cards at the Senior Center
DESCRIPTION:Every Wednesday! Everyone Welcome!!
URL:https://blackduckchamber.com/event/cards-at-the-senior-center-6/
LOCATION:Blackduck Senior Citizens Center\, 24 1st St SE\, Blackduck\, MN\, 56630\, United States
CATEGORIES:Blackduck Senior Center
END:VEVENT
BEGIN:VEVENT
DTSTART;TZID=America/Chicago:20260430T130000
DTEND;TZID=America/Chicago:20260430T150000
DTSTAMP:20260419T154320
CREATED:20260408T165846Z
LAST-MODIFIED:20260408T165846Z
UID:1698-1777554000-1777561200@blackduckchamber.com
SUMMARY:BINGO at the Senior Center
DESCRIPTION:Every Thursday! Everyone Welcome!
URL:https://blackduckchamber.com/event/bingo-at-the-senior-center-6/
LOCATION:Blackduck Senior Citizens Center\, 24 1st St SE\, Blackduck\, MN\, 56630\, United States
CATEGORIES:Blackduck Senior Center
END:VEVENT
BEGIN:VEVENT
DTSTART;TZID=America/Chicago:20260430T160000
DTEND;TZID=America/Chicago:20260430T190000
DTSTAMP:20260419T154320
CREATED:20260408T191020Z
LAST-MODIFIED:20260408T191020Z
UID:1737-1777564800-1777575600@blackduckchamber.com
SUMMARY:NKB Bulldogs Track - Northome
DESCRIPTION:Varsity Track Meet in Northome
URL:https://blackduckchamber.com/event/nkb-bulldogs-track-northome-2/
CATEGORIES:Blackduck School
END:VEVENT
BEGIN:VEVENT
DTSTART;TZID=America/Chicago:20260430T163000
DTEND;TZID=America/Chicago:20260430T190000
DTSTAMP:20260419T154320
CREATED:20260415T195618Z
LAST-MODIFIED:20260415T195618Z
UID:1783-1777566600-1777575600@blackduckchamber.com
SUMMARY:Drakes Baseball @ Home
DESCRIPTION:Drakes Baseball vs. Walker – Hackensack – Akley \nHOME
URL:https://blackduckchamber.com/event/drakes-baseball-home-4/
LOCATION:Blackduck Public Schools\, 156 1st St NE\, Blackduck\, MN\, 56630\, United States
CATEGORIES:Blackduck School
END:VEVENT
BEGIN:VEVENT
DTSTART;TZID=America/Chicago:20260430T163000
DTEND;TZID=America/Chicago:20260430T190000
DTSTAMP:20260419T154320
CREATED:20260415T195721Z
LAST-MODIFIED:20260415T195721Z
UID:1785-1777566600-1777575600@blackduckchamber.com
SUMMARY:Drakes Softball @ WHA
DESCRIPTION:Drakes Softball vs. Walker Hackensack Akley \nAWAY
URL:https://blackduckchamber.com/event/drakes-softball-wha/
CATEGORIES:Blackduck School
END:VEVENT
BEGIN:VEVENT
DTSTART;TZID=America/Chicago:20260502T190000
DTEND;TZID=America/Chicago:20260502T230000
DTSTAMP:20260419T154320
CREATED:20260408T212059Z
LAST-MODIFIED:20260408T212059Z
UID:1752-1777748400-1777762800@blackduckchamber.com
SUMMARY:PROM - Blackduck High School
DESCRIPTION:
URL:https://blackduckchamber.com/event/prom-blackduck-high-school/
LOCATION:Blackduck Public Schools\, 156 1st St NE\, Blackduck\, MN\, 56630\, United States
CATEGORIES:Blackduck School
END:VEVENT
END:VCALENDAR