BEGIN:VCALENDAR
VERSION:2.0
PRODID:-//Blackduck Chamber of Commerce - ECPv6.15.18//NONSGML v1.0//EN
CALSCALE:GREGORIAN
METHOD:PUBLISH
X-WR-CALNAME:Blackduck Chamber of Commerce
X-ORIGINAL-URL:https://blackduckchamber.com
X-WR-CALDESC:Events for Blackduck Chamber of Commerce
REFRESH-INTERVAL;VALUE=DURATION:PT1H
X-Robots-Tag:noindex
X-PUBLISHED-TTL:PT1H
BEGIN:VTIMEZONE
TZID:America/Chicago
BEGIN:DAYLIGHT
TZOFFSETFROM:-0600
TZOFFSETTO:-0500
TZNAME:CDT
DTSTART:20240310T080000
END:DAYLIGHT
BEGIN:STANDARD
TZOFFSETFROM:-0500
TZOFFSETTO:-0600
TZNAME:CST
DTSTART:20241103T070000
END:STANDARD
BEGIN:DAYLIGHT
TZOFFSETFROM:-0600
TZOFFSETTO:-0500
TZNAME:CDT
DTSTART:20250309T080000
END:DAYLIGHT
BEGIN:STANDARD
TZOFFSETFROM:-0500
TZOFFSETTO:-0600
TZNAME:CST
DTSTART:20251102T070000
END:STANDARD
BEGIN:DAYLIGHT
TZOFFSETFROM:-0600
TZOFFSETTO:-0500
TZNAME:CDT
DTSTART:20260308T080000
END:DAYLIGHT
BEGIN:STANDARD
TZOFFSETFROM:-0500
TZOFFSETTO:-0600
TZNAME:CST
DTSTART:20261101T070000
END:STANDARD
BEGIN:DAYLIGHT
TZOFFSETFROM:-0600
TZOFFSETTO:-0500
TZNAME:CDT
DTSTART:20270314T080000
END:DAYLIGHT
BEGIN:STANDARD
TZOFFSETFROM:-0500
TZOFFSETTO:-0600
TZNAME:CST
DTSTART:20271107T070000
END:STANDARD
END:VTIMEZONE
BEGIN:VEVENT
DTSTART;TZID=America/Chicago:20260225T130000
DTEND;TZID=America/Chicago:20260225T150000
DTSTAMP:20260419T142024
CREATED:20260121T154538Z
LAST-MODIFIED:20260121T155646Z
UID:1523-1772024400-1772031600@blackduckchamber.com
SUMMARY:Senior Center Cards
DESCRIPTION:Every Wednesday! \nEveryone Welcome!
URL:https://blackduckchamber.com/event/senior-center-cards-85/
CATEGORIES:Blackduck Senior Center
END:VEVENT
BEGIN:VEVENT
DTSTART;TZID=America/Chicago:20260219T130000
DTEND;TZID=America/Chicago:20260219T150000
DTSTAMP:20260419T142024
CREATED:20260121T164858Z
LAST-MODIFIED:20260121T164912Z
UID:1543-1771506000-1771513200@blackduckchamber.com
SUMMARY:Senior Center Bingo
DESCRIPTION:Every Thursday! \nEveryone Welcome!
URL:https://blackduckchamber.com/event/senior-center-bingo-75/
CATEGORIES:Blackduck Senior Center
END:VEVENT
BEGIN:VEVENT
DTSTART;TZID=America/Chicago:20260218T150000
DTEND;TZID=America/Chicago:20260218T163000
DTSTAMP:20260419T142024
CREATED:20260121T180103Z
LAST-MODIFIED:20260121T181236Z
UID:1558-1771426800-1771432200@blackduckchamber.com
SUMMARY:Chamber Meeting
DESCRIPTION:Chamber Meeting at The Pond
URL:https://blackduckchamber.com/event/chamber-meeting-2/
LOCATION:The Pond\, 224 Frontage Rd\, Blackduck\, MN\, 56630\, United States
CATEGORIES:The Pond
END:VEVENT
BEGIN:VEVENT
DTSTART;TZID=America/Chicago:20260218T130000
DTEND;TZID=America/Chicago:20260218T150000
DTSTAMP:20260419T142024
CREATED:20260121T154446Z
LAST-MODIFIED:20260121T155723Z
UID:1521-1771419600-1771426800@blackduckchamber.com
SUMMARY:Senior Center Cards
DESCRIPTION:Every Wednesday! \nEveryone Welcome!
URL:https://blackduckchamber.com/event/senior-center-cards-84/
END:VEVENT
BEGIN:VEVENT
DTSTART;TZID=America/Chicago:20260215T130000
DTEND;TZID=America/Chicago:20260215T160000
DTSTAMP:20260419T142024
CREATED:20260121T181909Z
LAST-MODIFIED:20260121T182451Z
UID:1567-1771160400-1771171200@blackduckchamber.com
SUMMARY:Chamber BINGO
DESCRIPTION:Chamber-BINGO 02152026
URL:https://blackduckchamber.com/event/chamber-bingo-8/
LOCATION:The Pond\, 224 Frontage Rd\, Blackduck\, MN\, 56630\, United States
CATEGORIES:The Pond
END:VEVENT
BEGIN:VEVENT
DTSTART;TZID=America/Chicago:20260212T130000
DTEND;TZID=America/Chicago:20260212T150000
DTSTAMP:20260419T142024
CREATED:20260121T160328Z
LAST-MODIFIED:20260121T160328Z
UID:1540-1770901200-1770908400@blackduckchamber.com
SUMMARY:Senior Center Bingo
DESCRIPTION:Every Thursday! \nEveryone Welcome!
URL:https://blackduckchamber.com/event/senior-center-bingo-74/
END:VEVENT
BEGIN:VEVENT
DTSTART;TZID=America/Chicago:20260211T130000
DTEND;TZID=America/Chicago:20260211T150000
DTSTAMP:20260419T142024
CREATED:20260121T154359Z
LAST-MODIFIED:20260121T155749Z
UID:1519-1770814800-1770822000@blackduckchamber.com
SUMMARY:Senior Center Cards
DESCRIPTION:Every Wednesday! \nEveryone Welcome!
URL:https://blackduckchamber.com/event/senior-center-cards-83/
CATEGORIES:Blackduck Senior Center
END:VEVENT
BEGIN:VEVENT
DTSTART;TZID=America/Chicago:20260206T130000
DTEND;TZID=America/Chicago:20260206T160000
DTSTAMP:20260419T142024
CREATED:20260121T165951Z
LAST-MODIFIED:20260121T165951Z
UID:1547-1770382800-1770393600@blackduckchamber.com
SUMMARY:History Center Re-Opens for the Season
DESCRIPTION:
URL:https://blackduckchamber.com/event/history-center-re-opens-for-the-season/
CATEGORIES:Blackduck Area History and Art Center
END:VEVENT
BEGIN:VEVENT
DTSTART;TZID=America/Chicago:20260205T130000
DTEND;TZID=America/Chicago:20260205T150000
DTSTAMP:20260419T142024
CREATED:20260121T160224Z
LAST-MODIFIED:20260121T160224Z
UID:1538-1770296400-1770303600@blackduckchamber.com
SUMMARY:Senior Center Bingo
DESCRIPTION:Every Thursday! \nEveryone Welcome!
URL:https://blackduckchamber.com/event/senior-center-bingo-73/
END:VEVENT
BEGIN:VEVENT
DTSTART;TZID=America/Chicago:20260204T130000
DTEND;TZID=America/Chicago:20260204T150000
DTSTAMP:20260419T142024
CREATED:20260121T154259Z
LAST-MODIFIED:20260121T155817Z
UID:1517-1770210000-1770217200@blackduckchamber.com
SUMMARY:Senior Center Cards
DESCRIPTION:Every Wednesday! \nEveryone Welcome!
URL:https://blackduckchamber.com/event/senior-center-cards-82/
END:VEVENT
BEGIN:VEVENT
DTSTART;TZID=America/Chicago:20260129T130000
DTEND;TZID=America/Chicago:20260129T150000
DTSTAMP:20260419T142024
CREATED:20260121T154736Z
LAST-MODIFIED:20260121T160115Z
UID:1527-1769691600-1769698800@blackduckchamber.com
SUMMARY:Senior Center Bingo
DESCRIPTION:Every Thursday! \nEveryone Welcome!
URL:https://blackduckchamber.com/event/senior-center-bingo-72/
CATEGORIES:Blackduck Senior Center
END:VEVENT
BEGIN:VEVENT
DTSTART;TZID=America/Chicago:20260128T130000
DTEND;TZID=America/Chicago:20260128T150000
DTSTAMP:20260419T142024
CREATED:20260121T154158Z
LAST-MODIFIED:20260121T155857Z
UID:1515-1769605200-1769612400@blackduckchamber.com
SUMMARY:Senior Center Cards
DESCRIPTION:Every Wednesday! \nEveryone Welcome!
URL:https://blackduckchamber.com/event/senior-center-cards-81/
CATEGORIES:Blackduck Senior Center
END:VEVENT
BEGIN:VEVENT
DTSTART;TZID=America/Chicago:20260122T130000
DTEND;TZID=America/Chicago:20260122T150000
DTSTAMP:20260419T142024
CREATED:20260121T154639Z
LAST-MODIFIED:20260121T160034Z
UID:1525-1769086800-1769094000@blackduckchamber.com
SUMMARY:Senior Center Bingo
DESCRIPTION:Every Thursday! \nEveryone Welcome!
URL:https://blackduckchamber.com/event/senior-center-bingo-71/
CATEGORIES:Blackduck Senior Center
END:VEVENT
BEGIN:VEVENT
DTSTART;TZID=America/Chicago:20260121T150000
DTEND;TZID=America/Chicago:20260121T160000
DTSTAMP:20260419T142024
CREATED:20260121T175734Z
LAST-MODIFIED:20260121T181310Z
UID:1553-1769007600-1769011200@blackduckchamber.com
SUMMARY:Chamber Meeting
DESCRIPTION:January agenda 2026 Treasurer’s Report 01212026 December Minutes 2025
URL:https://blackduckchamber.com/event/chamber-meeting/
LOCATION:Blackduck Senior Citizens Center\, 24 1st St SE\, Blackduck\, MN\, 56630\, United States
CATEGORIES:Blackduck Senior Center,Meeting
END:VEVENT
BEGIN:VEVENT
DTSTART;TZID=America/Chicago:20260121T130000
DTEND;TZID=America/Chicago:20260121T150000
DTSTAMP:20260419T142024
CREATED:20260121T154101Z
LAST-MODIFIED:20260121T155355Z
UID:1513-1769000400-1769007600@blackduckchamber.com
SUMMARY:Senior Center Cards
DESCRIPTION:Every Wednesday! \nEveryone Welcome!
URL:https://blackduckchamber.com/event/senior-center-cards-80/
CATEGORIES:Blackduck Senior Center
END:VEVENT
BEGIN:VEVENT
DTSTART;TZID=America/Chicago:20260118T140000
DTEND;TZID=America/Chicago:20260118T160000
DTSTAMP:20260419T142024
CREATED:20260107T181505Z
LAST-MODIFIED:20260107T181505Z
UID:1506-1768744800-1768752000@blackduckchamber.com
SUMMARY:Bemidji Sons of Norway find your Norwegian Roots
DESCRIPTION:Can a bygdelag help you find your Norwegian roots? Where can I find a bygdebøk? The program begins after officer installation
URL:https://blackduckchamber.com/event/bemidji-sons-of-norway-find-your-norwegian-roots/
LOCATION:Calvary Lutheran Church\, 2509 Washington Ave SE\, Bemidji\, MN\, 56601\, United States
ATTACH;FMTTYPE=image/jpeg:https://blackduckchamber.com/wp-content/uploads/2026/01/307919911_215832027468086_1083498374785618052_n-e1767809364822.jpg
END:VEVENT
BEGIN:VEVENT
DTSTART;TZID=America/Chicago:20251231T130000
DTEND;TZID=America/Chicago:20251231T150000
DTSTAMP:20260419T142024
CREATED:20251107T163310Z
LAST-MODIFIED:20251107T163310Z
UID:1485-1767186000-1767193200@blackduckchamber.com
SUMMARY:Senior Center Cards
DESCRIPTION:Every Wednesday \nEveryone Welcome
URL:https://blackduckchamber.com/event/senior-center-cards-79/
CATEGORIES:Blackduck Senior Center
ATTACH;FMTTYPE=image/jpeg:https://blackduckchamber.com/wp-content/uploads/2023/09/download-1.jpg
END:VEVENT
BEGIN:VEVENT
DTSTART;TZID=America/Chicago:20251218T130000
DTEND;TZID=America/Chicago:20251218T150000
DTSTAMP:20260419T142024
CREATED:20251107T162123Z
LAST-MODIFIED:20251107T162123Z
UID:1468-1766062800-1766070000@blackduckchamber.com
SUMMARY:Senior Center Bingo
DESCRIPTION:Every Thursday\, Everyone Welcome
URL:https://blackduckchamber.com/event/senior-center-bingo-70/
CATEGORIES:Blackduck Senior Center
ATTACH;FMTTYPE=image/jpeg:https://blackduckchamber.com/wp-content/uploads/2023/09/images.jpg
END:VEVENT
BEGIN:VEVENT
DTSTART;TZID=America/Chicago:20251217T130000
DTEND;TZID=America/Chicago:20251217T150000
DTSTAMP:20260419T142024
CREATED:20251107T162839Z
LAST-MODIFIED:20251107T162839Z
UID:1483-1765976400-1765983600@blackduckchamber.com
SUMMARY:Senior Center Cards
DESCRIPTION:Every Wednesday \nEveryone Welcome
URL:https://blackduckchamber.com/event/senior-center-cards-78/
CATEGORIES:Blackduck Senior Center
ATTACH;FMTTYPE=image/jpeg:https://blackduckchamber.com/wp-content/uploads/2023/09/download-1.jpg
END:VEVENT
BEGIN:VEVENT
DTSTART;TZID=America/Chicago:20251211T130000
DTEND;TZID=America/Chicago:20251211T150000
DTSTAMP:20260419T142024
CREATED:20251107T162028Z
LAST-MODIFIED:20251107T162038Z
UID:1466-1765458000-1765465200@blackduckchamber.com
SUMMARY:Senior Center Bingo
DESCRIPTION:Every Thursday Everyone Welcome
URL:https://blackduckchamber.com/event/senior-center-bingo-69/
CATEGORIES:Blackduck Senior Center
ATTACH;FMTTYPE=image/jpeg:https://blackduckchamber.com/wp-content/uploads/2023/09/images.jpg
END:VEVENT
BEGIN:VEVENT
DTSTART;TZID=America/Chicago:20251210T130000
DTEND;TZID=America/Chicago:20251210T150000
DTSTAMP:20260419T142024
CREATED:20251107T162749Z
LAST-MODIFIED:20251107T162749Z
UID:1481-1765371600-1765378800@blackduckchamber.com
SUMMARY:Senior Center Cards
DESCRIPTION:Every Wednesday \nEveryone Welcome
URL:https://blackduckchamber.com/event/senior-center-cards-77/
CATEGORIES:Blackduck Senior Center
ATTACH;FMTTYPE=image/jpeg:https://blackduckchamber.com/wp-content/uploads/2023/09/download-1.jpg
END:VEVENT
BEGIN:VEVENT
DTSTART;TZID=America/Chicago:20251206T170000
DTEND;TZID=America/Chicago:20251206T180000
DTSTAMP:20260419T142024
CREATED:20251203T033350Z
LAST-MODIFIED:20251203T033350Z
UID:1497-1765040400-1765044000@blackduckchamber.com
SUMMARY:Glow In the Snow
DESCRIPTION:@ The Wayside West \nThere will be cookies\, a wish tree\, lights\, and Santa
URL:https://blackduckchamber.com/event/glow-in-the-snow-2/
LOCATION:Wayside Rest Blackduck\, 72 Frontage Rd\, Blackduck\, MN\, 56630\, United States
ATTACH;FMTTYPE=image/jpeg:https://blackduckchamber.com/wp-content/uploads/2025/12/590961485_122147366816423187_2687724967442630939_n.jpg
END:VEVENT
BEGIN:VEVENT
DTSTART;TZID=America/Chicago:20251204T130000
DTEND;TZID=America/Chicago:20251204T150000
DTSTAMP:20260419T142024
CREATED:20251107T162001Z
LAST-MODIFIED:20251107T162001Z
UID:1464-1764853200-1764860400@blackduckchamber.com
SUMMARY:Senior Center Bingo
DESCRIPTION:Every Thursday Everyone Welcome
URL:https://blackduckchamber.com/event/senior-center-bingo-68/
CATEGORIES:Blackduck Senior Center
ATTACH;FMTTYPE=image/jpeg:https://blackduckchamber.com/wp-content/uploads/2023/09/images.jpg
END:VEVENT
BEGIN:VEVENT
DTSTART;TZID=America/Chicago:20251203T130000
DTEND;TZID=America/Chicago:20251203T150000
DTSTAMP:20260419T142024
CREATED:20251107T162714Z
LAST-MODIFIED:20251107T162714Z
UID:1479-1764766800-1764774000@blackduckchamber.com
SUMMARY:Senior Center Cards
DESCRIPTION:Every Wednesday \nEveryone Welcome
URL:https://blackduckchamber.com/event/senior-center-cards-76/
CATEGORIES:Blackduck Senior Center
ATTACH;FMTTYPE=image/jpeg:https://blackduckchamber.com/wp-content/uploads/2023/09/download-1.jpg
END:VEVENT
BEGIN:VEVENT
DTSTART;TZID=America/Chicago:20251127T130000
DTEND;TZID=America/Chicago:20251127T150000
DTSTAMP:20260419T142024
CREATED:20251107T161644Z
LAST-MODIFIED:20251107T161845Z
UID:1461-1764248400-1764255600@blackduckchamber.com
SUMMARY:Senior Center Bingo
DESCRIPTION:Every Thursday Everyone Welcome
URL:https://blackduckchamber.com/event/senior-center-bingo-67/
CATEGORIES:Blackduck Senior Center
ATTACH;FMTTYPE=image/jpeg:https://blackduckchamber.com/wp-content/uploads/2023/09/images.jpg
END:VEVENT
BEGIN:VEVENT
DTSTART;TZID=America/Chicago:20251126T130000
DTEND;TZID=America/Chicago:20251126T150000
DTSTAMP:20260419T142024
CREATED:20251107T162620Z
LAST-MODIFIED:20251107T162620Z
UID:1477-1764162000-1764169200@blackduckchamber.com
SUMMARY:Senior Center Cards
DESCRIPTION:Every Wednesday \nEveryone Welcome
URL:https://blackduckchamber.com/event/senior-center-cards-75/
CATEGORIES:Blackduck Senior Center
ATTACH;FMTTYPE=image/jpeg:https://blackduckchamber.com/wp-content/uploads/2023/09/download-1.jpg
END:VEVENT
BEGIN:VEVENT
DTSTART;TZID=America/Chicago:20251123T140000
DTEND;TZID=America/Chicago:20251123T170000
DTSTAMP:20260419T142024
CREATED:20251107T164904Z
LAST-MODIFIED:20251107T164952Z
UID:1487-1763906400-1763917200@blackduckchamber.com
SUMMARY:Bemdji Sons of Norway November Meeting
DESCRIPTION:There will be officer elections and Norwegian Closet Bingo.  Numbers are called in Norwegian & English! Participants are encouraged but not required to bring a prize from home\, something tucked away in your closet or storage. These can be gently used items with a low monetary value: a book\, trinket\, or Scandinavian or Nordic-themed item. Bingo winners can pick out their prize from the assortment of donated items. \n  \nFree and open to the public.
URL:https://blackduckchamber.com/event/bemdji-sons-of-norway-november-meeting/
LOCATION:Calvary Lutheran Church\, 2509 Washington Ave SE\, Bemidji\, MN\, 56601\, United States
CATEGORIES:Calvary Lutheran Church in Bemidji
ATTACH;FMTTYPE=image/png:https://blackduckchamber.com/wp-content/uploads/2025/11/sofn-logo-1.png
END:VEVENT
BEGIN:VEVENT
DTSTART;TZID=America/Chicago:20251120T130000
DTEND;TZID=America/Chicago:20251120T150000
DTSTAMP:20260419T142024
CREATED:20251107T161548Z
LAST-MODIFIED:20251107T161814Z
UID:1459-1763643600-1763650800@blackduckchamber.com
SUMMARY:Senior Center Bingo
DESCRIPTION:Every Thursday Everyone Welcome
URL:https://blackduckchamber.com/event/senior-center-bingo-66/
CATEGORIES:Blackduck Senior Center
ATTACH;FMTTYPE=image/jpeg:https://blackduckchamber.com/wp-content/uploads/2023/09/images.jpg
END:VEVENT
BEGIN:VEVENT
DTSTART;TZID=America/Chicago:20251119T130000
DTEND;TZID=America/Chicago:20251119T150000
DTSTAMP:20260419T142024
CREATED:20251107T162530Z
LAST-MODIFIED:20251107T162530Z
UID:1474-1763557200-1763564400@blackduckchamber.com
SUMMARY:Senior Center Cards
DESCRIPTION:Every Wednesday \nEveryone Welcome
URL:https://blackduckchamber.com/event/senior-center-cards-74/
CATEGORIES:Blackduck Senior Center
ATTACH;FMTTYPE=image/jpeg:https://blackduckchamber.com/wp-content/uploads/2023/09/download-1.jpg
END:VEVENT
BEGIN:VEVENT
DTSTART;TZID=America/Chicago:20251113T130000
DTEND;TZID=America/Chicago:20251113T150000
DTSTAMP:20260419T142024
CREATED:20251107T161500Z
LAST-MODIFIED:20251107T161745Z
UID:1457-1763038800-1763046000@blackduckchamber.com
SUMMARY:Senior Center Bingo
DESCRIPTION:Every Thursday\, Everyone Welcome
URL:https://blackduckchamber.com/event/senior-center-bingo-65/
CATEGORIES:Blackduck Senior Center
ATTACH;FMTTYPE=image/jpeg:https://blackduckchamber.com/wp-content/uploads/2023/09/images.jpg
END:VEVENT
END:VCALENDAR