BEGIN:VCALENDAR
VERSION:2.0
PRODID:-//Blackduck Chamber of Commerce - ECPv6.15.18//NONSGML v1.0//EN
CALSCALE:GREGORIAN
METHOD:PUBLISH
X-WR-CALNAME:Blackduck Chamber of Commerce
X-ORIGINAL-URL:https://blackduckchamber.com
X-WR-CALDESC:Events for Blackduck Chamber of Commerce
REFRESH-INTERVAL;VALUE=DURATION:PT1H
X-Robots-Tag:noindex
X-PUBLISHED-TTL:PT1H
BEGIN:VTIMEZONE
TZID:America/Chicago
BEGIN:DAYLIGHT
TZOFFSETFROM:-0600
TZOFFSETTO:-0500
TZNAME:CDT
DTSTART:20220313T080000
END:DAYLIGHT
BEGIN:STANDARD
TZOFFSETFROM:-0500
TZOFFSETTO:-0600
TZNAME:CST
DTSTART:20221106T070000
END:STANDARD
BEGIN:DAYLIGHT
TZOFFSETFROM:-0600
TZOFFSETTO:-0500
TZNAME:CDT
DTSTART:20230312T080000
END:DAYLIGHT
BEGIN:STANDARD
TZOFFSETFROM:-0500
TZOFFSETTO:-0600
TZNAME:CST
DTSTART:20231105T070000
END:STANDARD
BEGIN:DAYLIGHT
TZOFFSETFROM:-0600
TZOFFSETTO:-0500
TZNAME:CDT
DTSTART:20240310T080000
END:DAYLIGHT
BEGIN:STANDARD
TZOFFSETFROM:-0500
TZOFFSETTO:-0600
TZNAME:CST
DTSTART:20241103T070000
END:STANDARD
END:VTIMEZONE
BEGIN:VEVENT
DTSTART;TZID=America/Chicago:20231030T173000
DTEND;TZID=America/Chicago:20231030T190000
DTSTAMP:20260420T183745
CREATED:20231006T132303Z
LAST-MODIFIED:20231006T132403Z
UID:826-1698687000-1698692400@blackduckchamber.com
SUMMARY:Opioid Steering Committee Community Learning Session
DESCRIPTION:Where: Blackduck Golf Course \nThe steering committee will be\nproviding the community with an update on current funds and how the funding is allowed\nto be spent. \nThe goals of the session include\, provide the community with education related to the settlement\nand Beltrami data related to the opioid crisis\, and most importantly gather input from the\ncommunity of Beltrami County to learn where our greatest needs are. \nShould you have any questions please contact:\nAmy Bowles RN\, BSN\, MSN\, PHN\nBeltrami County Public Health Division Director\nCommunity Health Services Administrator\n616 America Ave NW\, Bemidji\, MN 56601\nP: 218-333-8116
URL:https://blackduckchamber.com/event/opioid-steering-committee-community-learning-session/
CATEGORIES:Golf Course
ATTACH;FMTTYPE=image/png:https://blackduckchamber.com/wp-content/uploads/2023/10/Screenshot-2023-10-06-081724.png
END:VEVENT
BEGIN:VEVENT
DTSTART;TZID=America/Chicago:20231028T080000
DTEND;TZID=America/Chicago:20231028T130000
DTSTAMP:20260420T183745
CREATED:20231006T133135Z
LAST-MODIFIED:20231006T133228Z
UID:830-1698480000-1698498000@blackduckchamber.com
SUMMARY:Senior Community Clean-up
DESCRIPTION:Beltrami County Wellness Committe is looking for volunteers to assist Northwoods Caregivers in helping Bemidji seniors prepare for winter\, by raking their yards. \nThey offer a continental breakfast\, gift certificates to local restaurants for lunch\, along with a thank you gift for each volunteer \nFor those not familiar with Northwoods Caregivers\, they connect community members with clients and their families to provide crucial services. \nIf you would like more information\, or know someone who could benefit from this service\, please check out their website https://northwoodscaregivers.org/\, or call 218-333-8266.
URL:https://blackduckchamber.com/event/senior-community-clean-up/
ATTACH;FMTTYPE=image/png:https://blackduckchamber.com/wp-content/uploads/2023/10/Screenshot-2023-10-06-082602.png
END:VEVENT
BEGIN:VEVENT
DTSTART;TZID=America/Chicago:20231026T173000
DTEND;TZID=America/Chicago:20231026T183000
DTSTAMP:20260420T183745
CREATED:20231017T221014Z
LAST-MODIFIED:20231017T221026Z
UID:834-1698341400-1698345000@blackduckchamber.com
SUMMARY:Senior Center Membership Appreciation Dinner
DESCRIPTION:
URL:https://blackduckchamber.com/event/senior-center-membership-appreciation-dinner/
CATEGORIES:Blackduck Senior Center
ATTACH;FMTTYPE=image/jpeg:https://blackduckchamber.com/wp-content/uploads/2023/02/download.jpg
END:VEVENT
BEGIN:VEVENT
DTSTART;TZID=America/Chicago:20231026T080000
DTEND;TZID=America/Chicago:20231026T170000
DTSTAMP:20260420T183745
CREATED:20230926T175737Z
LAST-MODIFIED:20230926T175804Z
UID:813-1698307200-1698339600@blackduckchamber.com
SUMMARY:Senior Center Bingo
DESCRIPTION:Every Thursday
URL:https://blackduckchamber.com/event/senior-center-bingo-7/
CATEGORIES:Blackduck Senior Center
ATTACH;FMTTYPE=image/jpeg:https://blackduckchamber.com/wp-content/uploads/2023/09/images.jpg
END:VEVENT
BEGIN:VEVENT
DTSTART;TZID=America/Chicago:20231025T130000
DTEND;TZID=America/Chicago:20231025T150000
DTSTAMP:20260420T183745
CREATED:20230926T175100Z
LAST-MODIFIED:20230926T175100Z
UID:803-1698238800-1698246000@blackduckchamber.com
SUMMARY:Senior Center Cards
DESCRIPTION:Every Wednesday
URL:https://blackduckchamber.com/event/senior-center-cards-5/
CATEGORIES:Blackduck Senior Center
ATTACH;FMTTYPE=image/jpeg:https://blackduckchamber.com/wp-content/uploads/2023/09/download-1.jpg
END:VEVENT
BEGIN:VEVENT
DTSTART;TZID=America/Chicago:20231019T130000
DTEND;TZID=America/Chicago:20231019T153000
DTSTAMP:20260420T183745
CREATED:20230926T175704Z
LAST-MODIFIED:20230926T175704Z
UID:811-1697720400-1697729400@blackduckchamber.com
SUMMARY:Senior Center Bingo
DESCRIPTION:Every Thursday
URL:https://blackduckchamber.com/event/senior-center-bingo-6/
CATEGORIES:Blackduck Senior Center
ATTACH;FMTTYPE=image/jpeg:https://blackduckchamber.com/wp-content/uploads/2023/09/images.jpg
END:VEVENT
BEGIN:VEVENT
DTSTART;TZID=America/Chicago:20231018T130000
DTEND;TZID=America/Chicago:20231018T150000
DTSTAMP:20260420T183745
CREATED:20230926T174929Z
LAST-MODIFIED:20230926T174929Z
UID:801-1697634000-1697641200@blackduckchamber.com
SUMMARY:Senior Center Cards
DESCRIPTION:Every Wednesday
URL:https://blackduckchamber.com/event/senior-center-cards-4/
CATEGORIES:Blackduck Senior Center
ATTACH;FMTTYPE=image/jpeg:https://blackduckchamber.com/wp-content/uploads/2023/09/download-1.jpg
END:VEVENT
BEGIN:VEVENT
DTSTART;TZID=America/Chicago:20231012T130000
DTEND;TZID=America/Chicago:20231012T153000
DTSTAMP:20260420T183745
CREATED:20230926T175616Z
LAST-MODIFIED:20230926T175616Z
UID:809-1697115600-1697124600@blackduckchamber.com
SUMMARY:Senior Center Bingo
DESCRIPTION:Every Thursday
URL:https://blackduckchamber.com/event/senior-center-bingo-5/
CATEGORIES:Blackduck Senior Center
ATTACH;FMTTYPE=image/jpeg:https://blackduckchamber.com/wp-content/uploads/2023/09/images.jpg
END:VEVENT
BEGIN:VEVENT
DTSTART;TZID=America/Chicago:20231011T130000
DTEND;TZID=America/Chicago:20231011T150000
DTSTAMP:20260420T183745
CREATED:20230926T174853Z
LAST-MODIFIED:20230926T174853Z
UID:799-1697029200-1697036400@blackduckchamber.com
SUMMARY:Senior Center Cards
DESCRIPTION:Every Wednesday
URL:https://blackduckchamber.com/event/senior-center-cards-3/
ATTACH;FMTTYPE=image/jpeg:https://blackduckchamber.com/wp-content/uploads/2023/09/download-1.jpg
END:VEVENT
BEGIN:VEVENT
DTSTART;TZID=America/Chicago:20231010T140000
DTEND;TZID=America/Chicago:20231010T160000
DTSTAMP:20260420T183745
CREATED:20231003T032255Z
LAST-MODIFIED:20231003T032255Z
UID:820-1696946400-1696953600@blackduckchamber.com
SUMMARY:Blackduck Senior Center Quarterly Business Meeting
DESCRIPTION:Celebrating Birthdays for October\, November\, and December \nJoin us for cake\, coffee and visting.
URL:https://blackduckchamber.com/event/blackduck-senior-center-quarterly-business-meeting/
CATEGORIES:Blackduck Senior Center
ATTACH;FMTTYPE=image/jpeg:https://blackduckchamber.com/wp-content/uploads/2023/02/download.jpg
END:VEVENT
BEGIN:VEVENT
DTSTART;TZID=America/Chicago:20231006T130000
DTEND;TZID=America/Chicago:20231006T140000
DTSTAMP:20260420T183745
CREATED:20230926T180748Z
LAST-MODIFIED:20230926T180748Z
UID:817-1696597200-1696600800@blackduckchamber.com
SUMMARY:Visiting Author Kevin Lovegreen
DESCRIPTION:Where: Blackduck Library \nDo you know any kids that are interested in hunting and fishing? If so\, they won’t want to miss\nKevin Lovegreen\, author of Lucky Luke’s Hunting Adventures series. \nHe’ll be talking about how he writes stories and then test the audience’s knowledge with his\nFamous Animal Call Challenge. As a world-class speaker\, Lovegreen uses his unique outdoor\ntheme to inspire\, teach and entertain kids.
URL:https://blackduckchamber.com/event/visiting-author-kevin-lovegreen/
ATTACH;FMTTYPE=image/jpeg:https://blackduckchamber.com/wp-content/uploads/2023/09/author-visit.jpg
END:VEVENT
BEGIN:VEVENT
DTSTART;TZID=America/Chicago:20231005T130000
DTEND;TZID=America/Chicago:20231005T153000
DTSTAMP:20260420T183745
CREATED:20230914T145314Z
LAST-MODIFIED:20230914T145314Z
UID:787-1696510800-1696519800@blackduckchamber.com
SUMMARY:Senior Center Bingo
DESCRIPTION:Every Thursday \nEveryone Welcome
URL:https://blackduckchamber.com/event/senior-center-bingo-4/
CATEGORIES:Blackduck Senior Center
ATTACH;FMTTYPE=image/jpeg:https://blackduckchamber.com/wp-content/uploads/2023/09/images.jpg
END:VEVENT
BEGIN:VEVENT
DTSTART;TZID=America/Chicago:20231004T130000
DTEND;TZID=America/Chicago:20231004T150000
DTSTAMP:20260420T183745
CREATED:20230926T174704Z
LAST-MODIFIED:20230926T174704Z
UID:795-1696424400-1696431600@blackduckchamber.com
SUMMARY:Senior Center Cards
DESCRIPTION:Every Wednesday \nEveryone welcome
URL:https://blackduckchamber.com/event/senior-center-cards-2/
CATEGORIES:Blackduck Senior Center
ATTACH;FMTTYPE=image/jpeg:https://blackduckchamber.com/wp-content/uploads/2023/09/download-1.jpg
END:VEVENT
BEGIN:VEVENT
DTSTART;TZID=America/Chicago:20230928T130000
DTEND;TZID=America/Chicago:20230928T153000
DTSTAMP:20260420T183745
CREATED:20230914T145230Z
LAST-MODIFIED:20230914T145230Z
UID:785-1695906000-1695915000@blackduckchamber.com
SUMMARY:Senior Center Bingo
DESCRIPTION:Every Thursday \nEveryone Welcome
URL:https://blackduckchamber.com/event/senior-center-bingo-3/
ATTACH;FMTTYPE=image/jpeg:https://blackduckchamber.com/wp-content/uploads/2023/09/images.jpg
END:VEVENT
BEGIN:VEVENT
DTSTART;TZID=America/Chicago:20230927T130000
DTEND;TZID=America/Chicago:20230927T140000
DTSTAMP:20260420T183745
CREATED:20230926T174512Z
LAST-MODIFIED:20230926T174608Z
UID:791-1695819600-1695823200@blackduckchamber.com
SUMMARY:Senior Center Cards
DESCRIPTION:Every Wednesday \nEveryone Welcome
URL:https://blackduckchamber.com/event/senior-center-cards/
CATEGORIES:Blackduck Senior Center
ATTACH;FMTTYPE=image/jpeg:https://blackduckchamber.com/wp-content/uploads/2023/09/download-1.jpg
END:VEVENT
BEGIN:VEVENT
DTSTART;TZID=America/Chicago:20230922T090000
DTEND;TZID=America/Chicago:20230922T140000
DTSTAMP:20260420T183745
CREATED:20230904T210943Z
LAST-MODIFIED:20230904T210943Z
UID:771-1695373200-1695391200@blackduckchamber.com
SUMMARY:Chamber Golf Scramble
DESCRIPTION:4-person/18-Hole Scramble \nRegistration at 9 am Shotgun Start at 10 am \nDrink Token\, Lunch\, and 3 prize Tickets Included \nCash Bar Open in Clubhouse and Tee-Shack \n 
URL:https://blackduckchamber.com/event/chamber-golf-scramble/
CATEGORIES:Golf Course
ATTACH;FMTTYPE=image/jpeg:https://blackduckchamber.com/wp-content/uploads/2023/09/Untitled-design.jpg
END:VEVENT
BEGIN:VEVENT
DTSTART;TZID=America/Chicago:20230921T130000
DTEND;TZID=America/Chicago:20230921T153000
DTSTAMP:20260420T183745
CREATED:20230914T145141Z
LAST-MODIFIED:20230914T145141Z
UID:783-1695301200-1695310200@blackduckchamber.com
SUMMARY:Senior Center Bingo
DESCRIPTION:Every Thursday \nEveryone Welcome
URL:https://blackduckchamber.com/event/senior-center-bingo-2/
CATEGORIES:Blackduck Senior Center
ATTACH;FMTTYPE=image/jpeg:https://blackduckchamber.com/wp-content/uploads/2023/09/images.jpg
END:VEVENT
BEGIN:VEVENT
DTSTART;TZID=America/Chicago:20230916T083000
DTEND;TZID=America/Chicago:20230916T223000
DTSTAMP:20260420T183745
CREATED:20230914T144540Z
LAST-MODIFIED:20230914T144540Z
UID:776-1694853000-1694903400@blackduckchamber.com
SUMMARY:Cakes and Cars
DESCRIPTION:Panckae Breakfast and car show. \nBring your collector cars and enjoy some pancakes.
URL:https://blackduckchamber.com/event/cakes-and-cars/
CATEGORIES:Blackduck Senior Center
ATTACH;FMTTYPE=image/jpeg:https://blackduckchamber.com/wp-content/uploads/2023/09/download.jpg
END:VEVENT
BEGIN:VEVENT
DTSTART;TZID=America/Chicago:20230914T130000
DTEND;TZID=America/Chicago:20230914T153000
DTSTAMP:20260420T183745
CREATED:20230914T145043Z
LAST-MODIFIED:20230914T145043Z
UID:781-1694696400-1694705400@blackduckchamber.com
SUMMARY:Senior Center Bingo
DESCRIPTION:Every Thursday \nEveryone Welcome
URL:https://blackduckchamber.com/event/senior-center-bingo/
CATEGORIES:Blackduck Senior Center
ATTACH;FMTTYPE=image/jpeg:https://blackduckchamber.com/wp-content/uploads/2023/09/images.jpg
END:VEVENT
BEGIN:VEVENT
DTSTART;TZID=America/Chicago:20230907T130000
DTEND;TZID=America/Chicago:20230907T153000
DTSTAMP:20260420T183745
CREATED:20230904T174252Z
LAST-MODIFIED:20230905T180340Z
UID:768-1694091600-1694100600@blackduckchamber.com
SUMMARY:Blackduck Senior Center Bingo
DESCRIPTION:Every Thursday \nEveryone Welcome
URL:https://blackduckchamber.com/event/blackduck-senior-bingo/
LOCATION:Blackduck Senior Citizens Center\, 24 1st St SE\, Blackduck\, MN\, 56630\, United States
CATEGORIES:Blackduck Senior Center
ATTACH;FMTTYPE=image/jpeg:https://blackduckchamber.com/wp-content/uploads/2023/09/images.jpg
END:VEVENT
BEGIN:VEVENT
DTSTART;TZID=America/Chicago:20230825T180000
DTEND;TZID=America/Chicago:20230825T200000
DTSTAMP:20260420T183745
CREATED:20230511T220353Z
LAST-MODIFIED:20230511T220353Z
UID:725-1692986400-1692993600@blackduckchamber.com
SUMMARY:Grill N Chill
DESCRIPTION:Open to everyone. Great chance hangout\, socialize\, drink\, eat\, and golf.
URL:https://blackduckchamber.com/event/grill-n-chill-4/
CATEGORIES:Golf Course
ATTACH;FMTTYPE=image/jpeg:https://blackduckchamber.com/wp-content/uploads/2023/05/2023-grill-chill.jpg
END:VEVENT
BEGIN:VEVENT
DTSTART;TZID=America/Chicago:20230728T180000
DTEND;TZID=America/Chicago:20230728T200000
DTSTAMP:20260420T183745
CREATED:20230511T220215Z
LAST-MODIFIED:20230511T220229Z
UID:723-1690567200-1690574400@blackduckchamber.com
SUMMARY:Grill N Chill
DESCRIPTION:Open to everyone. Great chance hangout\, socialize\, drink\, eat\, and golf.
URL:https://blackduckchamber.com/event/grill-n-chill-3/
CATEGORIES:Golf Course
ATTACH;FMTTYPE=image/jpeg:https://blackduckchamber.com/wp-content/uploads/2023/05/2023-grill-chill.jpg
END:VEVENT
BEGIN:VEVENT
DTSTART;TZID=America/Chicago:20230701T100000
DTEND;TZID=America/Chicago:20230701T110000
DTSTAMP:20260420T183745
CREATED:20230601T192857Z
LAST-MODIFIED:20230601T192857Z
UID:746-1688205600-1688209200@blackduckchamber.com
SUMMARY:The Jolly Pops Kids Concert
DESCRIPTION:Come celebrate the summer reading program with this free concert for kids. The Jolly Pops are a group Minnesota Dads offering fun and educational programming for Pre-school and Elementary aged children. Their concerts include singing\, dancing\, games\, and puppets. \nFor more information visit >   https://krls.org/mc-events/blackduck-the-jolly-pops-concert/?mc_id=207
URL:https://blackduckchamber.com/event/the-jolly-pops-kids-concert/
ATTACH;FMTTYPE=image/jpeg:https://blackduckchamber.com/wp-content/uploads/2023/06/Jolly-Pops-FB-1-1024x577-1.jpg
END:VEVENT
BEGIN:VEVENT
DTSTART;TZID=America/Chicago:20230630T180000
DTEND;TZID=America/Chicago:20230630T200000
DTSTAMP:20260420T183745
CREATED:20230511T220135Z
LAST-MODIFIED:20230511T220135Z
UID:721-1688148000-1688155200@blackduckchamber.com
SUMMARY:Grill N Chill
DESCRIPTION:Open to everyone. Great chance hangout\, socialize\, drink\, eat\, and golf.
URL:https://blackduckchamber.com/event/grill-n-chill-2/
CATEGORIES:Golf Course
ATTACH;FMTTYPE=image/jpeg:https://blackduckchamber.com/wp-content/uploads/2023/05/2023-grill-chill.jpg
END:VEVENT
BEGIN:VEVENT
DTSTART;TZID=America/Chicago:20230629T180000
DTEND;TZID=America/Chicago:20230629T200000
DTSTAMP:20260420T183745
CREATED:20230530T194130Z
LAST-MODIFIED:20230530T194130Z
UID:744-1688061600-1688068800@blackduckchamber.com
SUMMARY:Thursday Night Golf Scramble
DESCRIPTION:
URL:https://blackduckchamber.com/event/thursday-night-golf-scramble-5/
CATEGORIES:Golf Course
ATTACH;FMTTYPE=image/png:https://blackduckchamber.com/wp-content/uploads/2023/05/Copy-of-Ladies.png
END:VEVENT
BEGIN:VEVENT
DTSTART;TZID=America/Chicago:20230627T163000
DTEND;TZID=America/Chicago:20230627T203000
DTSTAMP:20260420T183745
CREATED:20230528T212844Z
LAST-MODIFIED:20230528T212844Z
UID:728-1687883400-1687897800@blackduckchamber.com
SUMMARY:Ladies Golf Scramble
DESCRIPTION:Open to all skill levels\, great way to golf\, and socialize.
URL:https://blackduckchamber.com/event/ladies-golf-scramble/
CATEGORIES:Golf Course
ATTACH;FMTTYPE=image/png:https://blackduckchamber.com/wp-content/uploads/2023/05/Ladies.png
END:VEVENT
BEGIN:VEVENT
DTSTART;TZID=America/Chicago:20230626T080000
DTEND;TZID=America/Chicago:20230626T170000
DTSTAMP:20260420T183745
CREATED:20230426T202818Z
LAST-MODIFIED:20230426T202818Z
UID:704-1687766400-1687798800@blackduckchamber.com
SUMMARY:Junior Golf Lessons
DESCRIPTION:
URL:https://blackduckchamber.com/event/junior-golf-lessons-4/
CATEGORIES:Golf Course
ATTACH;FMTTYPE=image/png:https://blackduckchamber.com/wp-content/uploads/2023/04/Green-Blue-Junior-Golf-Club-Poster.png
END:VEVENT
BEGIN:VEVENT
DTSTART;TZID=America/Chicago:20230622T180000
DTEND;TZID=America/Chicago:20230622T200000
DTSTAMP:20260420T183745
CREATED:20230530T194048Z
LAST-MODIFIED:20230530T194048Z
UID:742-1687456800-1687464000@blackduckchamber.com
SUMMARY:Thursday Night Golf Scramble
DESCRIPTION:
URL:https://blackduckchamber.com/event/thursday-night-golf-scramble-4/
CATEGORIES:Golf Course
ATTACH;FMTTYPE=image/png:https://blackduckchamber.com/wp-content/uploads/2023/05/Copy-of-Ladies.png
END:VEVENT
BEGIN:VEVENT
DTSTART;TZID=America/Chicago:20230619T083000
DTEND;TZID=America/Chicago:20230619T113000
DTSTAMP:20260420T183745
CREATED:20230426T202749Z
LAST-MODIFIED:20230426T202749Z
UID:702-1687163400-1687174200@blackduckchamber.com
SUMMARY:Junior Golf Lessons
DESCRIPTION:
URL:https://blackduckchamber.com/event/junior-golf-lessons-3/
CATEGORIES:Golf Course
ATTACH;FMTTYPE=image/png:https://blackduckchamber.com/wp-content/uploads/2023/04/Green-Blue-Junior-Golf-Club-Poster.png
END:VEVENT
BEGIN:VEVENT
DTSTART;TZID=America/Chicago:20230617T120000
DTEND;TZID=America/Chicago:20230617T160000
DTSTAMP:20260420T183745
CREATED:20230528T214918Z
LAST-MODIFIED:20230528T214918Z
UID:731-1687003200-1687017600@blackduckchamber.com
SUMMARY:21st Annual Debbie Memorial Golf Tournaent
DESCRIPTION:
URL:https://blackduckchamber.com/event/21st-annual-debbie-memorial-golf-tournaent/
ATTACH;FMTTYPE=image/jpeg:https://blackduckchamber.com/wp-content/uploads/2023/05/IMG_8966.jpeg
END:VEVENT
END:VCALENDAR