BEGIN:VCALENDAR
VERSION:2.0
PRODID:-//Blackduck Chamber of Commerce - ECPv6.15.18//NONSGML v1.0//EN
CALSCALE:GREGORIAN
METHOD:PUBLISH
X-WR-CALNAME:Blackduck Chamber of Commerce
X-ORIGINAL-URL:https://blackduckchamber.com
X-WR-CALDESC:Events for Blackduck Chamber of Commerce
REFRESH-INTERVAL;VALUE=DURATION:PT1H
X-Robots-Tag:noindex
X-PUBLISHED-TTL:PT1H
BEGIN:VTIMEZONE
TZID:America/Chicago
BEGIN:DAYLIGHT
TZOFFSETFROM:-0600
TZOFFSETTO:-0500
TZNAME:CDT
DTSTART:20230312T080000
END:DAYLIGHT
BEGIN:STANDARD
TZOFFSETFROM:-0500
TZOFFSETTO:-0600
TZNAME:CST
DTSTART:20231105T070000
END:STANDARD
BEGIN:DAYLIGHT
TZOFFSETFROM:-0600
TZOFFSETTO:-0500
TZNAME:CDT
DTSTART:20240310T080000
END:DAYLIGHT
BEGIN:STANDARD
TZOFFSETFROM:-0500
TZOFFSETTO:-0600
TZNAME:CST
DTSTART:20241103T070000
END:STANDARD
BEGIN:DAYLIGHT
TZOFFSETFROM:-0600
TZOFFSETTO:-0500
TZNAME:CDT
DTSTART:20250309T080000
END:DAYLIGHT
BEGIN:STANDARD
TZOFFSETFROM:-0500
TZOFFSETTO:-0600
TZNAME:CST
DTSTART:20251102T070000
END:STANDARD
END:VTIMEZONE
BEGIN:VEVENT
DTSTART;TZID=America/Chicago:20241219T130000
DTEND;TZID=America/Chicago:20241219T150000
DTSTAMP:20260420T165051
CREATED:20241219T161032Z
LAST-MODIFIED:20241219T161032Z
UID:1170-1734613200-1734620400@blackduckchamber.com
SUMMARY:Senior Center Bingo
DESCRIPTION:
URL:https://blackduckchamber.com/event/senior-center-bingo-37/
CATEGORIES:Blackduck Senior Center
ATTACH;FMTTYPE=image/jpeg:https://blackduckchamber.com/wp-content/uploads/2023/09/images.jpg
END:VEVENT
BEGIN:VEVENT
DTSTART;TZID=America/Chicago:20241206T090000
DTEND;TZID=America/Chicago:20241206T130000
DTSTAMP:20260420T165051
CREATED:20241203T000551Z
LAST-MODIFIED:20241203T000551Z
UID:1151-1733475600-1733490000@blackduckchamber.com
SUMMARY:Omelet Brunch\, Bake & Craft Sale
DESCRIPTION:Everyone Welcome \nA Quilt Raffle will be held at Noon \n  \nBlackduck Area Senior Center\n24 First Street SE
URL:https://blackduckchamber.com/event/omelet-brunch-bake-craft-sale-2/
CATEGORIES:Blackduck Senior Center
ATTACH;FMTTYPE=image/jpeg:https://blackduckchamber.com/wp-content/uploads/2022/11/68E38E20-3829-45BE-AFFB-659B6BD72F3D.jpeg
END:VEVENT
BEGIN:VEVENT
DTSTART;TZID=America/Chicago:20241109T090000
DTEND;TZID=America/Chicago:20241109T150000
DTSTAMP:20260420T165051
CREATED:20241108T210033Z
LAST-MODIFIED:20241108T210033Z
UID:1131-1731142800-1731164400@blackduckchamber.com
SUMMARY:Holiday Craft and White Elephant Sale
DESCRIPTION:Where: 1 Street Blackduck
URL:https://blackduckchamber.com/event/holiday-craft-and-white-elephant-sale/
ATTACH;FMTTYPE=image/webp:https://blackduckchamber.com/wp-content/uploads/2023/11/gf00914a01c_5.webp
END:VEVENT
BEGIN:VEVENT
DTSTART;VALUE=DATE:20241109
DTEND;VALUE=DATE:20241110
DTSTAMP:20260420T165051
CREATED:20241003T000032Z
LAST-MODIFIED:20241003T000032Z
UID:1116-1731110400-1731196799@blackduckchamber.com
SUMMARY:Holiday Kick-off and Shop Local Ladies Day
DESCRIPTION:Start off the holidays right by shopping at our local buisnesses. \nMore details to come
URL:https://blackduckchamber.com/event/holiday-kick-off-and-shop-local-ladies-day/
END:VEVENT
BEGIN:VEVENT
DTSTART;TZID=America/Chicago:20241102T090000
DTEND;TZID=America/Chicago:20241102T150000
DTSTAMP:20260420T165051
CREATED:20241102T212456Z
LAST-MODIFIED:20241102T212456Z
UID:1126-1730538000-1730559600@blackduckchamber.com
SUMMARY:Turtle River\, Craft Fair\, Bake Sale\, and Raffle
DESCRIPTION:Where: New Salem Lutheran Church
URL:https://blackduckchamber.com/event/turtle-river-craft-fair-bake-sale-and-raffle/
ATTACH;FMTTYPE=application/pdf:https://blackduckchamber.com/wp-content/uploads/2024/11/flier.pdf
END:VEVENT
BEGIN:VEVENT
DTSTART;TZID=America/Chicago:20241031T130000
DTEND;TZID=America/Chicago:20241031T150000
DTSTAMP:20260420T165051
CREATED:20241002T220354Z
LAST-MODIFIED:20241002T220354Z
UID:1100-1730379600-1730386800@blackduckchamber.com
SUMMARY:Senior Center Bingo
DESCRIPTION:Every Thursday \nEveryone welcome
URL:https://blackduckchamber.com/event/senior-center-bingo-36/
CATEGORIES:Blackduck Senior Center
ATTACH;FMTTYPE=image/jpeg:https://blackduckchamber.com/wp-content/uploads/2023/09/images.jpg
END:VEVENT
BEGIN:VEVENT
DTSTART;TZID=America/Chicago:20241030T130000
DTEND;TZID=America/Chicago:20241030T160000
DTSTAMP:20260420T165051
CREATED:20241002T220825Z
LAST-MODIFIED:20241002T220825Z
UID:1109-1730293200-1730304000@blackduckchamber.com
SUMMARY:Senior Center Cards
DESCRIPTION:Every Wednesday \nEveryone welcome
URL:https://blackduckchamber.com/event/senior-center-cards-40/
CATEGORIES:Blackduck Senior Center
ATTACH;FMTTYPE=image/jpeg:https://blackduckchamber.com/wp-content/uploads/2023/09/download-1.jpg
END:VEVENT
BEGIN:VEVENT
DTSTART;TZID=America/Chicago:20241028T180000
DTEND;TZID=America/Chicago:20241028T190000
DTSTAMP:20260420T165051
CREATED:20241002T234637Z
LAST-MODIFIED:20241002T234637Z
UID:1114-1730138400-1730142000@blackduckchamber.com
SUMMARY:Fall Chamber Dinner
DESCRIPTION:Time/Location tbd
URL:https://blackduckchamber.com/event/fall-chamber-dinner/
END:VEVENT
BEGIN:VEVENT
DTSTART;TZID=America/Chicago:20241024T130000
DTEND;TZID=America/Chicago:20241024T150000
DTSTAMP:20260420T165051
CREATED:20241002T215933Z
LAST-MODIFIED:20241002T220119Z
UID:1094-1729774800-1729782000@blackduckchamber.com
SUMMARY:Senior Center Bingo
DESCRIPTION:Every Thursday \nEveryone Welcome
URL:https://blackduckchamber.com/event/senior-center-bingo-35/
CATEGORIES:Blackduck Senior Center
ATTACH;FMTTYPE=image/jpeg:https://blackduckchamber.com/wp-content/uploads/2023/09/images.jpg
END:VEVENT
BEGIN:VEVENT
DTSTART;TZID=America/Chicago:20241023T130000
DTEND;TZID=America/Chicago:20241023T160000
DTSTAMP:20260420T165051
CREATED:20241002T220748Z
LAST-MODIFIED:20241002T220748Z
UID:1107-1729688400-1729699200@blackduckchamber.com
SUMMARY:Senior Center Cards
DESCRIPTION:Every Wednesday \nEveryone welcome
URL:https://blackduckchamber.com/event/senior-center-cards-39/
CATEGORIES:Blackduck Senior Center
ATTACH;FMTTYPE=image/jpeg:https://blackduckchamber.com/wp-content/uploads/2023/09/download-1.jpg
END:VEVENT
BEGIN:VEVENT
DTSTART;TZID=America/Chicago:20241020T103000
DTEND;TZID=America/Chicago:20241020T130000
DTSTAMP:20260420T165051
CREATED:20241016T174850Z
LAST-MODIFIED:20241016T174850Z
UID:1119-1729420200-1729429200@blackduckchamber.com
SUMMARY:Blackduck Fire Department Pancake Breakfast
DESCRIPTION:Free-will donation \nPancakes\,Sausage\, Potatoes\, Coffee\, and Orange Juice. \n@ Blackduck Fire House
URL:https://blackduckchamber.com/event/blackduck-fire-department-pancake-breakfast/
ATTACH;FMTTYPE=image/jpeg:https://blackduckchamber.com/wp-content/uploads/2024/10/Screenshot-2024-10-16-at-12.41.45 PM.jpeg
END:VEVENT
BEGIN:VEVENT
DTSTART;TZID=America/Chicago:20241017T080000
DTEND;TZID=America/Chicago:20241017T170000
DTSTAMP:20260420T165051
CREATED:20241002T215844Z
LAST-MODIFIED:20241002T220200Z
UID:1092-1729152000-1729184400@blackduckchamber.com
SUMMARY:Senior Center Bingo
DESCRIPTION:Every Thursday \nEveryone welcome
URL:https://blackduckchamber.com/event/senior-center-bingo-34/
CATEGORIES:Blackduck Senior Center
ATTACH;FMTTYPE=image/jpeg:https://blackduckchamber.com/wp-content/uploads/2023/09/images.jpg
END:VEVENT
BEGIN:VEVENT
DTSTART;TZID=America/Chicago:20241016T130000
DTEND;TZID=America/Chicago:20241016T160000
DTSTAMP:20260420T165051
CREATED:20241002T220711Z
LAST-MODIFIED:20241002T220711Z
UID:1105-1729083600-1729094400@blackduckchamber.com
SUMMARY:Senior Center Cards
DESCRIPTION:Every Wednesday \nEveryone welcome
URL:https://blackduckchamber.com/event/senior-center-cards-38/
CATEGORIES:Blackduck Senior Center
ATTACH;FMTTYPE=image/jpeg:https://blackduckchamber.com/wp-content/uploads/2023/09/download-1.jpg
END:VEVENT
BEGIN:VEVENT
DTSTART;TZID=America/Chicago:20241015T170000
DTEND;TZID=America/Chicago:20241015T190000
DTSTAMP:20260420T165051
CREATED:20240830T201950Z
LAST-MODIFIED:20240830T201950Z
UID:1054-1729011600-1729018800@blackduckchamber.com
SUMMARY:Boys and Girls Club Open House
DESCRIPTION:Food and prizes! \nMini-tours!\nMeet the staff!\nFun and friendship!
URL:https://blackduckchamber.com/event/boys-and-girls-club-open-house/
CATEGORIES:Blackduck School
ATTACH;FMTTYPE=application/pdf:https://blackduckchamber.com/wp-content/uploads/2024/08/Blackduck_Open-House.pdf
END:VEVENT
BEGIN:VEVENT
DTSTART;TZID=America/Chicago:20241014T100000
DTEND;TZID=America/Chicago:20241014T160000
DTSTAMP:20260420T165051
CREATED:20241002T221526Z
LAST-MODIFIED:20241002T221526Z
UID:1111-1728900000-1728921600@blackduckchamber.com
SUMMARY:Coats For The Community
DESCRIPTION:In the High School Commons during school conferences.
URL:https://blackduckchamber.com/event/coats-for-the-community-2/
CATEGORIES:Blackduck School
ATTACH;FMTTYPE=image/png:https://blackduckchamber.com/wp-content/uploads/2024/10/Blackduck-Coats-flyer.png
END:VEVENT
BEGIN:VEVENT
DTSTART;TZID=America/Chicago:20241010T130000
DTEND;TZID=America/Chicago:20241010T150000
DTSTAMP:20260420T165051
CREATED:20241002T215804Z
LAST-MODIFIED:20241002T220224Z
UID:1090-1728565200-1728572400@blackduckchamber.com
SUMMARY:Senior Center Bingo
DESCRIPTION:Every Thursday \nEveryone welcome
URL:https://blackduckchamber.com/event/senior-center-bingo-33/
CATEGORIES:Blackduck Senior Center
ATTACH;FMTTYPE=image/jpeg:https://blackduckchamber.com/wp-content/uploads/2023/09/images.jpg
END:VEVENT
BEGIN:VEVENT
DTSTART;TZID=America/Chicago:20241009T130000
DTEND;TZID=America/Chicago:20241009T160000
DTSTAMP:20260420T165051
CREATED:20241002T220624Z
LAST-MODIFIED:20241002T220624Z
UID:1103-1728478800-1728489600@blackduckchamber.com
SUMMARY:Senior Center Cards
DESCRIPTION:Every Wednesday \nEveryone Welcome
URL:https://blackduckchamber.com/event/senior-center-cards-37/
CATEGORIES:Blackduck Senior Center
ATTACH;FMTTYPE=image/jpeg:https://blackduckchamber.com/wp-content/uploads/2023/09/download-1.jpg
END:VEVENT
BEGIN:VEVENT
DTSTART;TZID=America/Chicago:20241007T090000
DTEND;TZID=America/Chicago:20241007T110000
DTSTAMP:20260420T165051
CREATED:20241002T214714Z
LAST-MODIFIED:20241002T214714Z
UID:1086-1728291600-1728298800@blackduckchamber.com
SUMMARY:Coffee and Treats
DESCRIPTION:All ages welcome \nCome hangout\, chat\, and snack \nEvery Monday\, Wednesday\, and Friday
URL:https://blackduckchamber.com/event/coffee-and-treats/
CATEGORIES:Blackduck Senior Center
END:VEVENT
BEGIN:VEVENT
DTSTART;TZID=America/Chicago:20241003T130000
DTEND;TZID=America/Chicago:20241003T150000
DTSTAMP:20260420T165051
CREATED:20241002T215655Z
LAST-MODIFIED:20241002T215655Z
UID:1088-1727960400-1727967600@blackduckchamber.com
SUMMARY:Senior Center Bingo
DESCRIPTION:Every Thursday \nEveryone welcome
URL:https://blackduckchamber.com/event/senior-center-bingo-32/
CATEGORIES:Blackduck Senior Center
ATTACH;FMTTYPE=image/jpeg:https://blackduckchamber.com/wp-content/uploads/2023/09/images.jpg
END:VEVENT
BEGIN:VEVENT
DTSTART;TZID=America/Chicago:20240926T130000
DTEND;TZID=America/Chicago:20240926T140000
DTSTAMP:20260420T165051
CREATED:20240830T232820Z
LAST-MODIFIED:20240830T232910Z
UID:1064-1727355600-1727359200@blackduckchamber.com
SUMMARY:Senior Center Bingo
DESCRIPTION:Every Thursday \nEveryone welcome
URL:https://blackduckchamber.com/event/senior-center-bingo-31/
CATEGORIES:Blackduck Senior Center
ATTACH;FMTTYPE=image/jpeg:https://blackduckchamber.com/wp-content/uploads/2023/09/images.jpg
END:VEVENT
BEGIN:VEVENT
DTSTART;TZID=America/Chicago:20240925T130000
DTEND;TZID=America/Chicago:20240925T140000
DTSTAMP:20260420T165051
CREATED:20240830T233837Z
LAST-MODIFIED:20240830T233837Z
UID:1075-1727269200-1727272800@blackduckchamber.com
SUMMARY:Senior Center Cards
DESCRIPTION:Every Wednesday \nEveryone welcome
URL:https://blackduckchamber.com/event/senior-center-cards-36/
CATEGORIES:Blackduck Senior Center
ATTACH;FMTTYPE=image/jpeg:https://blackduckchamber.com/wp-content/uploads/2023/09/download-1.jpg
END:VEVENT
BEGIN:VEVENT
DTSTART;TZID=America/Chicago:20240919T130000
DTEND;TZID=America/Chicago:20240919T140000
DTSTAMP:20260420T165051
CREATED:20240830T231826Z
LAST-MODIFIED:20240830T231826Z
UID:1062-1726750800-1726754400@blackduckchamber.com
SUMMARY:Senior Center Bingo
DESCRIPTION:Every Thursday \nEveryone welcome
URL:https://blackduckchamber.com/event/senior-center-bingo-30/
CATEGORIES:Blackduck Senior Center
ATTACH;FMTTYPE=image/jpeg:https://blackduckchamber.com/wp-content/uploads/2023/09/images.jpg
END:VEVENT
BEGIN:VEVENT
DTSTART;TZID=America/Chicago:20240918T130000
DTEND;TZID=America/Chicago:20240918T140000
DTSTAMP:20260420T165052
CREATED:20240830T233506Z
LAST-MODIFIED:20240830T233902Z
UID:1073-1726664400-1726668000@blackduckchamber.com
SUMMARY:Senior Center Cards
DESCRIPTION:Every Wednesday \nEveryone welcome
URL:https://blackduckchamber.com/event/senior-center-cards-35/
ATTACH;FMTTYPE=image/jpeg:https://blackduckchamber.com/wp-content/uploads/2023/09/download-1.jpg
END:VEVENT
BEGIN:VEVENT
DTSTART;TZID=America/Chicago:20240918T130000
DTEND;TZID=America/Chicago:20240918T140000
DTSTAMP:20260420T165052
CREATED:20240830T233412Z
LAST-MODIFIED:20240830T233928Z
UID:1070-1726664400-1726668000@blackduckchamber.com
SUMMARY:Senior Center Cards
DESCRIPTION:Every Wednesday \nEveryone welcome
URL:https://blackduckchamber.com/event/senior-center-cards-34/
CATEGORIES:Blackduck Senior Center
ATTACH;FMTTYPE=image/jpeg:https://blackduckchamber.com/wp-content/uploads/2023/09/download-1.jpg
END:VEVENT
BEGIN:VEVENT
DTSTART;TZID=America/Chicago:20240912T080000
DTEND;TZID=America/Chicago:20240912T170000
DTSTAMP:20260420T165052
CREATED:20240830T231711Z
LAST-MODIFIED:20240830T231711Z
UID:1060-1726128000-1726160400@blackduckchamber.com
SUMMARY:Senior Center Bingo
DESCRIPTION:Every Thursday \nEveryone welcome
URL:https://blackduckchamber.com/event/senior-center-bingo-29/
CATEGORIES:Blackduck Senior Center
ATTACH;FMTTYPE=image/jpeg:https://blackduckchamber.com/wp-content/uploads/2023/09/images.jpg
END:VEVENT
BEGIN:VEVENT
DTSTART;TZID=America/Chicago:20240911T130000
DTEND;TZID=America/Chicago:20240911T140000
DTSTAMP:20260420T165052
CREATED:20240830T233306Z
LAST-MODIFIED:20240830T233306Z
UID:1068-1726059600-1726063200@blackduckchamber.com
SUMMARY:Senior Center Cards
DESCRIPTION:Every Thursday \nEveryone welcome
URL:https://blackduckchamber.com/event/senior-center-cards-33/
CATEGORIES:Blackduck Senior Center
ATTACH;FMTTYPE=image/jpeg:https://blackduckchamber.com/wp-content/uploads/2023/09/download-1.jpg
END:VEVENT
BEGIN:VEVENT
DTSTART;TZID=America/Chicago:20240909T080000
DTEND;TZID=America/Chicago:20240909T170000
DTSTAMP:20260420T165052
CREATED:20240902T215315Z
LAST-MODIFIED:20240902T215315Z
UID:1079-1725868800-1725901200@blackduckchamber.com
SUMMARY:Coffee & Treats
DESCRIPTION:All ages welcome \nCome hangout\, chat\, and snack \nEvery Monday\, Wednesday\, and Friday
URL:https://blackduckchamber.com/event/coffee-treats/
CATEGORIES:Blackduck Senior Center
END:VEVENT
BEGIN:VEVENT
DTSTART;TZID=America/Chicago:20240905T130000
DTEND;TZID=America/Chicago:20240905T140000
DTSTAMP:20260420T165052
CREATED:20240830T231431Z
LAST-MODIFIED:20240830T231431Z
UID:1058-1725541200-1725544800@blackduckchamber.com
SUMMARY:Senior Center Bingo
DESCRIPTION:Every Thursday \neveryone welcome
URL:https://blackduckchamber.com/event/senior-center-bingo-28/
CATEGORIES:Blackduck Senior Center
ATTACH;FMTTYPE=image/jpeg:https://blackduckchamber.com/wp-content/uploads/2023/09/images.jpg
END:VEVENT
BEGIN:VEVENT
DTSTART;TZID=America/Chicago:20240904T130000
DTEND;TZID=America/Chicago:20240904T140000
DTSTAMP:20260420T165052
CREATED:20240830T233058Z
LAST-MODIFIED:20240830T233058Z
UID:1066-1725454800-1725458400@blackduckchamber.com
SUMMARY:Senior Center Cards
DESCRIPTION:Every Wednesday \nEveryone welcome
URL:https://blackduckchamber.com/event/senior-center-cards-32/
CATEGORIES:Blackduck Senior Center
ATTACH;FMTTYPE=image/jpeg:https://blackduckchamber.com/wp-content/uploads/2023/09/download-1.jpg
END:VEVENT
BEGIN:VEVENT
DTSTART;TZID=America/Chicago:20240720T090000
DTEND;TZID=America/Chicago:20240720T150000
DTSTAMP:20260420T165052
CREATED:20240716T022509Z
LAST-MODIFIED:20240716T022509Z
UID:1037-1721466000-1721487600@blackduckchamber.com
SUMMARY:Crazy Days
DESCRIPTION:Crazy savings at local businesses and vendors all around Blackduck!
URL:https://blackduckchamber.com/event/crazy-days-2/
ATTACH;FMTTYPE=image/png:https://blackduckchamber.com/wp-content/uploads/2024/07/INGOUDE.png
END:VEVENT
END:VCALENDAR