BEGIN:VCALENDAR
VERSION:2.0
PRODID:-//Blackduck Chamber of Commerce - ECPv6.15.18//NONSGML v1.0//EN
CALSCALE:GREGORIAN
METHOD:PUBLISH
X-ORIGINAL-URL:https://blackduckchamber.com
X-WR-CALDESC:Events for Blackduck Chamber of Commerce
REFRESH-INTERVAL;VALUE=DURATION:PT1H
X-Robots-Tag:noindex
X-PUBLISHED-TTL:PT1H
BEGIN:VTIMEZONE
TZID:America/Chicago
BEGIN:DAYLIGHT
TZOFFSETFROM:-0600
TZOFFSETTO:-0500
TZNAME:CDT
DTSTART:20250309T080000
END:DAYLIGHT
BEGIN:STANDARD
TZOFFSETFROM:-0500
TZOFFSETTO:-0600
TZNAME:CST
DTSTART:20251102T070000
END:STANDARD
BEGIN:DAYLIGHT
TZOFFSETFROM:-0600
TZOFFSETTO:-0500
TZNAME:CDT
DTSTART:20260308T080000
END:DAYLIGHT
BEGIN:STANDARD
TZOFFSETFROM:-0500
TZOFFSETTO:-0600
TZNAME:CST
DTSTART:20261101T070000
END:STANDARD
BEGIN:DAYLIGHT
TZOFFSETFROM:-0600
TZOFFSETTO:-0500
TZNAME:CDT
DTSTART:20270314T080000
END:DAYLIGHT
BEGIN:STANDARD
TZOFFSETFROM:-0500
TZOFFSETTO:-0600
TZNAME:CST
DTSTART:20271107T070000
END:STANDARD
END:VTIMEZONE
BEGIN:VEVENT
DTSTART;TZID=America/Chicago:20260513T130000
DTEND;TZID=America/Chicago:20260513T160000
DTSTAMP:20260419T103321
CREATED:20260408T165208Z
LAST-MODIFIED:20260408T165208Z
UID:1690-1778677200-1778688000@blackduckchamber.com
SUMMARY:Cards at the Senior Center
DESCRIPTION:Every Wednesday! Everyone Welcome!
URL:https://blackduckchamber.com/event/cards-at-the-senior-center-8/
LOCATION:Blackduck Senior Citizens Center\, 24 1st St SE\, Blackduck\, MN\, 56630\, United States
CATEGORIES:Blackduck Senior Center
END:VEVENT
END:VCALENDAR