BEGIN:VCALENDAR
VERSION:2.0
PRODID:-//Blackduck Chamber of Commerce - ECPv6.15.18//NONSGML v1.0//EN
CALSCALE:GREGORIAN
METHOD:PUBLISH
X-WR-CALNAME:Blackduck Chamber of Commerce
X-ORIGINAL-URL:https://blackduckchamber.com
X-WR-CALDESC:Events for Blackduck Chamber of Commerce
REFRESH-INTERVAL;VALUE=DURATION:PT1H
X-Robots-Tag:noindex
X-PUBLISHED-TTL:PT1H
BEGIN:VTIMEZONE
TZID:America/Chicago
BEGIN:DAYLIGHT
TZOFFSETFROM:-0600
TZOFFSETTO:-0500
TZNAME:CDT
DTSTART:20250309T080000
END:DAYLIGHT
BEGIN:STANDARD
TZOFFSETFROM:-0500
TZOFFSETTO:-0600
TZNAME:CST
DTSTART:20251102T070000
END:STANDARD
BEGIN:DAYLIGHT
TZOFFSETFROM:-0600
TZOFFSETTO:-0500
TZNAME:CDT
DTSTART:20260308T080000
END:DAYLIGHT
BEGIN:STANDARD
TZOFFSETFROM:-0500
TZOFFSETTO:-0600
TZNAME:CST
DTSTART:20261101T070000
END:STANDARD
BEGIN:DAYLIGHT
TZOFFSETFROM:-0600
TZOFFSETTO:-0500
TZNAME:CDT
DTSTART:20270314T080000
END:DAYLIGHT
BEGIN:STANDARD
TZOFFSETFROM:-0500
TZOFFSETTO:-0600
TZNAME:CST
DTSTART:20271107T070000
END:STANDARD
END:VTIMEZONE
BEGIN:VEVENT
DTSTART;TZID=America/Chicago:20260218T130000
DTEND;TZID=America/Chicago:20260218T150000
DTSTAMP:20260419T215239
CREATED:20260121T154446Z
LAST-MODIFIED:20260121T155723Z
UID:1521-1771419600-1771426800@blackduckchamber.com
SUMMARY:Senior Center Cards
DESCRIPTION:Every Wednesday! \nEveryone Welcome!
URL:https://blackduckchamber.com/event/senior-center-cards-84/
LOCATION:MN
END:VEVENT
BEGIN:VEVENT
DTSTART;TZID=America/Chicago:20260218T150000
DTEND;TZID=America/Chicago:20260218T163000
DTSTAMP:20260419T215239
CREATED:20260121T180103Z
LAST-MODIFIED:20260121T181236Z
UID:1558-1771426800-1771432200@blackduckchamber.com
SUMMARY:Chamber Meeting
DESCRIPTION:Chamber Meeting at The Pond
URL:https://blackduckchamber.com/event/chamber-meeting-2/
LOCATION:The Pond\, 224 Frontage Rd\, Blackduck\, MN\, 56630\, United States
CATEGORIES:The Pond
END:VEVENT
END:VCALENDAR